{"text_format":"3","workbook":"xlsx","n_sheets":10,"sheets":["L36Modified012","L36Modified","Minitab","IF","L36","L27Modified012","L27Modified","L27","oa_with_exp","Sheet1"],"read":"whole","date_system":"1900"}

{"sheet":"L36Modified012","index":0,"n_rows":37,"n_cols":23,"rows_kept":37}
["X12","X1","X2","X3","X13","X14","X15","X16","X4","X5","X6","X7","X8","X9","X10","X11","X17","X18","X19","X20","X21","X22","X23"]
[0,0,0,0,0,0,0,0,0,0,0,0,0,0,0,0,0,0,0,0,0,0,0]
[1,0,0,0,1,1,1,1,0,0,0,0,0,0,0,0,1,1,1,1,1,1,1]
[2,0,0,0,2,2,2,2,0,0,0,0,0,0,0,0,2,2,2,2,2,2,2]
[0,0,0,0,0,0,0,1,0,0,1,1,1,1,1,1,1,1,1,2,2,2,2]
[1,0,0,0,1,1,1,2,0,0,1,1,1,1,1,1,2,2,2,0,0,0,0]
[2,0,0,0,2,2,2,0,0,0,1,1,1,1,1,1,0,0,0,1,1,1,1]
[0,0,0,1,0,1,2,0,1,1,0,0,0,1,1,1,1,2,2,0,1,1,2]
[1,0,0,1,1,2,0,1,1,1,0,0,0,1,1,1,2,0,0,1,2,2,0]
[2,0,0,1,2,0,1,2,1,1,0,0,0,1,1,1,0,1,1,2,0,0,1]
[0,0,1,0,0,2,1,0,1,1,0,1,1,0,0,1,2,1,2,1,0,2,1]
[1,0,1,0,1,0,2,1,1,1,0,1,1,0,0,1,0,2,0,2,1,0,2]
[2,0,1,0,2,1,0,2,1,1,0,1,1,0,0,1,1,0,1,0,2,1,0]
[0,0,1,1,1,2,0,2,0,1,1,0,1,0,1,0,1,0,2,2,1,0,1]
[1,0,1,1,2,0,1,0,0,1,1,0,1,0,1,0,2,1,0,0,2,1,2]
[2,0,1,1,0,1,2,1,0,1,1,0,1,0,1,0,0,2,1,1,0,2,0]
[0,0,1,1,1,2,1,0,1,0,1,1,0,1,0,0,0,2,1,2,2,1,0]
[1,0,1,1,2,0,2,1,1,0,1,1,0,1,0,0,1,0,2,0,0,2,1]
[2,0,1,1,0,1,0,2,1,0,1,1,0,1,0,0,2,1,0,1,1,0,2]
[0,1,0,1,1,0,2,2,1,0,0,1,1,0,1,0,2,0,1,1,0,1,2]
[1,1,0,1,2,1,0,0,1,0,0,1,1,0,1,0,0,1,2,2,1,2,0]
[2,1,0,1,0,2,1,1,1,0,0,1,1,0,1,0,1,2,0,0,2,0,1]
[0,1,0,1,1,1,2,2,0,1,1,1,0,0,0,1,0,1,0,0,2,2,1]
[1,1,0,1,2,2,0,0,0,1,1,1,0,0,0,1,1,2,1,1,0,0,2]
[2,1,0,1,0,0,1,1,0,1,1,1,0,0,0,1,2,0,2,2,1,1,0]
[0,1,0,0,2,1,0,1,1,1,1,0,1,1,0,0,2,2,0,2,0,1,1]
[1,1,0,0,0,2,1,2,1,1,1,0,1,1,0,0,0,0,1,0,1,2,2]
[2,1,0,0,1,0,2,0,1,1,1,0,1,1,0,0,1,1,2,1,2,0,0]
[0,1,1,1,2,1,1,1,0,0,0,0,1,1,0,1,0,0,2,1,2,0,2]
[1,1,1,1,0,2,2,2,0,0,0,0,1,1,0,1,1,1,0,2,0,1,0]
[2,1,1,1,1,0,0,0,0,0,0,0,1,1,0,1,2,2,1,0,1,2,1]
[0,1,1,0,2,2,2,1,1,0,1,0,0,0,1,1,2,1,1,0,1,0,0]
[1,1,1,0,0,0,0,2,1,0,1,0,0,0,1,1,0,2,2,1,2,1,1]
[2,1,1,0,1,1,1,0,1,0,1,0,0,0,1,1,1,0,0,2,0,2,2]
[0,1,1,0,2,0,1,2,0,1,0,1,0,1,1,0,1,2,0,1,1,2,0]
[1,1,1,0,0,1,2,0,0,1,0,1,0,1,1,0,2,0,1,2,2,0,1]
[2,1,1,0,1,2,0,1,0,1,0,1,0,1,1,0,0,1,2,0,0,1,2]

{"sheet":"L36Modified","index":1,"n_rows":42,"n_cols":23,"rows_kept":42}
["X12","X1","X2","X3","X13","X14","X15","X16","X4","X5","X6","X7","X8","X9","X10","X11","X17","X18","X19","X20","X21","X22","X23"]
[1,1,1,1,1,1,1,1,1,1,1,1,1,1,1,1,1,1,1,1,1,1,1]
[2,1,1,1,2,2,2,2,1,1,1,1,1,1,1,1,2,2,2,2,2,2,2]
[3,1,1,1,3,3,3,3,1,1,1,1,1,1,1,1,3,3,3,3,3,3,3]
[1,1,1,1,1,1,1,2,1,1,2,2,2,2,2,2,2,2,2,3,3,3,3]
[2,1,1,1,2,2,2,3,1,1,2,2,2,2,2,2,3,3,3,1,1,1,1]
[3,1,1,1,3,3,3,1,1,1,2,2,2,2,2,2,1,1,1,2,2,2,2]
[1,1,1,2,1,2,3,1,2,2,1,1,1,2,2,2,2,3,3,1,2,2,3]
[2,1,1,2,2,3,1,2,2,2,1,1,1,2,2,2,3,1,1,2,3,3,1]
[3,1,1,2,3,1,2,3,2,2,1,1,1,2,2,2,1,2,2,3,1,1,2]
[1,1,2,1,1,3,2,1,2,2,1,2,2,1,1,2,3,2,3,2,1,3,2]
[2,1,2,1,2,1,3,2,2,2,1,2,2,1,1,2,1,3,1,3,2,1,3]
[3,1,2,1,3,2,1,3,2,2,1,2,2,1,1,2,2,1,2,1,3,2,1]
[1,1,2,2,2,3,1,3,1,2,2,1,2,1,2,1,2,1,3,3,2,1,2]
[2,1,2,2,3,1,2,1,1,2,2,1,2,1,2,1,3,2,1,1,3,2,3]
[3,1,2,2,1,2,3,2,1,2,2,1,2,1,2,1,1,3,2,2,1,3,1]
[1,1,2,2,2,3,2,1,2,1,2,2,1,2,1,1,1,3,2,3,3,2,1]
[2,1,2,2,3,1,3,2,2,1,2,2,1,2,1,1,2,1,3,1,1,3,2]
[3,1,2,2,1,2,1,3,2,1,2,2,1,2,1,1,3,2,1,2,2,1,3]
[1,2,1,2,2,1,3,3,2,1,1,2,2,1,2,1,3,1,2,2,1,2,3]
[2,2,1,2,3,2,1,1,2,1,1,2,2,1,2,1,1,2,3,3,2,3,1]
[3,2,1,2,1,3,2,2,2,1,1,2,2,1,2,1,2,3,1,1,3,1,2]
[1,2,1,2,2,2,3,3,1,2,2,2,1,1,1,2,1,2,1,1,3,3,2]
[2,2,1,2,3,3,1,1,1,2,2,2,1,1,1,2,2,3,2,2,1,1,3]
[3,2,1,2,1,1,2,2,1,2,2,2,1,1,1,2,3,1,3,3,2,2,1]
[1,2,1,1,3,2,1,2,2,2,2,1,2,2,1,1,3,3,1,3,1,2,2]
[2,2,1,1,1,3,2,3,2,2,2,1,2,2,1,1,1,1,2,1,2,3,3]
[3,2,1,1,2,1,3,1,2,2,2,1,2,2,1,1,2,2,3,2,3,1,1]
[1,2,2,2,3,2,2,2,1,1,1,1,2,2,1,2,1,1,3,2,3,1,3]
[2,2,2,2,1,3,3,3,1,1,1,1,2,2,1,2,2,2,1,3,1,2,1]
[3,2,2,2,2,1,1,1,1,1,1,1,2,2,1,2,3,3,2,1,2,3,2]
[1,2,2,1,3,3,3,2,2,1,2,1,1,1,2,2,3,2,2,1,2,1,1]
[2,2,2,1,1,1,1,3,2,1,2,1,1,1,2,2,1,3,3,2,3,2,2]
[3,2,2,1,2,2,2,1,2,1,2,1,1,1,2,2,2,1,1,3,1,3,3]
[1,2,2,1,3,1,2,3,1,2,1,2,1,2,2,1,2,3,1,2,2,3,1]
[2,2,2,1,1,2,3,1,1,2,1,2,1,2,2,1,3,1,2,3,3,1,2]
[3,2,2,1,2,3,1,2,1,2,1,2,1,2,2,1,1,2,3,1,1,2,3]
[]
["n_max_trial","prf_size","prf_conn","cap_limit_prob_type","cap_limit_level","diff_new_conn","remove_t","netw_prf_n"]
[15,true,true,"uniform",5,0.3,3,3]
[10,false,false,"normal",10,0.5,5,2]
[5,{"$nulls":3},15,0.7,7,1]

{"sheet":"Minitab","index":2,"n_rows":36,"n_cols":10,"rows_kept":36}
[1,1,1,1,1,1,1,1,1,1]
[1,1,1,2,2,2,2,2,2,2]
[1,1,1,3,3,3,3,3,3,3]
[1,1,1,1,1,1,1,2,2,2]
[1,1,1,2,2,2,2,3,3,3]
[1,1,1,3,3,3,3,1,1,1]
[1,1,2,1,1,2,3,1,2,3]
[1,1,2,2,2,3,1,2,3,1]
[1,1,2,3,3,1,2,3,1,2]
[1,2,1,1,1,3,2,1,3,2]
[1,2,1,2,2,1,3,2,1,3]
[1,2,1,3,3,2,1,3,2,1]
[1,2,2,1,2,3,1,3,2,1]
[1,2,2,2,3,1,2,1,3,2]
[1,2,2,3,1,2,3,2,1,3]
[1,2,2,1,2,3,2,1,1,3]
[1,2,2,2,3,1,3,2,2,1]
[1,2,2,3,1,2,1,3,3,2]
[2,1,2,1,2,1,3,3,3,1]
[2,1,2,2,3,2,1,1,1,2]
[2,1,2,3,1,3,2,2,2,3]
[2,1,2,1,2,2,3,3,1,2]
[2,1,2,2,3,3,1,1,2,3]
[2,1,2,3,1,1,2,2,3,1]
[2,1,1,1,3,2,1,2,3,3]
[2,1,1,2,1,3,2,3,1,1]
[2,1,1,3,2,1,3,1,2,2]
[2,2,2,1,3,2,2,2,1,1]
[2,2,2,2,1,3,3,3,2,2]
[2,2,2,3,2,1,1,1,3,3]
[2,2,1,1,3,3,3,2,3,2]
[2,2,1,2,1,1,1,3,1,3]
[2,2,1,3,2,2,2,1,2,1]
[2,2,1,1,3,1,2,3,2,3]
[2,2,1,2,1,2,3,1,3,1]
[2,2,1,3,2,3,1,2,1,2]

{"sheet":"IF","index":3,"n_rows":36,"n_cols":10,"rows_kept":36}
[{"$f":"IF(Minitab!A1=L36Modified!B2,TRUE)","v":true},{"$f":"IF(Minitab!B1=L36Modified!C2,TRUE)","v":true},{"$f":"IF(Minitab!C1=L36Modified!D2,TRUE)","v":true},{"$f":"IF(Minitab!D1=L36Modified!A2,TRUE)","v":true},{"$f":"IF(Minitab!E1=L36Modified!E2,TRUE)","v":true},{"$f":"IF(Minitab!F1=L36Modified!F2,TRUE)","v":true},{"$f":"IF(Minitab!G1=L36Modified!G2,TRUE)","v":true},{"$f":"IF(Minitab!H1=L36Modified!H2,TRUE)","v":true},{"$f":"IF(Minitab!I1=L36Modified!#REF!,TRUE)","v":{"$error":"#REF!"}},{"$f":"IF(Minitab!J1=L36Modified!#REF!,TRUE)","v":{"$error":"#REF!"}}]
[{"$f":"IF(Minitab!A2=L36Modified!B3,TRUE)","v":true},{"$f":"IF(Minitab!B2=L36Modified!C3,TRUE)","v":true},{"$f":"IF(Minitab!C2=L36Modified!D3,TRUE)","v":true},{"$f":"IF(Minitab!D2=L36Modified!A3,TRUE)","v":true},{"$f":"IF(Minitab!E2=L36Modified!E3,TRUE)","v":true},{"$f":"IF(Minitab!F2=L36Modified!F3,TRUE)","v":true},{"$f":"IF(Minitab!G2=L36Modified!G3,TRUE)","v":true},{"$f":"IF(Minitab!H2=L36Modified!H3,TRUE)","v":true},{"$f":"IF(Minitab!I2=L36Modified!#REF!,TRUE)","v":{"$error":"#REF!"}},{"$f":"IF(Minitab!J2=L36Modified!#REF!,TRUE)","v":{"$error":"#REF!"}}]
[{"$f":"IF(Minitab!A3=L36Modified!B4,TRUE)","v":true},{"$f":"IF(Minitab!B3=L36Modified!C4,TRUE)","v":true},{"$f":"IF(Minitab!C3=L36Modified!D4,TRUE)","v":true},{"$f":"IF(Minitab!D3=L36Modified!A4,TRUE)","v":true},{"$f":"IF(Minitab!E3=L36Modified!E4,TRUE)","v":true},{"$f":"IF(Minitab!F3=L36Modified!F4,TRUE)","v":true},{"$f":"IF(Minitab!G3=L36Modified!G4,TRUE)","v":true},{"$f":"IF(Minitab!H3=L36Modified!H4,TRUE)","v":true},{"$f":"IF(Minitab!I3=L36Modified!#REF!,TRUE)","v":{"$error":"#REF!"}},{"$f":"IF(Minitab!J3=L36Modified!#REF!,TRUE)","v":{"$error":"#REF!"}}]
[{"$f":"IF(Minitab!A4=L36Modified!B5,TRUE)","v":true},{"$f":"IF(Minitab!B4=L36Modified!C5,TRUE)","v":true},{"$f":"IF(Minitab!C4=L36Modified!D5,TRUE)","v":true},{"$f":"IF(Minitab!D4=L36Modified!A5,TRUE)","v":true},{"$f":"IF(Minitab!E4=L36Modified!E5,TRUE)","v":true},{"$f":"IF(Minitab!F4=L36Modified!F5,TRUE)","v":true},{"$f":"IF(Minitab!G4=L36Modified!G5,TRUE)","v":true},{"$f":"IF(Minitab!H4=L36Modified!H5,TRUE)","v":true},{"$f":"IF(Minitab!I4=L36Modified!#REF!,TRUE)","v":{"$error":"#REF!"}},{"$f":"IF(Minitab!J4=L36Modified!#REF!,TRUE)","v":{"$error":"#REF!"}}]
[{"$f":"IF(Minitab!A5=L36Modified!B6,TRUE)","v":true},{"$f":"IF(Minitab!B5=L36Modified!C6,TRUE)","v":true},{"$f":"IF(Minitab!C5=L36Modified!D6,TRUE)","v":true},{"$f":"IF(Minitab!D5=L36Modified!A6,TRUE)","v":true},{"$f":"IF(Minitab!E5=L36Modified!E6,TRUE)","v":true},{"$f":"IF(Minitab!F5=L36Modified!F6,TRUE)","v":true},{"$f":"IF(Minitab!G5=L36Modified!G6,TRUE)","v":true},{"$f":"IF(Minitab!H5=L36Modified!H6,TRUE)","v":true},{"$f":"IF(Minitab!I5=L36Modified!#REF!,TRUE)","v":{"$error":"#REF!"}},{"$f":"IF(Minitab!J5=L36Modified!#REF!,TRUE)","v":{"$error":"#REF!"}}]
[{"$f":"IF(Minitab!A6=L36Modified!B7,TRUE)","v":true},{"$f":"IF(Minitab!B6=L36Modified!C7,TRUE)","v":true},{"$f":"IF(Minitab!C6=L36Modified!D7,TRUE)","v":true},{"$f":"IF(Minitab!D6=L36Modified!A7,TRUE)","v":true},{"$f":"IF(Minitab!E6=L36Modified!E7,TRUE)","v":true},{"$f":"IF(Minitab!F6=L36Modified!F7,TRUE)","v":true},{"$f":"IF(Minitab!G6=L36Modified!G7,TRUE)","v":true},{"$f":"IF(Minitab!H6=L36Modified!H7,TRUE)","v":true},{"$f":"IF(Minitab!I6=L36Modified!#REF!,TRUE)","v":{"$error":"#REF!"}},{"$f":"IF(Minitab!J6=L36Modified!#REF!,TRUE)","v":{"$error":"#REF!"}}]
[{"$f":"IF(Minitab!A7=L36Modified!B8,TRUE)","v":true},{"$f":"IF(Minitab!B7=L36Modified!C8,TRUE)","v":true},{"$f":"IF(Minitab!C7=L36Modified!D8,TRUE)","v":true},{"$f":"IF(Minitab!D7=L36Modified!A8,TRUE)","v":true},{"$f":"IF(Minitab!E7=L36Modified!E8,TRUE)","v":true},{"$f":"IF(Minitab!F7=L36Modified!F8,TRUE)","v":true},{"$f":"IF(Minitab!G7=L36Modified!G8,TRUE)","v":true},{"$f":"IF(Minitab!H7=L36Modified!H8,TRUE)","v":true},{"$f":"IF(Minitab!I7=L36Modified!#REF!,TRUE)","v":{"$error":"#REF!"}},{"$f":"IF(Minitab!J7=L36Modified!#REF!,TRUE)","v":{"$error":"#REF!"}}]
[{"$f":"IF(Minitab!A8=L36Modified!B9,TRUE)","v":true},{"$f":"IF(Minitab!B8=L36Modified!C9,TRUE)","v":true},{"$f":"IF(Minitab!C8=L36Modified!D9,TRUE)","v":true},{"$f":"IF(Minitab!D8=L36Modified!A9,TRUE)","v":true},{"$f":"IF(Minitab!E8=L36Modified!E9,TRUE)","v":true},{"$f":"IF(Minitab!F8=L36Modified!F9,TRUE)","v":true},{"$f":"IF(Minitab!G8=L36Modified!G9,TRUE)","v":true},{"$f":"IF(Minitab!H8=L36Modified!H9,TRUE)","v":true},{"$f":"IF(Minitab!I8=L36Modified!#REF!,TRUE)","v":{"$error":"#REF!"}},{"$f":"IF(Minitab!J8=L36Modified!#REF!,TRUE)","v":{"$error":"#REF!"}}]
[{"$f":"IF(Minitab!A9=L36Modified!B10,TRUE)","v":true},{"$f":"IF(Minitab!B9=L36Modified!C10,TRUE)","v":true},{"$f":"IF(Minitab!C9=L36Modified!D10,TRUE)","v":true},{"$f":"IF(Minitab!D9=L36Modified!A10,TRUE)","v":true},{"$f":"IF(Minitab!E9=L36Modified!E10,TRUE)","v":true},{"$f":"IF(Minitab!F9=L36Modified!F10,TRUE)","v":true},{"$f":"IF(Minitab!G9=L36Modified!G10,TRUE)","v":true},{"$f":"IF(Minitab!H9=L36Modified!H10,TRUE)","v":true},{"$f":"IF(Minitab!I9=L36Modified!#REF!,TRUE)","v":{"$error":"#REF!"}},{"$f":"IF(Minitab!J9=L36Modified!#REF!,TRUE)","v":{"$error":"#REF!"}}]
[{"$f":"IF(Minitab!A10=L36Modified!B11,TRUE)","v":true},{"$f":"IF(Minitab!B10=L36Modified!C11,TRUE)","v":true},{"$f":"IF(Minitab!C10=L36Modified!D11,TRUE)","v":true},{"$f":"IF(Minitab!D10=L36Modified!A11,TRUE)","v":true},{"$f":"IF(Minitab!E10=L36Modified!E11,TRUE)","v":true},{"$f":"IF(Minitab!F10=L36Modified!F11,TRUE)","v":true},{"$f":"IF(Minitab!G10=L36Modified!G11,TRUE)","v":true},{"$f":"IF(Minitab!H10=L36Modified!H11,TRUE)","v":true},{"$f":"IF(Minitab!I10=L36Modified!#REF!,TRUE)","v":{"$error":"#REF!"}},{"$f":"IF(Minitab!J10=L36Modified!#REF!,TRUE)","v":{"$error":"#REF!"}}]
[{"$f":"IF(Minitab!A11=L36Modified!B12,TRUE)","v":true},{"$f":"IF(Minitab!B11=L36Modified!C12,TRUE)","v":true},{"$f":"IF(Minitab!C11=L36Modified!D12,TRUE)","v":true},{"$f":"IF(Minitab!D11=L36Modified!A12,TRUE)","v":true},{"$f":"IF(Minitab!E11=L36Modified!E12,TRUE)","v":true},{"$f":"IF(Minitab!F11=L36Modified!F12,TRUE)","v":true},{"$f":"IF(Minitab!G11=L36Modified!G12,TRUE)","v":true},{"$f":"IF(Minitab!H11=L36Modified!H12,TRUE)","v":true},{"$f":"IF(Minitab!I11=L36Modified!#REF!,TRUE)","v":{"$error":"#REF!"}},{"$f":"IF(Minitab!J11=L36Modified!#REF!,TRUE)","v":{"$error":"#REF!"}}]
[{"$f":"IF(Minitab!A12=L36Modified!B13,TRUE)","v":true},{"$f":"IF(Minitab!B12=L36Modified!C13,TRUE)","v":true},{"$f":"IF(Minitab!C12=L36Modified!D13,TRUE)","v":true},{"$f":"IF(Minitab!D12=L36Modified!A13,TRUE)","v":true},{"$f":"IF(Minitab!E12=L36Modified!E13,TRUE)","v":true},{"$f":"IF(Minitab!F12=L36Modified!F13,TRUE)","v":true},{"$f":"IF(Minitab!G12=L36Modified!G13,TRUE)","v":true},{"$f":"IF(Minitab!H12=L36Modified!H13,TRUE)","v":true},{"$f":"IF(Minitab!I12=L36Modified!#REF!,TRUE)","v":{"$error":"#REF!"}},{"$f":"IF(Minitab!J12=L36Modified!#REF!,TRUE)","v":{"$error":"#REF!"}}]
[{"$f":"IF(Minitab!A13=L36Modified!B14,TRUE)","v":true},{"$f":"IF(Minitab!B13=L36Modified!C14,TRUE)","v":true},{"$f":"IF(Minitab!C13=L36Modified!D14,TRUE)","v":true},{"$f":"IF(Minitab!D13=L36Modified!A14,TRUE)","v":true},{"$f":"IF(Minitab!E13=L36Modified!E14,TRUE)","v":true},{"$f":"IF(Minitab!F13=L36Modified!F14,TRUE)","v":true},{"$f":"IF(Minitab!G13=L36Modified!G14,TRUE)","v":true},{"$f":"IF(Minitab!H13=L36Modified!H14,TRUE)","v":true},{"$f":"IF(Minitab!I13=L36Modified!#REF!,TRUE)","v":{"$error":"#REF!"}},{"$f":"IF(Minitab!J13=L36Modified!#REF!,TRUE)","v":{"$error":"#REF!"}}]
[{"$f":"IF(Minitab!A14=L36Modified!B15,TRUE)","v":true},{"$f":"IF(Minitab!B14=L36Modified!C15,TRUE)","v":true},{"$f":"IF(Minitab!C14=L36Modified!D15,TRUE)","v":true},{"$f":"IF(Minitab!D14=L36Modified!A15,TRUE)","v":true},{"$f":"IF(Minitab!E14=L36Modified!E15,TRUE)","v":true},{"$f":"IF(Minitab!F14=L36Modified!F15,TRUE)","v":true},{"$f":"IF(Minitab!G14=L36Modified!G15,TRUE)","v":true},{"$f":"IF(Minitab!H14=L36Modified!H15,TRUE)","v":true},{"$f":"IF(Minitab!I14=L36Modified!#REF!,TRUE)","v":{"$error":"#REF!"}},{"$f":"IF(Minitab!J14=L36Modified!#REF!,TRUE)","v":{"$error":"#REF!"}}]
[{"$f":"IF(Minitab!A15=L36Modified!B16,TRUE)","v":true},{"$f":"IF(Minitab!B15=L36Modified!C16,TRUE)","v":true},{"$f":"IF(Minitab!C15=L36Modified!D16,TRUE)","v":true},{"$f":"IF(Minitab!D15=L36Modified!A16,TRUE)","v":true},{"$f":"IF(Minitab!E15=L36Modified!E16,TRUE)","v":true},{"$f":"IF(Minitab!F15=L36Modified!F16,TRUE)","v":true},{"$f":"IF(Minitab!G15=L36Modified!G16,TRUE)","v":true},{"$f":"IF(Minitab!H15=L36Modified!H16,TRUE)","v":true},{"$f":"IF(Minitab!I15=L36Modified!#REF!,TRUE)","v":{"$error":"#REF!"}},{"$f":"IF(Minitab!J15=L36Modified!#REF!,TRUE)","v":{"$error":"#REF!"}}]
[{"$f":"IF(Minitab!A16=L36Modified!B17,TRUE)","v":true},{"$f":"IF(Minitab!B16=L36Modified!C17,TRUE)","v":true},{"$f":"IF(Minitab!C16=L36Modified!D17,TRUE)","v":true},{"$f":"IF(Minitab!D16=L36Modified!A17,TRUE)","v":true},{"$f":"IF(Minitab!E16=L36Modified!E17,TRUE)","v":true},{"$f":"IF(Minitab!F16=L36Modified!F17,TRUE)","v":true},{"$f":"IF(Minitab!G16=L36Modified!G17,TRUE)","v":true},{"$f":"IF(Minitab!H16=L36Modified!H17,TRUE)","v":true},{"$f":"IF(Minitab!I16=L36Modified!#REF!,TRUE)","v":{"$error":"#REF!"}},{"$f":"IF(Minitab!J16=L36Modified!#REF!,TRUE)","v":{"$error":"#REF!"}}]
[{"$f":"IF(Minitab!A17=L36Modified!B18,TRUE)","v":true},{"$f":"IF(Minitab!B17=L36Modified!C18,TRUE)","v":true},{"$f":"IF(Minitab!C17=L36Modified!D18,TRUE)","v":true},{"$f":"IF(Minitab!D17=L36Modified!A18,TRUE)","v":true},{"$f":"IF(Minitab!E17=L36Modified!E18,TRUE)","v":true},{"$f":"IF(Minitab!F17=L36Modified!F18,TRUE)","v":true},{"$f":"IF(Minitab!G17=L36Modified!G18,TRUE)","v":true},{"$f":"IF(Minitab!H17=L36Modified!H18,TRUE)","v":true},{"$f":"IF(Minitab!I17=L36Modified!#REF!,TRUE)","v":{"$error":"#REF!"}},{"$f":"IF(Minitab!J17=L36Modified!#REF!,TRUE)","v":{"$error":"#REF!"}}]
[{"$f":"IF(Minitab!A18=L36Modified!B19,TRUE)","v":true},{"$f":"IF(Minitab!B18=L36Modified!C19,TRUE)","v":true},{"$f":"IF(Minitab!C18=L36Modified!D19,TRUE)","v":true},{"$f":"IF(Minitab!D18=L36Modified!A19,TRUE)","v":true},{"$f":"IF(Minitab!E18=L36Modified!E19,TRUE)","v":true},{"$f":"IF(Minitab!F18=L36Modified!F19,TRUE)","v":true},{"$f":"IF(Minitab!G18=L36Modified!G19,TRUE)","v":true},{"$f":"IF(Minitab!H18=L36Modified!H19,TRUE)","v":true},{"$f":"IF(Minitab!I18=L36Modified!#REF!,TRUE)","v":{"$error":"#REF!"}},{"$f":"IF(Minitab!J18=L36Modified!#REF!,TRUE)","v":{"$error":"#REF!"}}]
[{"$f":"IF(Minitab!A19=L36Modified!B20,TRUE)","v":true},{"$f":"IF(Minitab!B19=L36Modified!C20,TRUE)","v":true},{"$f":"IF(Minitab!C19=L36Modified!D20,TRUE)","v":true},{"$f":"IF(Minitab!D19=L36Modified!A20,TRUE)","v":true},{"$f":"IF(Minitab!E19=L36Modified!E20,TRUE)","v":true},{"$f":"IF(Minitab!F19=L36Modified!F20,TRUE)","v":true},{"$f":"IF(Minitab!G19=L36Modified!G20,TRUE)","v":true},{"$f":"IF(Minitab!H19=L36Modified!H20,TRUE)","v":true},{"$f":"IF(Minitab!I19=L36Modified!#REF!,TRUE)","v":{"$error":"#REF!"}},{"$f":"IF(Minitab!J19=L36Modified!#REF!,TRUE)","v":{"$error":"#REF!"}}]
[{"$f":"IF(Minitab!A20=L36Modified!B21,TRUE)","v":true},{"$f":"IF(Minitab!B20=L36Modified!C21,TRUE)","v":true},{"$f":"IF(Minitab!C20=L36Modified!D21,TRUE)","v":true},{"$f":"IF(Minitab!D20=L36Modified!A21,TRUE)","v":true},{"$f":"IF(Minitab!E20=L36Modified!E21,TRUE)","v":true},{"$f":"IF(Minitab!F20=L36Modified!F21,TRUE)","v":true},{"$f":"IF(Minitab!G20=L36Modified!G21,TRUE)","v":true},{"$f":"IF(Minitab!H20=L36Modified!H21,TRUE)","v":true},{"$f":"IF(Minitab!I20=L36Modified!#REF!,TRUE)","v":{"$error":"#REF!"}},{"$f":"IF(Minitab!J20=L36Modified!#REF!,TRUE)","v":{"$error":"#REF!"}}]
[{"$f":"IF(Minitab!A21=L36Modified!B22,TRUE)","v":true},{"$f":"IF(Minitab!B21=L36Modified!C22,TRUE)","v":true},{"$f":"IF(Minitab!C21=L36Modified!D22,TRUE)","v":true},{"$f":"IF(Minitab!D21=L36Modified!A22,TRUE)","v":true},{"$f":"IF(Minitab!E21=L36Modified!E22,TRUE)","v":true},{"$f":"IF(Minitab!F21=L36Modified!F22,TRUE)","v":true},{"$f":"IF(Minitab!G21=L36Modified!G22,TRUE)","v":true},{"$f":"IF(Minitab!H21=L36Modified!H22,TRUE)","v":true},{"$f":"IF(Minitab!I21=L36Modified!#REF!,TRUE)","v":{"$error":"#REF!"}},{"$f":"IF(Minitab!J21=L36Modified!#REF!,TRUE)","v":{"$error":"#REF!"}}]
[{"$f":"IF(Minitab!A22=L36Modified!B23,TRUE)","v":true},{"$f":"IF(Minitab!B22=L36Modified!C23,TRUE)","v":true},{"$f":"IF(Minitab!C22=L36Modified!D23,TRUE)","v":true},{"$f":"IF(Minitab!D22=L36Modified!A23,TRUE)","v":true},{"$f":"IF(Minitab!E22=L36Modified!E23,TRUE)","v":true},{"$f":"IF(Minitab!F22=L36Modified!F23,TRUE)","v":true},{"$f":"IF(Minitab!G22=L36Modified!G23,TRUE)","v":true},{"$f":"IF(Minitab!H22=L36Modified!H23,TRUE)","v":true},{"$f":"IF(Minitab!I22=L36Modified!#REF!,TRUE)","v":{"$error":"#REF!"}},{"$f":"IF(Minitab!J22=L36Modified!#REF!,TRUE)","v":{"$error":"#REF!"}}]
[{"$f":"IF(Minitab!A23=L36Modified!B24,TRUE)","v":true},{"$f":"IF(Minitab!B23=L36Modified!C24,TRUE)","v":true},{"$f":"IF(Minitab!C23=L36Modified!D24,TRUE)","v":true},{"$f":"IF(Minitab!D23=L36Modified!A24,TRUE)","v":true},{"$f":"IF(Minitab!E23=L36Modified!E24,TRUE)","v":true},{"$f":"IF(Minitab!F23=L36Modified!F24,TRUE)","v":true},{"$f":"IF(Minitab!G23=L36Modified!G24,TRUE)","v":true},{"$f":"IF(Minitab!H23=L36Modified!H24,TRUE)","v":true},{"$f":"IF(Minitab!I23=L36Modified!#REF!,TRUE)","v":{"$error":"#REF!"}},{"$f":"IF(Minitab!J23=L36Modified!#REF!,TRUE)","v":{"$error":"#REF!"}}]
[{"$f":"IF(Minitab!A24=L36Modified!B25,TRUE)","v":true},{"$f":"IF(Minitab!B24=L36Modified!C25,TRUE)","v":true},{"$f":"IF(Minitab!C24=L36Modified!D25,TRUE)","v":true},{"$f":"IF(Minitab!D24=L36Modified!A25,TRUE)","v":true},{"$f":"IF(Minitab!E24=L36Modified!E25,TRUE)","v":true},{"$f":"IF(Minitab!F24=L36Modified!F25,TRUE)","v":true},{"$f":"IF(Minitab!G24=L36Modified!G25,TRUE)","v":true},{"$f":"IF(Minitab!H24=L36Modified!H25,TRUE)","v":true},{"$f":"IF(Minitab!I24=L36Modified!#REF!,TRUE)","v":{"$error":"#REF!"}},{"$f":"IF(Minitab!J24=L36Modified!#REF!,TRUE)","v":{"$error":"#REF!"}}]
[{"$f":"IF(Minitab!A25=L36Modified!B26,TRUE)","v":true},{"$f":"IF(Minitab!B25=L36Modified!C26,TRUE)","v":true},{"$f":"IF(Minitab!C25=L36Modified!D26,TRUE)","v":true},{"$f":"IF(Minitab!D25=L36Modified!A26,TRUE)","v":true},{"$f":"IF(Minitab!E25=L36Modified!E26,TRUE)","v":true},{"$f":"IF(Minitab!F25=L36Modified!F26,TRUE)","v":true},{"$f":"IF(Minitab!G25=L36Modified!G26,TRUE)","v":true},{"$f":"IF(Minitab!H25=L36Modified!H26,TRUE)","v":true},{"$f":"IF(Minitab!I25=L36Modified!#REF!,TRUE)","v":{"$error":"#REF!"}},{"$f":"IF(Minitab!J25=L36Modified!#REF!,TRUE)","v":{"$error":"#REF!"}}]
[{"$f":"IF(Minitab!A26=L36Modified!B27,TRUE)","v":true},{"$f":"IF(Minitab!B26=L36Modified!C27,TRUE)","v":true},{"$f":"IF(Minitab!C26=L36Modified!D27,TRUE)","v":true},{"$f":"IF(Minitab!D26=L36Modified!A27,TRUE)","v":true},{"$f":"IF(Minitab!E26=L36Modified!E27,TRUE)","v":true},{"$f":"IF(Minitab!F26=L36Modified!F27,TRUE)","v":true},{"$f":"IF(Minitab!G26=L36Modified!G27,TRUE)","v":true},{"$f":"IF(Minitab!H26=L36Modified!H27,TRUE)","v":true},{"$f":"IF(Minitab!I26=L36Modified!#REF!,TRUE)","v":{"$error":"#REF!"}},{"$f":"IF(Minitab!J26=L36Modified!#REF!,TRUE)","v":{"$error":"#REF!"}}]
[{"$f":"IF(Minitab!A27=L36Modified!B28,TRUE)","v":true},{"$f":"IF(Minitab!B27=L36Modified!C28,TRUE)","v":true},{"$f":"IF(Minitab!C27=L36Modified!D28,TRUE)","v":true},{"$f":"IF(Minitab!D27=L36Modified!A28,TRUE)","v":true},{"$f":"IF(Minitab!E27=L36Modified!E28,TRUE)","v":true},{"$f":"IF(Minitab!F27=L36Modified!F28,TRUE)","v":true},{"$f":"IF(Minitab!G27=L36Modified!G28,TRUE)","v":true},{"$f":"IF(Minitab!H27=L36Modified!H28,TRUE)","v":true},{"$f":"IF(Minitab!I27=L36Modified!#REF!,TRUE)","v":{"$error":"#REF!"}},{"$f":"IF(Minitab!J27=L36Modified!#REF!,TRUE)","v":{"$error":"#REF!"}}]
[{"$f":"IF(Minitab!A28=L36Modified!B29,TRUE)","v":true},{"$f":"IF(Minitab!B28=L36Modified!C29,TRUE)","v":true},{"$f":"IF(Minitab!C28=L36Modified!D29,TRUE)","v":true},{"$f":"IF(Minitab!D28=L36Modified!A29,TRUE)","v":true},{"$f":"IF(Minitab!E28=L36Modified!E29,TRUE)","v":true},{"$f":"IF(Minitab!F28=L36Modified!F29,TRUE)","v":true},{"$f":"IF(Minitab!G28=L36Modified!G29,TRUE)","v":true},{"$f":"IF(Minitab!H28=L36Modified!H29,TRUE)","v":true},{"$f":"IF(Minitab!I28=L36Modified!#REF!,TRUE)","v":{"$error":"#REF!"}},{"$f":"IF(Minitab!J28=L36Modified!#REF!,TRUE)","v":{"$error":"#REF!"}}]
[{"$f":"IF(Minitab!A29=L36Modified!B30,TRUE)","v":true},{"$f":"IF(Minitab!B29=L36Modified!C30,TRUE)","v":true},{"$f":"IF(Minitab!C29=L36Modified!D30,TRUE)","v":true},{"$f":"IF(Minitab!D29=L36Modified!A30,TRUE)","v":true},{"$f":"IF(Minitab!E29=L36Modified!E30,TRUE)","v":true},{"$f":"IF(Minitab!F29=L36Modified!F30,TRUE)","v":true},{"$f":"IF(Minitab!G29=L36Modified!G30,TRUE)","v":true},{"$f":"IF(Minitab!H29=L36Modified!H30,TRUE)","v":true},{"$f":"IF(Minitab!I29=L36Modified!#REF!,TRUE)","v":{"$error":"#REF!"}},{"$f":"IF(Minitab!J29=L36Modified!#REF!,TRUE)","v":{"$error":"#REF!"}}]
[{"$f":"IF(Minitab!A30=L36Modified!B31,TRUE)","v":true},{"$f":"IF(Minitab!B30=L36Modified!C31,TRUE)","v":true},{"$f":"IF(Minitab!C30=L36Modified!D31,TRUE)","v":true},{"$f":"IF(Minitab!D30=L36Modified!A31,TRUE)","v":true},{"$f":"IF(Minitab!E30=L36Modified!E31,TRUE)","v":true},{"$f":"IF(Minitab!F30=L36Modified!F31,TRUE)","v":true},{"$f":"IF(Minitab!G30=L36Modified!G31,TRUE)","v":true},{"$f":"IF(Minitab!H30=L36Modified!H31,TRUE)","v":true},{"$f":"IF(Minitab!I30=L36Modified!#REF!,TRUE)","v":{"$error":"#REF!"}},{"$f":"IF(Minitab!J30=L36Modified!#REF!,TRUE)","v":{"$error":"#REF!"}}]
[{"$f":"IF(Minitab!A31=L36Modified!B32,TRUE)","v":true},{"$f":"IF(Minitab!B31=L36Modified!C32,TRUE)","v":true},{"$f":"IF(Minitab!C31=L36Modified!D32,TRUE)","v":true},{"$f":"IF(Minitab!D31=L36Modified!A32,TRUE)","v":true},{"$f":"IF(Minitab!E31=L36Modified!E32,TRUE)","v":true},{"$f":"IF(Minitab!F31=L36Modified!F32,TRUE)","v":true},{"$f":"IF(Minitab!G31=L36Modified!G32,TRUE)","v":true},{"$f":"IF(Minitab!H31=L36Modified!H32,TRUE)","v":true},{"$f":"IF(Minitab!I31=L36Modified!#REF!,TRUE)","v":{"$error":"#REF!"}},{"$f":"IF(Minitab!J31=L36Modified!#REF!,TRUE)","v":{"$error":"#REF!"}}]
[{"$f":"IF(Minitab!A32=L36Modified!B33,TRUE)","v":true},{"$f":"IF(Minitab!B32=L36Modified!C33,TRUE)","v":true},{"$f":"IF(Minitab!C32=L36Modified!D33,TRUE)","v":true},{"$f":"IF(Minitab!D32=L36Modified!A33,TRUE)","v":true},{"$f":"IF(Minitab!E32=L36Modified!E33,TRUE)","v":true},{"$f":"IF(Minitab!F32=L36Modified!F33,TRUE)","v":true},{"$f":"IF(Minitab!G32=L36Modified!G33,TRUE)","v":true},{"$f":"IF(Minitab!H32=L36Modified!H33,TRUE)","v":true},{"$f":"IF(Minitab!I32=L36Modified!#REF!,TRUE)","v":{"$error":"#REF!"}},{"$f":"IF(Minitab!J32=L36Modified!#REF!,TRUE)","v":{"$error":"#REF!"}}]
[{"$f":"IF(Minitab!A33=L36Modified!B34,TRUE)","v":true},{"$f":"IF(Minitab!B33=L36Modified!C34,TRUE)","v":true},{"$f":"IF(Minitab!C33=L36Modified!D34,TRUE)","v":true},{"$f":"IF(Minitab!D33=L36Modified!A34,TRUE)","v":true},{"$f":"IF(Minitab!E33=L36Modified!E34,TRUE)","v":true},{"$f":"IF(Minitab!F33=L36Modified!F34,TRUE)","v":true},{"$f":"IF(Minitab!G33=L36Modified!G34,TRUE)","v":true},{"$f":"IF(Minitab!H33=L36Modified!H34,TRUE)","v":true},{"$f":"IF(Minitab!I33=L36Modified!#REF!,TRUE)","v":{"$error":"#REF!"}},{"$f":"IF(Minitab!J33=L36Modified!#REF!,TRUE)","v":{"$error":"#REF!"}}]
[{"$f":"IF(Minitab!A34=L36Modified!B35,TRUE)","v":true},{"$f":"IF(Minitab!B34=L36Modified!C35,TRUE)","v":true},{"$f":"IF(Minitab!C34=L36Modified!D35,TRUE)","v":true},{"$f":"IF(Minitab!D34=L36Modified!A35,TRUE)","v":true},{"$f":"IF(Minitab!E34=L36Modified!E35,TRUE)","v":true},{"$f":"IF(Minitab!F34=L36Modified!F35,TRUE)","v":true},{"$f":"IF(Minitab!G34=L36Modified!G35,TRUE)","v":true},{"$f":"IF(Minitab!H34=L36Modified!H35,TRUE)","v":true},{"$f":"IF(Minitab!I34=L36Modified!#REF!,TRUE)","v":{"$error":"#REF!"}},{"$f":"IF(Minitab!J34=L36Modified!#REF!,TRUE)","v":{"$error":"#REF!"}}]
[{"$f":"IF(Minitab!A35=L36Modified!B36,TRUE)","v":true},{"$f":"IF(Minitab!B35=L36Modified!C36,TRUE)","v":true},{"$f":"IF(Minitab!C35=L36Modified!D36,TRUE)","v":true},{"$f":"IF(Minitab!D35=L36Modified!A36,TRUE)","v":true},{"$f":"IF(Minitab!E35=L36Modified!E36,TRUE)","v":true},{"$f":"IF(Minitab!F35=L36Modified!F36,TRUE)","v":true},{"$f":"IF(Minitab!G35=L36Modified!G36,TRUE)","v":true},{"$f":"IF(Minitab!H35=L36Modified!H36,TRUE)","v":true},{"$f":"IF(Minitab!I35=L36Modified!#REF!,TRUE)","v":{"$error":"#REF!"}},{"$f":"IF(Minitab!J35=L36Modified!#REF!,TRUE)","v":{"$error":"#REF!"}}]
[{"$f":"IF(Minitab!A36=L36Modified!B37,TRUE)","v":true},{"$f":"IF(Minitab!B36=L36Modified!C37,TRUE)","v":true},{"$f":"IF(Minitab!C36=L36Modified!D37,TRUE)","v":true},{"$f":"IF(Minitab!D36=L36Modified!A37,TRUE)","v":true},{"$f":"IF(Minitab!E36=L36Modified!E37,TRUE)","v":true},{"$f":"IF(Minitab!F36=L36Modified!F37,TRUE)","v":true},{"$f":"IF(Minitab!G36=L36Modified!G37,TRUE)","v":true},{"$f":"IF(Minitab!H36=L36Modified!H37,TRUE)","v":true},{"$f":"IF(Minitab!I36=L36Modified!#REF!,TRUE)","v":{"$error":"#REF!"}},{"$f":"IF(Minitab!J36=L36Modified!#REF!,TRUE)","v":{"$error":"#REF!"}}]

{"sheet":"L36","index":4,"n_rows":37,"n_cols":23,"rows_kept":37}
["X1","X2","X3","X4","X5","X6","X7","X8","X9","X10","X11","X12","X13","X14","X15","X16","X17","X18","X19","X20","X21","X22","X23"]
[1,1,1,1,1,1,1,1,1,1,1,1,1,1,1,1,1,1,1,1,1,1,1]
[1,1,1,1,1,1,1,1,1,1,1,2,2,2,2,2,2,2,2,2,2,2,2]
[1,1,1,1,1,1,1,1,1,1,1,3,3,3,3,3,3,3,3,3,3,3,3]
[1,1,1,1,1,2,2,2,2,2,2,1,1,1,1,2,2,2,2,3,3,3,3]
[1,1,1,1,1,2,2,2,2,2,2,2,2,2,2,3,3,3,3,1,1,1,1]
[1,1,1,1,1,2,2,2,2,2,2,3,3,3,3,1,1,1,1,2,2,2,2]
[1,1,2,2,2,1,1,1,2,2,2,1,1,2,3,1,2,3,3,1,2,2,3]
[1,1,2,2,2,1,1,1,2,2,2,2,2,3,1,2,3,1,1,2,3,3,1]
[1,1,2,2,2,1,1,1,2,2,2,3,3,1,2,3,1,2,2,3,1,1,2]
[1,2,1,2,2,1,2,2,1,1,2,1,1,3,2,1,3,2,3,2,1,3,2]
[1,2,1,2,2,1,2,2,1,1,2,2,2,1,3,2,1,3,1,3,2,1,3]
[1,2,1,2,2,1,2,2,1,1,2,3,3,2,1,3,2,1,2,1,3,2,1]
[1,2,2,1,2,2,1,2,1,2,1,1,2,3,1,3,2,1,3,3,2,1,2]
[1,2,2,1,2,2,1,2,1,2,1,2,3,1,2,1,3,2,1,1,3,2,3]
[1,2,2,1,2,2,1,2,1,2,1,3,1,2,3,2,1,3,2,2,1,3,1]
[1,2,2,2,1,2,2,1,2,1,1,1,2,3,2,1,1,3,2,3,3,2,1]
[1,2,2,2,1,2,2,1,2,1,1,2,3,1,3,2,2,1,3,1,1,3,2]
[1,2,2,2,1,2,2,1,2,1,1,3,1,2,1,3,3,2,1,2,2,1,3]
[2,1,2,2,1,1,2,2,1,2,1,1,2,1,3,3,3,1,2,2,1,2,3]
[2,1,2,2,1,1,2,2,1,2,1,2,3,2,1,1,1,2,3,3,2,3,1]
[2,1,2,2,1,1,2,2,1,2,1,3,1,3,2,2,2,3,1,1,3,1,2]
[2,1,2,1,2,2,2,1,1,1,2,1,2,2,3,3,1,2,1,1,3,3,2]
[2,1,2,1,2,2,2,1,1,1,2,2,3,3,1,1,2,3,2,2,1,1,3]
[2,1,2,1,2,2,2,1,1,1,2,3,1,1,2,2,3,1,3,3,2,2,1]
[2,1,1,2,2,2,1,2,2,1,1,1,3,2,1,2,3,3,1,3,1,2,2]
[2,1,1,2,2,2,1,2,2,1,1,2,1,3,2,3,1,1,2,1,2,3,3]
[2,1,1,2,2,2,1,2,2,1,1,3,2,1,3,1,2,2,3,2,3,1,1]
[2,2,2,1,1,1,1,2,2,1,2,1,3,2,2,2,1,1,3,2,3,1,3]
[2,2,2,1,1,1,1,2,2,1,2,2,1,3,3,3,2,2,1,3,1,2,1]
[2,2,2,1,1,1,1,2,2,1,2,3,2,1,1,1,3,3,2,1,2,3,2]
[2,2,1,2,1,2,1,1,1,2,2,1,3,3,3,2,3,2,2,1,2,1,1]
[2,2,1,2,1,2,1,1,1,2,2,2,1,1,1,3,1,3,3,2,3,2,2]
[2,2,1,2,1,2,1,1,1,2,2,3,2,2,2,1,2,1,1,3,1,3,3]
[2,2,1,1,2,1,2,1,2,2,1,1,3,1,2,3,2,3,1,2,2,3,1]
[2,2,1,1,2,1,2,1,2,2,1,2,1,2,3,1,3,1,2,3,3,1,2]
[2,2,1,1,2,1,2,1,2,2,1,3,2,3,1,2,1,2,3,1,1,2,3]

{"sheet":"L27Modified012","index":5,"n_rows":28,"n_cols":13,"rows_kept":28}
["X1","X2","X3","X4","X5","X6","X7","X8","X9","X10","X11","X12","X13"]
[0,0,0,0,0,0,0,0,0,0,0,0,0]
[0,0,0,0,1,1,1,1,1,1,1,1,1]
[0,0,0,0,2,2,2,2,2,2,2,2,2]
[0,1,1,1,0,0,0,1,1,1,2,2,2]
[0,1,1,1,1,1,1,2,2,2,0,0,0]
[0,1,1,1,2,2,2,0,0,0,1,1,1]
[0,0,0,0,0,0,0,2,2,2,1,1,1]
[0,1,1,1,1,1,1,0,0,0,2,2,2]
[0,0,0,0,2,2,2,1,1,1,0,0,0]
[1,0,1,1,0,1,2,0,1,2,0,1,2]
[1,0,1,0,1,2,0,1,2,0,1,2,0]
[1,0,1,1,2,0,1,2,0,1,2,0,1]
[1,1,1,0,0,1,2,1,2,0,2,0,1]
[1,1,0,0,1,2,0,2,0,1,0,1,2]
[1,1,1,0,2,0,1,0,1,2,1,2,0]
[1,1,0,1,0,1,2,2,0,1,1,2,0]
[1,0,0,1,1,2,0,0,1,2,2,0,1]
[1,1,0,1,2,0,1,1,2,0,0,1,2]
[2,0,0,1,0,2,1,0,2,1,0,2,1]
[2,0,1,1,1,0,2,1,0,2,1,0,2]
[2,0,0,1,2,1,0,2,1,0,2,1,0]
[2,1,0,0,0,2,1,1,0,2,2,1,0]
[2,1,0,1,1,0,2,2,1,0,0,2,1]
[2,1,0,0,2,1,0,0,2,1,1,0,2]
[2,0,1,0,0,2,1,2,1,0,1,0,2]
[2,1,1,0,1,0,2,0,2,1,2,1,0]
[2,0,1,0,2,1,0,1,0,2,0,2,1]

{"sheet":"L27Modified","index":6,"n_rows":33,"n_cols":13,"rows_kept":33}
["X1","X2","X3","X4","X5","X6","X7","X8","X9","X10","X11","X12","X13"]
[1,1,1,1,1,1,1,1,1,1,1,1,1]
[1,1,1,1,2,2,2,2,2,2,2,2,2]
[1,1,1,1,3,3,3,3,3,3,3,3,3]
[1,2,2,2,1,1,1,2,2,2,3,3,3]
[1,2,2,2,2,2,2,3,3,3,1,1,1]
[1,2,2,2,3,3,3,1,1,1,2,2,2]
[1,1,1,1,1,1,1,3,3,3,2,2,2]
[1,2,2,2,2,2,2,1,1,1,3,3,3]
[1,1,1,1,3,3,3,2,2,2,1,1,1]
[2,1,2,2,1,2,3,1,2,3,1,2,3]
[2,1,2,1,2,3,1,2,3,1,2,3,1]
[2,1,2,2,3,1,2,3,1,2,3,1,2]
[2,2,2,1,1,2,3,2,3,1,3,1,2]
[2,2,1,1,2,3,1,3,1,2,1,2,3]
[2,2,2,1,3,1,2,1,2,3,2,3,1]
[2,2,1,2,1,2,3,3,1,2,2,3,1]
[2,1,1,2,2,3,1,1,2,3,3,1,2]
[2,2,1,2,3,1,2,2,3,1,1,2,3]
[3,1,1,2,1,3,2,1,3,2,1,3,2]
[3,1,2,2,2,1,3,2,1,3,2,1,3]
[3,1,1,2,3,2,1,3,2,1,3,2,1]
[3,2,1,1,1,3,2,2,1,3,3,2,1]
[3,2,1,2,2,1,3,3,2,1,1,3,2]
[3,2,1,1,3,2,1,1,3,2,2,1,3]
[3,1,2,1,1,3,2,3,2,1,2,1,3]
[3,2,2,1,2,1,3,1,3,2,3,2,1]
[3,1,2,1,3,2,1,2,1,3,1,3,2]
[]
["n_max_trial","prf_size","prf_conn","cap_limit_prob_type","cap_limit_level","diff_new_conn","crit_supplier","diff_remove","proactive_ratio","netw_prf_n"]
[15,true,true,"uniform",5,0.3,2,0.5,0.3,3]
[10,false,false,"normal",10,0.5,1,1,0.5,2]
[5,{"$nulls":3},15,0.7,0.5,2,0.7,1]

{"sheet":"L27","index":7,"n_rows":28,"n_cols":13,"rows_kept":28}
["X1","X2","X3","X4","X5","X6","X7","X8","X9","X10","X11","X12","X13"]
[1,1,1,1,1,1,1,1,1,1,1,1,1]
[1,1,1,1,2,2,2,2,2,2,2,2,2]
[1,1,1,1,3,3,3,3,3,3,3,3,3]
[1,2,2,2,1,1,1,2,2,2,3,3,3]
[1,2,2,2,2,2,2,3,3,3,1,1,1]
[1,2,2,2,3,3,3,1,1,1,2,2,2]
[1,3,3,3,1,1,1,3,3,3,2,2,2]
[1,3,3,3,2,2,2,1,1,1,3,3,3]
[1,3,3,3,3,3,3,2,2,2,1,1,1]
[2,1,2,3,1,2,3,1,2,3,1,2,3]
[2,1,2,3,2,3,1,2,3,1,2,3,1]
[2,1,2,3,3,1,2,3,1,2,3,1,2]
[2,2,3,1,1,2,3,2,3,1,3,1,2]
[2,2,3,1,2,3,1,3,1,2,1,2,3]
[2,2,3,1,3,1,2,1,2,3,2,3,1]
[2,3,1,2,1,2,3,3,1,2,2,3,1]
[2,3,1,2,2,3,1,1,2,3,3,1,2]
[2,3,1,2,3,1,2,2,3,1,1,2,3]
[3,1,3,2,1,3,2,1,3,2,1,3,2]
[3,1,3,2,2,1,3,2,1,3,2,1,3]
[3,1,3,2,3,2,1,3,2,1,3,2,1]
[3,2,1,3,1,3,2,2,1,3,3,2,1]
[3,2,1,3,2,1,3,3,2,1,1,3,2]
[3,2,1,3,3,2,1,1,3,2,2,1,3]
[3,3,2,1,1,3,2,3,2,1,2,1,3]
[3,3,2,1,2,1,3,1,3,2,3,2,1]
[3,3,2,1,3,2,1,2,1,3,1,3,2]

{"sheet":"oa_with_exp","index":8,"n_rows":39,"n_cols":23,"rows_kept":39}
["X12","X1","X2","X3","X13","X4","X5","X14","X15","X16","X17","X18","X6","X19","X7","X8","X9","X10","X11","X20","X21","X22","X23"]
[1,1,1,1,1,1,1,1,1,1,1,1,1,1,1,1,1,1,1,1,1,1,1]
[2,1,1,1,2,1,1,2,2,2,2,2,1,2,1,1,1,1,1,2,2,2,2]
[3,1,1,1,3,1,1,3,3,3,3,3,1,3,1,1,1,1,1,3,3,3,3]
[1,1,1,1,1,1,1,1,1,2,2,2,2,2,2,2,2,2,2,3,3,3,3]
[2,1,1,1,2,1,1,2,2,3,3,3,2,3,2,2,2,2,2,1,1,1,1]
[3,1,1,1,3,1,1,3,3,1,1,1,2,1,2,2,2,2,2,2,2,2,2]
[1,1,1,2,1,2,2,2,3,1,2,3,1,3,1,1,2,2,2,1,2,2,3]
[2,1,1,2,2,2,2,3,1,2,3,1,1,1,1,1,2,2,2,2,3,3,1]
[3,1,1,2,3,2,2,1,2,3,1,2,1,2,1,1,2,2,2,3,1,1,2]
[1,1,2,1,1,2,2,3,2,1,3,2,1,3,2,2,1,1,2,2,1,3,2]
[2,1,2,1,2,2,2,1,3,2,1,3,1,1,2,2,1,1,2,3,2,1,3]
[3,1,2,1,3,2,2,2,1,3,2,1,1,2,2,2,1,1,2,1,3,2,1]
[1,1,2,2,2,1,2,3,1,3,2,1,2,3,1,2,1,2,1,3,2,1,2]
[2,1,2,2,3,1,2,1,2,1,3,2,2,1,1,2,1,2,1,1,3,2,3]
[3,1,2,2,1,1,2,2,3,2,1,3,2,2,1,2,1,2,1,2,1,3,1]
[1,1,2,2,2,2,1,3,2,1,1,3,2,2,2,1,2,1,1,3,3,2,1]
[2,1,2,2,3,2,1,1,3,2,2,1,2,3,2,1,2,1,1,1,1,3,2]
[3,1,2,2,1,2,1,2,1,3,3,2,2,1,2,1,2,1,1,2,2,1,3]
[1,2,1,2,2,2,1,1,3,3,3,1,1,2,2,2,1,2,1,2,1,2,3]
[2,2,1,2,3,2,1,2,1,1,1,2,1,3,2,2,1,2,1,3,2,3,1]
[3,2,1,2,1,2,1,3,2,2,2,3,1,1,2,2,1,2,1,1,3,1,2]
[1,2,1,2,2,1,2,2,3,3,1,2,2,1,2,1,1,1,2,1,3,3,2]
[2,2,1,2,3,1,2,3,1,1,2,3,2,2,2,1,1,1,2,2,1,1,3]
[3,2,1,2,1,1,2,1,2,2,3,1,2,3,2,1,1,1,2,3,2,2,1]
[1,2,1,1,3,2,2,2,1,2,3,3,2,1,1,2,2,1,1,3,1,2,2]
[2,2,1,1,1,2,2,3,2,3,1,1,2,2,1,2,2,1,1,1,2,3,3]
[3,2,1,1,2,2,2,1,3,1,2,2,2,3,1,2,2,1,1,2,3,1,1]
[1,2,2,2,3,1,1,2,2,2,1,1,1,3,1,2,2,1,2,2,3,1,3]
[2,2,2,2,1,1,1,3,3,3,2,2,1,1,1,2,2,1,2,3,1,2,1]
[3,2,2,2,2,1,1,1,1,1,3,3,1,2,1,2,2,1,2,1,2,3,2]
[1,2,2,1,3,2,1,3,3,2,3,2,2,2,1,1,1,2,2,1,2,1,1]
[2,2,2,1,1,2,1,1,1,3,1,3,2,3,1,1,1,2,2,2,3,2,2]
[3,2,2,1,2,2,1,2,2,1,2,1,2,1,1,1,1,2,2,3,1,3,3]
[1,2,2,1,3,1,2,1,2,3,2,3,1,1,2,1,2,2,1,2,2,3,1]
[2,2,2,1,1,1,2,2,3,1,3,1,1,2,2,1,2,2,1,3,3,1,2]
[3,2,2,1,2,1,2,3,1,2,1,2,1,3,2,1,2,2,1,1,1,2,3]
[]
[3,2,2,2,3,2,2,3,3,3,3,3,2,3,2,2,2,2,2,3,3,3,3]

{"sheet":"Sheet1","index":9,"n_rows":39,"n_cols":23,"rows_kept":39}
["X12","X1","X2","X3","X13","X4","X5","X14","X15","X16","X17","X18","X6","X19","X7","X8","X9","X10","X11","X20","X21","X22","X23"]
[1,1,1,1,1,1,1,1,1,1,1,1,1,1,1,1,1,1,1,1,1,1,1]
[2,1,1,1,2,1,1,2,2,2,2,2,1,2,1,1,1,1,1,2,2,2,2]
[3,1,1,1,3,1,1,3,3,3,3,3,1,3,1,1,1,1,1,3,3,3,3]
[1,1,1,1,1,1,1,1,1,2,2,2,2,2,2,2,2,2,2,3,3,3,3]
[2,1,1,1,2,1,1,2,2,3,3,3,2,3,2,2,2,2,2,1,1,1,1]
[3,1,1,1,3,1,1,3,3,1,1,1,2,1,2,2,2,2,2,2,2,2,2]
[1,1,1,2,1,2,2,2,3,1,2,3,1,3,1,1,2,2,2,1,2,2,3]
[2,1,1,2,2,2,2,3,1,2,3,1,1,1,1,1,2,2,2,2,3,3,1]
[3,1,1,2,3,2,2,1,2,3,1,2,1,2,1,1,2,2,2,3,1,1,2]
[1,1,2,1,1,2,2,3,2,1,3,2,1,3,2,2,1,1,2,2,1,3,2]
[2,1,2,1,2,2,2,1,3,2,1,3,1,1,2,2,1,1,2,3,2,1,3]
[3,1,2,1,3,2,2,2,1,3,2,1,1,2,2,2,1,1,2,1,3,2,1]
[1,1,2,2,2,1,2,3,1,3,2,1,2,3,1,2,1,2,1,3,2,1,2]
[2,1,2,2,3,1,2,1,2,1,3,2,2,1,1,2,1,2,1,1,3,2,3]
[3,1,2,2,1,1,2,2,3,2,1,3,2,2,1,2,1,2,1,2,1,3,1]
[1,1,2,2,2,2,1,3,2,1,1,3,2,2,2,1,2,1,1,3,3,2,1]
[2,1,2,2,3,2,1,1,3,2,2,1,2,3,2,1,2,1,1,1,1,3,2]
[3,1,2,2,1,2,1,2,1,3,3,2,2,1,2,1,2,1,1,2,2,1,3]
[1,2,1,2,2,2,1,1,3,3,3,1,1,2,2,2,1,2,1,2,1,2,3]
[2,2,1,2,3,2,1,2,1,1,1,2,1,3,2,2,1,2,1,3,2,3,1]
[3,2,1,2,1,2,1,3,2,2,2,3,1,1,2,2,1,2,1,1,3,1,2]
[1,2,1,2,2,1,2,2,3,3,1,2,2,1,2,1,1,1,2,1,3,3,2]
[2,2,1,2,3,1,2,3,1,1,2,3,2,2,2,1,1,1,2,2,1,1,3]
[3,2,1,2,1,1,2,1,2,2,3,1,2,3,2,1,1,1,2,3,2,2,1]
[1,2,1,1,3,2,2,2,1,2,3,3,2,1,1,2,2,1,1,3,1,2,2]
[2,2,1,1,1,2,2,3,2,3,1,1,2,2,1,2,2,1,1,1,2,3,3]
[3,2,1,1,2,2,2,1,3,1,2,2,2,3,1,2,2,1,1,2,3,1,1]
[1,2,2,2,3,1,1,2,2,2,1,1,1,3,1,2,2,1,2,2,3,1,3]
[2,2,2,2,1,1,1,3,3,3,2,2,1,1,1,2,2,1,2,3,1,2,1]
[3,2,2,2,2,1,1,1,1,1,3,3,1,2,1,2,2,1,2,1,2,3,2]
[1,2,2,1,3,2,1,3,3,2,3,2,2,2,1,1,1,2,2,1,2,1,1]
[2,2,2,1,1,2,1,1,1,3,1,3,2,3,1,1,1,2,2,2,3,2,2]
[3,2,2,1,2,2,1,2,2,1,2,1,2,1,1,1,1,2,2,3,1,3,3]
[1,2,2,1,3,1,2,1,2,3,2,3,1,1,2,1,2,2,1,2,2,3,1]
[2,2,2,1,1,1,2,2,3,1,3,1,1,2,2,1,2,2,1,3,3,1,2]
[3,2,2,1,2,1,2,3,1,2,1,2,1,3,2,1,2,2,1,1,1,2,3]
[]
[3,2,2,2,3,2,2,3,3,3,3,3,2,3,2,2,2,2,2,3,3,3,3]