{"text_format":"3","workbook":"xlsx","n_sheets":3,"sheets":["Firm","Firm_ori","Sheet1"],"not_rendered":{"external_links":1},"read":"whole","date_system":"1900"}

{"sheet":"Firm","index":0,"n_rows":172,"n_cols":120,"rows_kept":172}
["Code","Name","Stock_Region","Stock_Name","Stock_Code","Chinese_Name","Report_Year","Assets","Revenue","Size","Num_Employ","Source","Type_Region",1,1.1,"1.1.1","1.1.2","1.1.3",1.2,"1.2.1","1.2.2","1.2.3",1.3,"1.3.1","1.3.1.1","1.3.1.2","1.3.1.3","1.3.1.4","1.3.1.5","1.3.1.6","1.3.1.7","1.3.2","1.3.2.1","1.3.3","1.3.3.1","1.3.3.2","1.3.3.3","1.3.3.4","1.3.3.5","1.3.3.6","1.3.3.7","1.3.4","1.3.4.1","1.3.4.2","1.3.4.3","1.3.5","1.3.5.1",1.4,"1.4.1","1.4.1.1","1.4.1.2","1.4.1.3","1.4.1.4","1.4.1.5","1.4.2","1.4.2.1","1.4.2.2","1.4.2.3","1.4.2.4","1.4.2.5","1.4.2.6","1.4.2.7","1.4.3","1.4.3.1","1.4.3.2","1.4.3.3","1.4.3.4","1.4.3.5","1.4.3.6","1.4.4","1.4.4.1","1.4.4.2","1.4.4.3","1.4.4.4","1.4.4.5","1.4.5","1.4.5.1","1.4.5.2","1.4.5.3","1.4.5.4","1.4.5.5","1.4.5.6","1.4.5.7","1.4.5.8","1.4.5.9",2,2.1,"2.1.1","2.1.1.1","2.1.1.2","2.1.1.3","2.1.1.4","2.1.1.5","2.1.2","2.1.2.1","2.1.2.2","2.1.2.3","2.1.2.4","2.1.3","2.1.3.1","2.1.3.2","2.1.3.3","2.1.3.4","2.1.3.5","2.1.3.6","2.1.3.7","2.1.4","2.1.4.1","2.1.4.1.1","2.1.4.1.2","2.1.4.1.3","2.1.4.1.4","2.1.4.2","2.1.4.2.1","2.1.4.2.2",2.2,2.3,"2.3.1","2.3.2","2.3.3"]
[0,"360科技","SH","三六零",{"$f":"VLOOKUP($D2,[1]Sheet1!$A$1:$M$5087,2,FALSE)","v":"601360.SH"},{"$f":"VLOOKUP($D2,[1]Sheet1!$A$1:$M$5087,9,FALSE)","v":"三六零安全科技股份有限公司"},2021,{"v":42040000000,"d":"42040000000.00"},{"v":10890000000,"d":"10890000000.00"},"L",{"v":7393,"d":"7393.00"},"qichacha","Beijing",{"$nulls":57},{"v":1,"d":"1.00"}]
[1,"51WORLD",null,"51WORLD",null,"北京五一视界数字孪生科技股份有限公司",2021,{"v":524000000,"d":"524000000.00"},{"v":138000000,"d":"138000000.00"},"M",{"v":171,"d":"171.00"},"qichacha","Beijing",{"$nulls":79},{"v":1,"d":"1.00"}]
[2,"706所",null,"706所",null,"北京航天爱威电子技术有限公司",{"$nulls":3},"M",{"v":113,"d":"113.00"},"qichacha","Beijing",{"$nulls":4},{"v":1,"d":"1.00"}]
[3,"艾克斯特",null,"艾克斯特",null,"北京艾克斯特科技有限公司",{"$nulls":3},"S",{"v":24,"d":"24.00"},"qichacha","Beijing",{"$nulls":14},{"v":1,"d":"1.00"},{"v":1,"d":"1.00"},{"v":1,"d":"1.00"},{"$nulls":12},{"v":1,"d":"1.00"}]
[4,"爱创科技",null,"爱创科技",null,"北京爱创科技股份有限公司",{"$nulls":3},"M",{"v":242,"d":"242.00"},"qichacha","Beijing",{"$nulls":7},{"v":1,"d":"1.00"}]
[5,"安华金和",null,"安华金和",null,"北京安华金和科技有限公司",{"$nulls":3},"S",{"v":74,"d":"74.00"},"qichacha","Beijing",{"$nulls":65},{"v":1,"d":"1.00"},{"v":1,"d":"1.00"},{"v":1,"d":"1.00"},{"$nulls":3},{"v":1,"d":"1.00"}]
[6,"安世亚太",null,"安世亚太",null,"安世亚太科技股份有限公司",2017,{"v":902000000,"d":"902000000.00"},{"v":159000000,"d":"159000000.00"},"M",{"v":167,"d":"167.00"},"qichacha","Beijing",{"$nulls":12},{"v":1,"d":"1.00"},{"$nulls":68},{"v":1,"d":"1.00"},{"v":1,"d":"1.00"},{"v":1,"d":"1.00"},{"v":1,"d":"1.00"}]
[7,"百望",null,"百望",null,"百望股份有限公司",{"$nulls":3},"L",{"v":436,"d":"436.00"},"qichacha","Beijing",{"$nulls":102},{"v":1,"d":"1.00"}]
[8,"梆梆安全",null,"梆梆安全",null,"北京梆梆安全科技有限公司",{"$nulls":3},"M",{"v":353,"d":"353.00"},"qichacha","Beijing",{"$nulls":36},{"v":1,"d":"1.00"}]
[9,"北京航天测控",null,"北京航天测控",null,"北京航天测控技术有限公司",{"$nulls":3},"L",{"v":392,"d":"392.00"},"qichacha","Beijing",{"$nulls":26},{"v":1,"d":"1.00"},{"v":1,"d":"1.00"}]
[10,"北京英贝思",null,"北京英贝思",null,"北京京能信息技术有限公司",{"$nulls":3},"M",{"v":123,"d":"123.00"},"qichacha","Beijing",{"$nulls":25},{"v":1,"d":"1.00"}]
[11,"北信源","SZ","北信源",{"$f":"VLOOKUP($D13,[1]Sheet1!$A$1:$M$5087,2,FALSE)","v":"300352.SZ"},{"$f":"VLOOKUP($D13,[1]Sheet1!$A$1:$M$5087,9,FALSE)","v":"北京北信源软件股份有限公司"},2021,{"v":2831000000,"d":"2831000000.00"},{"v":675000000,"d":"675000000.00"},"L",{"v":1699,"d":"1699.00"},"qichacha","Beijing",{"$nulls":58},{"v":1,"d":"1.00"}]
[12,"大唐软件",null,"大唐软件",null,"大唐软件技术股份有限公司",{"$nulls":3},"M",{"v":199,"d":"199.00"},"qichacha","Beijing",{"$nulls":6},{"v":1,"d":"1.00"}]
[13,"东方国信","SZ","东方国信",{"$f":"VLOOKUP($D15,[1]Sheet1!$A$1:$M$5087,2,FALSE)","v":"300166.SZ"},{"$f":"VLOOKUP($D15,[1]Sheet1!$A$1:$M$5087,9,FALSE)","v":"北京东方国信科技股份有限公司"},2021,{"v":8632000000,"d":"8632000000.00"},{"v":2470000000,"d":"2470000000.00"},"L",{"v":8688,"d":"8688.00"},"qichacha","Beijing",{"$nulls":7},{"v":1,"d":"1.00"},{"$nulls":78},{"v":1,"d":"1.00"},{"v":1,"d":"1.00"},{"v":1,"d":"1.00"},{"v":1,"d":"1.00"},{"v":1,"d":"1.00"},{"v":1,"d":"1.00"},{"v":1,"d":"1.00"},null,null,{"v":1,"d":"1.00"},{"v":1,"d":"1.00"},{"v":1,"d":"1.00"},{"v":1,"d":"1.00"},null,{"v":1,"d":"1.00"},{"v":1,"d":"1.00"},null,null,{"v":1,"d":"1.00"},{"v":1,"d":"1.00"},{"v":1,"d":"1.00"}]
[14,"东华软件","SZ","东华软件",{"$f":"VLOOKUP($D16,[1]Sheet1!$A$1:$M$5087,2,FALSE)","v":"002065.SZ"},{"$f":"VLOOKUP($D16,[1]Sheet1!$A$1:$M$5087,9,FALSE)","v":"东华软件股份公司"},2021,{"v":21070000000,"d":"21070000000.00"},{"v":10880000000,"d":"10880000000.00"},"L",{"v":11766,"d":"11766.00"},"qichacha","Beijing",{"$nulls":24},{"v":1,"d":"1.00"},{"$nulls":6},{"v":1,"d":"1.00"}]
[15,"东软集团","SH","东软集团",{"$f":"VLOOKUP($D17,[1]Sheet1!$A$1:$M$5087,2,FALSE)","v":"600718.SH"},{"$f":"VLOOKUP($D17,[1]Sheet1!$A$1:$M$5087,9,FALSE)","v":"东软集团股份有限公司"},2021,{"v":18310000000,"d":"18310000000.00"},{"v":8735000000,"d":"8735000000.00"},"L",{"v":17919,"d":"17919.00"},"qichacha","Beijing",{"$nulls":25},{"v":1,"d":"1.00"}]
[16,"东土科技","SZ","东土科技",{"$f":"VLOOKUP($D18,[1]Sheet1!$A$1:$M$5087,2,FALSE)","v":"300353.SZ"},{"$f":"VLOOKUP($D18,[1]Sheet1!$A$1:$M$5087,9,FALSE)","v":"北京东土科技股份有限公司"},2021,{"v":2357000000,"d":"2357000000.00"},{"v":941000000,"d":"941000000.00"},"L",{"v":1633,"d":"1633.00"},"qichacha","Beijing",{"$nulls":4},{"v":1,"d":"1.00"},{"$nulls":99},{"v":1,"d":"1.00"},{"v":1,"d":"1.00"},{"v":1,"d":"1.00"}]
[17,"国保金泰",null,"国保金泰",null,"北京国保金泰信息安全技术有限公司",{"$nulls":3},"S",{"v":32,"d":"32.00"},"qichacha","Beijing",{"$nulls":45},{"v":1,"d":"1.00"}]
[18,"国能智深",null,"国能智深",null,"国能智深控制技术有限公司",{"$nulls":3},"M",{"v":277,"d":"277.00"},"qichacha","Beijing",{"$nulls":22},{"v":1,"d":"1.00"}]
[19,"国泰网信",null,"国泰网信",null,"北京国泰网信科技有限公司",{"$nulls":3},"S",{"v":54,"d":"54.00"},"qichacha","Beijing",{"$nulls":42},{"v":1,"d":"1.00"}]
[20,"海基科技",null,"海基科技",null,"北京海基科技发展有限责任公司",{"$nulls":3},"XS",{"v":8,"d":"8.00"},"qichacha","Beijing",{"$nulls":12},{"v":1,"d":"1.00"}]
[21,"Hexagon","SE","Hexagon","HEXA.B","Hexagon AB",2021,{"v":4348926705,"d":"4348926705.00"},{"v":2364879075,"d":"2364879075.00"},"L",{"v":22000,"d":"22000.00"},"hexagon","Foreign",{"$nulls":13},{"v":1,"d":"1.00"}]
[22,"航天云网",null,"航天云网",null,"航天云网科技发展有限责任公司",{"$nulls":3},"S",{"v":99,"d":"99.00"},"qichacha","Beijing",{"$nulls":6},{"v":1,"d":"1.00"},{"v":1,"d":"1.00"},{"$nulls":18},{"v":1,"d":"1.00"},{"$nulls":48},{"v":1,"d":"1.00"},{"v":1,"d":"1.00"},{"v":1,"d":"1.00"},{"v":1,"d":"1.00"},{"v":1,"d":"1.00"},{"$nulls":6},{"v":1,"d":"1.00"},{"v":1,"d":"1.00"},{"v":1,"d":"1.00"},{"v":1,"d":"1.00"},{"v":1,"d":"1.00"},{"v":1,"d":"1.00"},{"v":1,"d":"1.00"},null,null,{"v":1,"d":"1.00"},{"v":1,"d":"1.00"},{"v":1,"d":"1.00"},{"v":1,"d":"1.00"},null,{"v":1,"d":"1.00"},{"v":1,"d":"1.00"},null,null,{"v":1,"d":"1.00"},{"v":1,"d":"1.00"},{"v":1,"d":"1.00"}]
[23,"和利时","US","和利时","HOLI","和利时科技集团有限公司",2021,{"v":10365469659.9,"d":"10365469659.90"},{"v":4857504838.2,"d":"4857504838.20"},"S",{"v":63,"d":"63.00"},"hollysys","Beijing",{"$nulls":3},{"v":1,"d":"1.00"},{"$nulls":17},{"v":1,"d":"1.00"},{"v":1,"d":"1.00"},{"v":1,"d":"1.00"},{"v":1,"d":"1.00"},{"$nulls":23},{"v":1,"d":"1.00"},{"$nulls":42},{"v":1,"d":"1.00"},{"$nulls":12},{"v":1,"d":"1.00"},{"v":1,"d":"1.00"},{"v":1,"d":"1.00"}]
[24,"华大电子","HK","华大电子","85","北京中电华大电子设计有限责任公司",2021,{"v":2486434448,"d":"2486434448.00"},{"v":1471783580.8,"d":"1471783580.80"},"M",{"v":272,"d":"272.00"},"hkexnews","Beijing",null,null,{"v":1,"d":"1.00"}]
[25,"华大九天","SZ","华大九天",{"$f":"VLOOKUP($D27,[1]Sheet1!$A$1:$M$5087,2,FALSE)","v":"301269.SZ"},{"$f":"VLOOKUP($D27,[1]Sheet1!$A$1:$M$5087,9,FALSE)","v":"北京华大九天科技股份有限公司"},2021,{"v":1802000000,"d":"1802000000.00"},{"v":579000000,"d":"579000000.00"},"L",{"v":660,"d":"660.00"},"qichacha","Beijing",{"$nulls":17},{"v":1,"d":"1.00"}]
[26,"寄云科技",null,"寄云科技",null,"北京寄云科技有限公司",{"$nulls":3},"XS",{"v":2,"d":"2.00"},null,"Beijing",{"$nulls":86},{"v":1,"d":"1.00"},{"v":1,"d":"1.00"},{"v":1,"d":"1.00"},{"v":1,"d":"1.00"},{"v":1,"d":"1.00"},{"v":1,"d":"1.00"},{"v":1,"d":"1.00"}]
[27,"江南天安",null,"江南天安",null,"北京江南天安科技有限公司",{"$nulls":3},"M",{"v":192,"d":"192.00"},"qichacha","Beijing",{"$nulls":58},{"v":1,"d":"1.00"}]
[28,"金山云","HK","金山云","3896","北京金山云网络技术有限公司",2021,{"v":19000334000,"d":"19000334000.00"},{"v":4080307000,"d":"4080307000.00"},"L",{"v":1315,"d":"1315.00"},"hkexnews","Beijing",{"$nulls":102},{"v":1,"d":"1.00"}]
[29,"京东工业品","US","京东集团","JD","北京京东数智工业科技有限公司",2021,{"v":496507000000,"d":"496507000000.00"},{"v":951592000000,"d":"951592000000.00"},"M",{"v":362,"d":"362.00"},"jd","Beijing",{"$nulls":26},{"v":1,"d":"1.00"}]
[30,"可信华泰",null,"可信华泰",null,"北京可信华泰信息技术有限公司",{"$nulls":3},"M",{"v":176,"d":"176.00"},"qichacha","Beijing",{"$nulls":47},{"v":1,"d":"1.00"}]
[31,"昆仑数据",null,"昆仑数据",null,"四川昆仑智汇数据科技有限公司",{"$nulls":3},"S",{"v":16,"d":"16.00"},"qichacha","Non_Beijing",{"$nulls":23},{"v":1,"d":"1.00"},{"$nulls":71},{"v":1,"d":"1.00"},{"v":1,"d":"1.00"},{"v":1,"d":"1.00"},{"v":1,"d":"1.00"},null,{"v":1,"d":"1.00"},{"v":1,"d":"1.00"}]
[32,"兰光创新",null,"兰光创新",null,"北京兰光创新科技有限公司",{"$nulls":3},"S",{"v":96,"d":"96.00"},"qichacha","Beijing",{"$nulls":8},{"v":1,"d":"1.00"}]
[33,"蓝谷信息",null,"蓝谷信息",null,"北汽蓝谷信息技术有限公司",{"$nulls":3},"S",{"v":87,"d":"87.00"},"qichacha","Beijing",{"$nulls":81},{"v":1,"d":"1.00"},{"v":1,"d":"1.00"},{"v":1,"d":"1.00"},{"v":1,"d":"1.00"}]
[34,"力控科技",null,"力控科技",null,"北京力控元通科技有限公司",{"$nulls":3},"M",{"v":251,"d":"251.00"},"qichacha","Beijing",{"$nulls":23},{"v":1,"d":"1.00"}]
[35,"凌昊智能",null,"凌昊智能",null,"北京鲲鹏凌昊智能技术有限公司",{"$nulls":3},"S",{"v":59,"d":"59.00"},"qichacha","Beijing",{"$nulls":4},{"v":1,"d":"1.00"}]
[36,"龙芯中科","SH","龙芯中科",{"$f":"VLOOKUP($D38,[1]Sheet1!$A$1:$M$5087,2,FALSE)","v":"688047.SH"},{"$f":"VLOOKUP($D38,[1]Sheet1!$A$1:$M$5087,9,FALSE)","v":"龙芯中科技术股份有限公司"},2021,{"v":1989000000,"d":"1989000000.00"},{"v":1201000000,"d":"1201000000.00"},"L",{"v":822,"d":"822.00"},"qichacha","Beijing",null,null,{"v":1,"d":"1.00"}]
[37,"绿盟","SZ","绿盟科技",{"$f":"VLOOKUP($D39,[1]Sheet1!$A$1:$M$5087,2,FALSE)","v":"300369.SZ"},{"$f":"VLOOKUP($D39,[1]Sheet1!$A$1:$M$5087,9,FALSE)","v":"绿盟科技集团股份有限公司"},2021,{"v":4765000000,"d":"4765000000.00"},{"v":2609000000,"d":"2609000000.00"},"L",{"v":4422,"d":"4422.00"},"qichacha","Beijing",{"$nulls":37},{"v":1,"d":"1.00"},null,{"v":1,"d":"1.00"},{"$nulls":3},{"v":1,"d":"1.00"},{"$nulls":6},{"v":1,"d":"1.00"},{"$nulls":8},{"v":1,"d":"1.00"},{"$nulls":4},{"v":1,"d":"1.00"}]
[38,"牛刀",null,"起步科技",null,"北京起步科技股份有限公司",{"$nulls":3},"S",{"v":18,"d":"18.00"},"qichacha","Beijing",{"$nulls":75},{"v":1,"d":"1.00"},{"v":1,"d":"1.00"},{"v":1,"d":"1.00"},{"v":1,"d":"1.00"},{"v":1,"d":"1.00"}]
[39,"Autodesk","US","Autodesk","ADSK","Autodesk Inc",2021,{"v":50085024000,"d":"50085024000.00"},{"v":26080016000,"d":"26080016000.00"},null,null,"marketwatch","Foreign",{"$nulls":13},{"v":1,"d":"1.00"}]
[40,"奇安信","SH","奇安信",{"$f":"VLOOKUP($D42,[1]Sheet1!$A$1:$M$5087,2,FALSE)","v":"688561.SH"},{"$f":"VLOOKUP($D42,[1]Sheet1!$A$1:$M$5087,9,FALSE)","v":"奇安信科技集团股份有限公司"},2021,{"v":13480000000.000002,"d":"13480000000.00"},{"v":5809000000,"d":"5809000000.00"},"L",{"v":9657,"d":"9657.00"},"qichacha","Beijing",{"$nulls":42},{"v":1,"d":"1.00"},{"$nulls":3},{"v":1,"d":"1.00"},{"$nulls":5},{"v":1,"d":"1.00"},{"$nulls":8},{"v":1,"d":"1.00"}]
[41,"启明星辰","SZ","启明星辰",{"$f":"VLOOKUP($D43,[1]Sheet1!$A$1:$M$5087,2,FALSE)","v":"002439.SZ"},{"$f":"VLOOKUP($D43,[1]Sheet1!$A$1:$M$5087,9,FALSE)","v":"启明星辰信息技术集团股份有限公司"},2021,{"v":8936000000,"d":"8936000000.00"},{"v":4386000000,"d":"4386000000.00"},"L",{"v":6587,"d":"6587.00"},"qichacha","Beijing",{"$nulls":37},{"v":1,"d":"1.00"},null,null,{"v":1,"d":"1.00"},{"$nulls":9},{"v":1,"d":"1.00"},{"v":1,"d":"1.00"},null,{"v":1,"d":"1.00"},{"v":1,"d":"1.00"},{"$nulls":8},{"v":1,"d":"1.00"},{"v":1,"d":"1.00"},{"$nulls":5},{"v":1,"d":"1.00"}]
[42,"山大华天",null,"山大华天",null,"山东山大华天软件有限公司",{"$nulls":3},"M",{"v":510,"d":"510.00"},"qichacha","Beijing",{"$nulls":11},{"v":1,"d":"1.00"},null,{"v":1,"d":"1.00"},{"v":1,"d":"1.00"}]
[43,"神舟软件",null,"神舟软件",null,"北京神舟航天软件技术股份有限公司",2021,{"v":3042000000,"d":"3042000000.00"},{"v":1502000000,"d":"1502000000.00"},"L",{"v":593,"d":"593.00"},"qichacha","Beijing",{"$nulls":15},{"v":1,"d":"1.00"},{"v":1,"d":"1.00"}]
[44,"圣邦微电子",null,"圣邦微电子",null,"圣邦微电子（北京）股份有限公司",2021,{"v":3049000000,"d":"3049000000.00"},{"v":2238000000,"d":"2238000000.00"},"M",{"v":858,"d":"858.00"},"qichacha","Beijing",null,null,{"v":1,"d":"1.00"}]
[45,"石化盈科",null,"石化盈科",null,"石化盈科信息技术有限责任公司",{"$nulls":3},"M",{"v":1500,"d":"1500.00"},"qichacha","Beijing",{"$nulls":21},{"v":1,"d":"1.00"},{"$nulls":7},{"v":1,"d":"1.00"},{"v":1,"d":"1.00"},{"$nulls":64},{"v":1,"d":"1.00"},{"v":1,"d":"1.00"},{"v":1,"d":"1.00"},{"v":1,"d":"1.00"},null,{"v":1,"d":"1.00"},{"v":1,"d":"1.00"}]
[46,"适创科技",null,"适创科技",null,"北京适创科技有限公司",{"$nulls":3},"S",{"v":40,"d":"40.00"},"qichacha","Beijing",{"$nulls":12},{"v":1,"d":"1.00"}]
[47,"首自信",null,"首自信",null,"北京首钢自动化信息技术有限公司",{"$nulls":3},"L",{"v":1357,"d":"1357.00"},"qichacha","Beijing",{"$nulls":75},{"v":1,"d":"1.00"},{"v":1,"d":"1.00"},{"v":1,"d":"1.00"},{"v":1,"d":"1.00"},null,null,{"v":1,"d":"1.00"},{"v":1,"d":"1.00"},{"v":1,"d":"1.00"},{"v":1,"d":"1.00"},{"$nulls":6},{"v":1,"d":"1.00"}]
[48,"曙光信息","SH","曙光信息","603019.SH","曙光信息产业股份有限公司",2021,{"v":26189999999.999996,"d":"26190000000.00"},{"v":11200000000,"d":"11200000000.00"},"L",{"v":4103,"d":"4103.00"},"qichacha","Non_Beijing",{"$nulls":7},{"v":1,"d":"1.00"}]
[49,"数码大方",null,"数码大方",null,"北京数码大方科技股份有限公司",2017,{"v":219000000,"d":"219000000.00"},{"v":122000000,"d":"122000000.00"},"M",{"v":326,"d":"326.00"},"qichacha","Beijing",{"$nulls":11},{"v":1,"d":"1.00"},null,null,{"v":1,"d":"1.00"},null,{"v":1,"d":"1.00"},{"$nulls":4},{"v":1,"d":"1.00"},{"$nulls":59},{"v":1,"d":"1.00"},{"v":1,"d":"1.00"},{"v":1,"d":"1.00"},{"v":1,"d":"1.00"}]
[50,"索为系统",null,"索为系统",null,"索为技术股份有限公司",{"$nulls":3},"M",{"v":392,"d":"392.00"},"qichacha","Non_Beijing",{"$nulls":15},{"v":1,"d":"1.00"}]
[51,"天地和兴",null,"天地和兴",null,"北京天地和兴科技有限公司",{"$nulls":3},"M",{"v":100,"d":"100.00"},"qichacha","Beijing",{"$nulls":42},{"v":1,"d":"1.00"}]
[52,"天空卫士",null,"天空卫士",null,"北京天空卫士网络安全技术有限公司",{"$nulls":3},"S",{"v":64,"d":"64.00"},"qichacha","Beijing",{"$nulls":67},{"v":1,"d":"1.00"}]
[53,"天融信","SZ","天融信",{"$f":"VLOOKUP($D55,[1]Sheet1!$A$1:$M$5087,2,FALSE)","v":"002212.SZ"},{"$f":"VLOOKUP($D55,[1]Sheet1!$A$1:$M$5087,9,FALSE)","v":"天融信科技集团股份有限公司"},2021,{"v":11600000000,"d":"11600000000.00"},{"v":3352000000.0000005,"d":"3352000000.00"},"L",{"v":6269,"d":"6269.00"},"qichacha","Beijing",{"$nulls":38},{"v":1,"d":"1.00"},{"v":1,"d":"1.00"},{"v":1,"d":"1.00"},{"$nulls":3},{"v":1,"d":"1.00"},{"v":1,"d":"1.00"},{"$nulls":6},{"v":1,"d":"1.00"},{"v":1,"d":"1.00"},{"v":1,"d":"1.00"},{"v":1,"d":"1.00"},{"$nulls":4},{"v":1,"d":"1.00"},{"$nulls":3},{"v":1,"d":"1.00"},{"v":1,"d":"1.00"},null,null,{"v":1,"d":"1.00"},{"v":1,"d":"1.00"},{"v":1,"d":"1.00"}]
[54,"网御星云",null,"网御星云",null,"北京网御星云信息技术有限公司",{"$nulls":3},"L",{"v":1579,"d":"1579.00"},"qichacha","Beijing",{"$nulls":38},{"v":1,"d":"1.00"},{"$nulls":6},{"v":1,"d":"1.00"},{"$nulls":13},{"v":1,"d":"1.00"}]
[55,"威努特",null,"威努特",null,"北京威努特技术有限公司",{"$nulls":3},"M",{"v":379,"d":"379.00"},"qichacha","Beijing",{"$nulls":36},{"v":1,"d":"1.00"},{"v":1,"d":"1.00"},{"v":1,"d":"1.00"},{"$nulls":3},{"v":1,"d":"1.00"},{"v":1,"d":"1.00"},{"$nulls":16},{"v":1,"d":"1.00"}]
[56,"芯愿景",null,"芯愿景",null,"北京芯愿景软件技术股份有限公司",2020,{"v":438999999.99999994,"d":"439000000.00"},{"v":181000000,"d":"181000000.00"},"L",{"v":364,"d":"364.00"},"qichacha","Beijing",null,null,{"v":1,"d":"1.00"},{"$nulls":14},{"v":1,"d":"1.00"}]
[57,"亚控科技",null,"亚控科技",null,"北京亚控科技发展有限公司",{"$nulls":3},"M",{"v":140,"d":"140.00"},"qichacha","Beijing",{"$nulls":23},{"v":1,"d":"1.00"},{"$nulls":80},{"v":1,"d":"1.00"},{"v":1,"d":"1.00"},{"v":1,"d":"1.00"}]
[58,"用友","SH","用友网络",{"$f":"VLOOKUP($D60,[1]Sheet1!$A$1:$M$5087,2,FALSE)","v":"600588.SH"},{"$f":"VLOOKUP($D60,[1]Sheet1!$A$1:$M$5087,9,FALSE)","v":"用友网络科技股份有限公司"},2021,{"v":17330000000,"d":"17330000000.00"},{"v":8932000000,"d":"8932000000.00"},"L",{"v":23684,"d":"23684.00"},"qichacha","Beijing",{"$nulls":7},{"v":1,"d":"1.00"},{"$nulls":8},{"v":1,"d":"1.00"},null,null,{"v":1,"d":"1.00"},{"$nulls":9},{"v":1,"d":"1.00"},{"v":1,"d":"1.00"},{"v":1,"d":"1.00"},{"$nulls":49},{"v":1,"d":"1.00"},{"v":1,"d":"1.00"},{"v":1,"d":"1.00"},{"v":1,"d":"1.00"}]
[59,"优特捷",null,"优特捷",null,"北京优特捷信息技术有限公司",{"$nulls":3},"M",{"v":112,"d":"112.00"},"qichacha","Beijing",{"$nulls":46},{"v":1,"d":"1.00"}]
[60,"宇动源",null,"宇动源",null,"北京宇动源科技有限公司",{"$nulls":3},"S",{"v":50,"d":"50.00"},"qichacha","Beijing",{"$nulls":75},{"v":1,"d":"1.00"},{"v":1,"d":"1.00"},{"v":1,"d":"1.00"},{"v":1,"d":"1.00"},{"v":1,"d":"1.00"}]
[61,"元年科技",null,"元年科技",null,"北京元年科技股份有限公司",2017,{"v":629000000,"d":"629000000.00"},{"v":250999999.99999997,"d":"251000000.00"},"L",{"v":334,"d":"334.00"},"qichacha","Beijing",{"$nulls":23},{"v":1,"d":"1.00"}]
[62,"云道智造",null,"云道智造",null,"北京云道智造科技有限公司",{"$nulls":3},"S",{"v":86,"d":"86.00"},"qichacha","Beijing",{"$nulls":12},{"v":1,"d":"1.00"},{"$nulls":68},{"v":1,"d":"1.00"},{"v":1,"d":"1.00"},{"v":1,"d":"1.00"},{"v":1,"d":"1.00"}]
[63,"长扬科技",null,"长扬科技",null,"长扬科技（北京）股份有限公司",{"$nulls":3},"M",{"v":364,"d":"364.00"},"qichacha","Beijing",{"$nulls":36},{"v":1,"d":"1.00"},{"$nulls":8},{"v":1,"d":"1.00"},{"$nulls":15},{"v":1,"d":"1.00"}]
[64,"中电智科",null,"中电智科",null,"中电智能科技有限公司",{"$nulls":3},"M",{"v":156,"d":"156.00"},"qichacha","Beijing",{"$nulls":3},{"v":1,"d":"1.00"}]
[65,"中国电信","SH","中国电信",{"$f":"VLOOKUP($D67,[1]Sheet1!$A$1:$M$5087,2,FALSE)","v":"601728.SH"},{"$f":"VLOOKUP($D67,[1]Sheet1!$A$1:$M$5087,9,FALSE)","v":"中国电信股份有限公司"},2021,{"v":762234000000,"d":"762234000000.00"},{"v":439552000000.00006,"d":"439552000000.00"},"L",{"v":278922,"d":"278922.00"},"qichacha","Beijing",{"$nulls":6},{"v":1,"d":"1.00"}]
[66,"中国联通","SH","中国联通",{"$f":"VLOOKUP($D68,[1]Sheet1!$A$1:$M$5087,2,FALSE)","v":"600050.SH"},{"$f":"VLOOKUP($D68,[1]Sheet1!$A$1:$M$5087,9,FALSE)","v":"中国联合网络通信股份有限公司"},2021,{"v":593300000000,"d":"593300000000.00"},{"v":327900000000,"d":"327900000000.00"},"L",{"v":242661,"d":"242661.00"},"qichacha","Beijing",{"$nulls":6},{"v":1,"d":"1.00"}]
[67,"中国移动","SH","中国移动",{"$f":"VLOOKUP($D69,[1]Sheet1!$A$1:$M$5087,2,FALSE)","v":"600941.SH"},"中国移动通信有限公司",2021,{"v":1840000000000,"d":"1840000000000.00"},{"v":848258000000,"d":"848258000000.00"},"L",{"v":4585,"d":"4585.00"},"qichacha","Beijing",{"$nulls":6},{"v":1,"d":"1.00"}]
[68,"中望软件","SH","中望软件",{"$f":"VLOOKUP($D70,[1]Sheet1!$A$1:$M$5087,2,FALSE)","v":"688083.SH"},{"$f":"VLOOKUP($D70,[1]Sheet1!$A$1:$M$5087,9,FALSE)","v":"广州中望龙腾软件股份有限公司"},2021,{"v":3117000000,"d":"3117000000.00"},{"v":618000000,"d":"618000000.00"},"L",{"v":1687,"d":"1687.00"},"qichacha","Beijing",{"$nulls":11},{"v":1,"d":"1.00"},{"v":1,"d":"1.00"},{"v":1,"d":"1.00"}]
[69,"紫光集团","SZ","紫光股份",{"$f":"VLOOKUP($D71,[1]Sheet1!$A$1:$M$5087,2,FALSE)","v":"000938.SZ"},{"$f":"VLOOKUP($D71,[1]Sheet1!$A$1:$M$5087,9,FALSE)","v":"紫光股份有限公司"},2021,{"v":66429999999.99999,"d":"66430000000.00"},{"v":67640000000,"d":"67640000000.00"},"L",{"v":17147,"d":"17147.00"},"qichacha","Beijing",null,null,{"v":1,"d":"1.00"}]
[70,"ABB","US","ABB","ABB","Abb Ltd",2021,{"v":252378345120,"d":"252378345120.00"},182093636180.16,null,null,"marketwatch","Foreign",{"$nulls":22},{"v":1,"d":"1.00"},null,{"v":1,"d":"1.00"}]
[71,"Altair","US","Altair","ALTR","Altair Engineering Inc",2021,{"v":8003332000,"d":"8003332000.00"},{"v":3661391520,"d":"3661391520.00"},null,null,"marketwatch","Foreign",{"$nulls":12},{"v":1,"d":"1.00"}]
[72,"ANSYS","US","ANSYS","ANSS","ANSYS Inc",2021,{"v":43511280320,"d":"43511280320.00"},{"v":13118199200,"d":"13118199200.00"},null,null,"marketwatch","Foreign",{"$nulls":12},{"v":1,"d":"1.00"}]
[73,"FANUC","JP","FANUC","6954","Fanuc Corp",2021,{"v":83161023470,"d":"83161023470.00"},{"v":28209355790,"d":"28209355790.00"},null,null,"fanuc","Foreign",{"$nulls":86},{"v":1,"d":"1.00"},{"v":1,"d":"1.00"},{"v":1,"d":"1.00"},{"v":1,"d":"1.00"},{"v":1,"d":"1.00"},{"v":1,"d":"1.00"},{"v":1,"d":"1.00"}]
[74,"HoneyWell","US","HoneyWell","HON","Honeywell International Inc",2021,{"v":443553600000,"d":"443553600000.00"},{"v":236582560000,"d":"236582560000.00"},null,null,"marketwatch","Foreign",{"$nulls":22},{"v":1,"d":"1.00"},{"$nulls":63},{"v":1,"d":"1.00"},{"v":1,"d":"1.00"},{"v":1,"d":"1.00"},{"v":1,"d":"1.00"},{"v":1,"d":"1.00"},{"v":1,"d":"1.00"},{"v":1,"d":"1.00"}]
[75,"IBM","US","IBM","IBM","International Business Machines Corp",2021,{"v":908166880000,"d":"908166880000.00"},{"v":394574880000,"d":"394574880000.00"},null,null,"marketwatch","Foreign",{"$nulls":25},{"v":1,"d":"1.00"}]
[76,"MasterCAM",null,"MasterCAM",null,"CNC Software LLC",2021,null,{"v":516000000,"d":"516000000.00"},null,null,"zippia","Foreign",{"$nulls":13},{"v":1,"d":"1.00"}]
[77,"Oracle","US","Oracle","ORCL","Oracle Corp",2021,{"v":902016160000,"d":"902016160000.00"},{"v":278495520000,"d":"278495520000.00"},null,null,"marketwatch","Foreign",{"$nulls":26},{"v":1,"d":"1.00"},null,null,{"v":1,"d":"1.00"},{"v":1,"d":"1.00"},{"v":1,"d":"1.00"}]
[78,"OutSystems",null,"OutSystems",null,"OutSystems",2021,null,{"v":2004763250,"d":"2004763250.00"},null,null,"forbes","Foreign",{"$nulls":75},{"v":1,"d":"1.00"},{"v":1,"d":"1.00"},{"v":1,"d":"1.00"},{"v":1,"d":"1.00"},{"v":1,"d":"1.00"}]
[79,"PTC","US","PTC","PTC","PTC Inc",2021,{"v":31012012800.000004,"d":"31012012800.00"},{"v":12433253920,"d":"12433253920.00"},null,null,"marketwatch","Foreign",{"$nulls":11},{"v":1,"d":"1.00"},null,null,{"v":1,"d":"1.00"},null,{"v":1,"d":"1.00"},{"$nulls":64},{"v":1,"d":"1.00"},{"v":1,"d":"1.00"},{"v":1,"d":"1.00"},{"v":1,"d":"1.00"},null,{"v":1,"d":"1.00"},{"v":1,"d":"1.00"},{"v":1,"d":"1.00"},{"v":1,"d":"1.00"},{"v":1,"d":"1.00"},{"v":1,"d":"1.00"},{"v":1,"d":"1.00"},null,null,{"v":1,"d":"1.00"},{"v":1,"d":"1.00"},{"v":1,"d":"1.00"},{"v":1,"d":"1.00"},null,{"v":1,"d":"1.00"},{"v":1,"d":"1.00"},null,null,{"v":1,"d":"1.00"},{"v":1,"d":"1.00"},{"v":1,"d":"1.00"}]
[80,"Salesforce","US","Salesforce","CRM","Salesforce Inc",2021,{"v":456150879999.99994,"d":"456150880000.00"},{"v":146213760000,"d":"146213760000.00"},null,null,"marketwatch","Foreign",{"$nulls":29},{"v":1,"d":"1.00"},{"v":1,"d":"1.00"},{"v":1,"d":"1.00"},{"$nulls":43},{"v":1,"d":"1.00"},{"v":1,"d":"1.00"},{"v":1,"d":"1.00"},{"v":1,"d":"1.00"},{"v":1,"d":"1.00"}]
[81,"SAP","US","SAP","SAP","SAP SE",2021,{"v":489642720000,"d":"489642720000.00"},{"v":191552960000,"d":"191552960000.00"},null,null,"marketwatch","Foreign",{"$nulls":29},{"v":1,"d":"1.00"},{"v":1,"d":"1.00"},{"v":1,"d":"1.00"},{"$nulls":49},{"v":1,"d":"1.00"},{"v":1,"d":"1.00"},{"v":1,"d":"1.00"},{"v":1,"d":"1.00"},{"$nulls":10},{"v":1,"d":"1.00"},{"v":1,"d":"1.00"},{"v":1,"d":"1.00"},{"v":1,"d":"1.00"},null,{"v":1,"d":"1.00"},{"v":1,"d":"1.00"}]
[82,"Uptake",null,"Uptake",null,"Uptake Technologies Inc",2021,null,{"v":67424000,"d":"67424000.00"},null,null,"zippia","Foreign",{"$nulls":81},{"v":1,"d":"1.00"},{"v":1,"d":"1.00"},{"v":1,"d":"1.00"},{"v":1,"d":"1.00"}]
[83,"Emerson","US","Emerson","EMR","Emerson Electric Co",2021,{"v":170039200000,"d":"170039200000.00"},{"v":125443040000,"d":"125443040000.00"},null,null,"marketwatch","Foreign",{"$nulls":22},{"v":1,"d":"1.00"}]
[84,"Bosch",null,"Bosch",null,"Bosch Ltd",2021,{"v":780540611500,"d":"780540611500.00"},{"v":570962374000,"d":"570962374000.00"},null,null,"bosch","Foreign",{"$nulls":81},{"v":1,"d":"1.00"},{"v":1,"d":"1.00"},{"v":1,"d":"1.00"},{"v":1,"d":"1.00"},{"$nulls":10},{"v":1,"d":"1.00"},{"v":1,"d":"1.00"},{"v":1,"d":"1.00"},{"v":1,"d":"1.00"},null,{"v":1,"d":"1.00"},{"v":1,"d":"1.00"},null,null,{"v":1,"d":"1.00"},{"v":1,"d":"1.00"},{"v":1,"d":"1.00"}]
[85,"Dassault","FR","Dassault","DSY","Dassault Systemes SE",2021,{"v":1044022266200,"d":"1044022266200.00"},{"v":356857702600,"d":"356857702600.00"},null,null,"dassault ","Foreign",{"$nulls":11},{"v":1,"d":"1.00"},null,{"v":1,"d":"1.00"},{"v":1,"d":"1.00"},null,{"v":1,"d":"1.00"},{"$nulls":58},{"v":1,"d":"1.00"},{"v":1,"d":"1.00"},{"v":1,"d":"1.00"},{"v":1,"d":"1.00"},{"v":1,"d":"1.00"}]
[86,"Dell EMC","US","Dell","DELL","Dell Inc",2021,{"v":849095199999.9999,"d":"849095200000.00"},{"v":596963840000,"d":"596963840000.00"},null,null,"marketwatch","Foreign",{"$nulls":4},{"v":1,"d":"1.00"}]
[87,"Texas Instruments","US","Texas Instruments","TXN","Texas Instruments Inc",2021,{"v":169770880000,"d":"169770880000.00"},{"v":126206720000,"d":"126206720000.00"},null,null,"marketwatch","Foreign",null,null,{"v":1,"d":"1.00"}]
[88,"HPE","US","HPE","HPE","Hewlett Packard Enterprise Co",2021,{"v":396969120000,"d":"396969120000.00"},{"v":191711200000,"d":"191711200000.00"},null,null,"marketwatch","Foreign",{"$nulls":4},{"v":1,"d":"1.00"}]
[89,"Rockwell","US","Rockwell","ROK","Rockwell Automation Inc",2021,{"v":75779072000,"d":"75779072000.00"},{"v":48129040000,"d":"48129040000.00"},null,null,"marketwatch","Foreign",{"$nulls":3},{"v":1,"d":"1.00"},null,null,{"v":1,"d":"1.00"},{"$nulls":14},{"v":1,"d":"1.00"}]
[90,"Mentor Graphics",null,"Mentor Graphics",null,"Siemens EDA",2023,null,{"v":5346448000,"d":"5346448000.00"},null,null,"zoominfo","Foreign",{"$nulls":17},{"v":1,"d":"1.00"}]
[91,"Moxa",null,"Moxa",null,"Moxa Inc",2023,null,{"v":1733759999.9999998,"d":"1733760000.00"},null,{"v":1006,"d":"1006.00"},"rocketreach","Foreign",{"$nulls":6},{"v":1,"d":"1.00"}]
[92,"Omron","JP","Omron","6645","Omron Corp",2021,{"v":47620285930,"d":"47620285930.00"},{"v":39038974590,"d":"39038974590.00"},null,null,"omron","Foreign",{"$nulls":24},{"v":1,"d":"1.00"}]
[93,"Cadence","US","Cadence","CDNS","Cadence Design Systems Inc",2021,{"v":30177737120,"d":"30177737120.00"},{"v":20559118720,"d":"20559118720.00"},null,null,"marketwatch","Foreign",{"$nulls":17},{"v":1,"d":"1.00"}]
[94,"Mitsubishi","JP","Mitsubishi","6503","Mitsubishi Electric Corp",2021,{"v":1121237654040,"d":"1121237654040.00"},{"v":883441248760,"d":"883441248760.00"},null,null,"mitsubishi","Foreign",{"$nulls":3},{"v":1,"d":"1.00"}]
[95,"Schneider","FR","Schneider","SU","Schneider Electric SE",2021,{"v":400516802200,"d":"400516802200.00"},{"v":212237853000,"d":"212237853000.00"},null,null,"schneider","Foreign",{"$nulls":8},{"v":1,"d":"1.00"},{"$nulls":95},{"v":1,"d":"1.00"},{"v":1,"d":"1.00"},{"v":1,"d":"1.00"}]
[96,"Cisco","US","Cisco","CSCO","Cisco Systems Inc",2021,{"v":670779360000,"d":"670779360000.00"},{"v":342747840000,"d":"342747840000.00"},null,null,"marketwatch","Foreign",{"$nulls":6},{"v":1,"d":"1.00"},null,{"v":1,"d":"1.00"}]
[97,"General Electric","US","General Electric","GE","General Electric Co",2021,{"v":1368253120000,"d":"1368253120000.00"},{"v":510317120000,"d":"510317120000.00"},null,null,"marketwatch","Foreign",{"$nulls":8},{"v":1,"d":"1.00"},{"$nulls":12},{"v":1,"d":"1.00"},null,{"v":1,"d":"1.00"},{"$nulls":62},{"v":1,"d":"1.00"},{"v":1,"d":"1.00"},{"v":1,"d":"1.00"},{"v":1,"d":"1.00"},{"v":1,"d":"1.00"},{"v":1,"d":"1.00"},{"v":1,"d":"1.00"}]
[98,"Microsoft Azure","US","Microsoft","MSFT","Microsoft Co",2021,{"v":2296399520000,"d":"2296399520000.00"},{"v":1156445440000,"d":"1156445440000.00"},null,null,"marketwatch","Foreign",{"$nulls":102},{"v":1,"d":"1.00"}]
[99,"Siemens","XE","Siemens","SIE","Siemens AG",2021,{"v":1023352847200,"d":"1023352847200.00"},{"v":457186989000,"d":"457186989000.00"},null,null,"siemens","Foreign",{"$nulls":3},{"v":1,"d":"1.00"},null,null,{"v":1,"d":"1.00"},{"$nulls":4},{"v":1,"d":"1.00"},{"v":1,"d":"1.00"},{"v":1,"d":"1.00"},{"v":1,"d":"1.00"},{"v":1,"d":"1.00"},{"v":1,"d":"1.00"},{"$nulls":4},{"v":1,"d":"1.00"},null,{"v":1,"d":"1.00"},{"v":1,"d":"1.00"},{"$nulls":50},{"v":1,"d":"1.00"},{"v":1,"d":"1.00"},{"v":1,"d":"1.00"},{"v":1,"d":"1.00"},{"v":1,"d":"1.00"},null,{"v":1,"d":"1.00"},{"v":1,"d":"1.00"},{"v":1,"d":"1.00"},{"v":1,"d":"1.00"},null,{"v":1,"d":"1.00"},{"v":1,"d":"1.00"},{"v":1,"d":"1.00"},{"v":1,"d":"1.00"},{"v":1,"d":"1.00"},{"v":1,"d":"1.00"},{"v":1,"d":"1.00"},null,null,{"v":1,"d":"1.00"},{"v":1,"d":"1.00"},{"v":1,"d":"1.00"},{"v":1,"d":"1.00"},null,{"v":1,"d":"1.00"},{"v":1,"d":"1.00"},null,null,{"v":1,"d":"1.00"},{"v":1,"d":"1.00"},{"v":1,"d":"1.00"}]
[100,"Synopsys","US","Synopsys","SNPS","Synopsys Inc",2021,{"v":60215548800,"d":"60215548800.00"},{"v":28896082560.000004,"d":"28896082560.00"},null,null,"marketwatch","Foreign",{"$nulls":17},{"v":1,"d":"1.00"}]
[101,"Analog Devices","US","Analog Devices","ADI","Analog Devices Inc",2021,{"v":359975848480,"d":"359975848480.00"},{"v":50349807680,"d":"50349807680.00"},null,null,"marketwatch","Foreign",null,null,{"v":1,"d":"1.00"}]
[102,"Amazon AWS","US","Amazon","AMZN","Amazon.com Inc",2021,{"v":2893377120000,"d":"2893377120000.00"},{"v":3232375360000,"d":"3232375360000.00"},null,null,"marketwatch","Foreign",{"$nulls":95},{"v":1,"d":"1.00"},{"v":1,"d":"1.00"},{"v":1,"d":"1.00"},{"v":1,"d":"1.00"},null,{"v":1,"d":"1.00"},{"v":1,"d":"1.00"},{"v":1,"d":"1.00"}]
[103,"STMicroelectronics ","US","STMicroelectronics ","STM","STMicroelectronics NV",2021,{"v":94016180090.4,"d":"94016180090.40"},74278423930.24,null,null,"marketwatch","Foreign",null,null,{"v":1,"d":"1.00"}]
[104,"Infineon","XE","Infineon","IFX","Infineon Technologies AG",2021,{"v":171332228400,"d":"171332228400.00"},{"v":81209156000,"d":"81209156000.00"},null,{"v":50288,"d":"50288.00"},"infineon ","Foreign",null,null,{"v":1,"d":"1.00"}]
[105,"Intel","US","Intel","INTC","Intel Co",2021,{"v":1158633280000,"d":"1158633280000.00"},{"v":543685120000,"d":"543685120000.00"},null,null,"marketwatch","Foreign",null,null,{"v":1,"d":"1.00"}]
[106,"阿里巴巴","US","阿里巴巴","BABA","Alibaba Group Holding Ltd",2021,{"v":1690218000000,"d":"1690218000000.00"},{"v":717289000000,"d":"717289000000.00"},null,null,"alibaba ","Non_Beijing",{"$nulls":4},{"v":1,"d":"1.00"},null,{"v":1,"d":"1.00"},{"$nulls":19},{"v":1,"d":"1.00"},{"$nulls":48},{"v":1,"d":"1.00"},{"v":1,"d":"1.00"},{"v":1,"d":"1.00"},{"v":1,"d":"1.00"},{"v":1,"d":"1.00"},{"$nulls":6},{"v":1,"d":"1.00"},{"v":1,"d":"1.00"},{"v":1,"d":"1.00"},{"v":1,"d":"1.00"},{"v":1,"d":"1.00"},{"v":1,"d":"1.00"},{"v":1,"d":"1.00"},{"$nulls":9},{"v":1,"d":"1.00"}]
[107,"安恒信息","SH","安恒信息",{"$f":"VLOOKUP($D109,[1]Sheet1!$A$1:$M$5087,2,FALSE)","v":"688023.SH"},{"$f":"VLOOKUP($D109,[1]Sheet1!$A$1:$M$5087,9,FALSE)","v":"杭州安恒信息技术股份有限公司"},2021,{"v":4852000000,"d":"4852000000.00"},{"v":1820000000,"d":"1820000000.00"},"L",{"v":3611,"d":"3611.00"},"qichacha","Non_Beijing",{"$nulls":52},{"v":1,"d":"1.00"}]
[108,"百度","HK","百度","9888","Baidu Inc",2021,{"v":380034000000,"d":"380034000000.00"},{"v":124493000000,"d":"124493000000.00"},null,null,"hkexnews","Non_Beijing",{"$nulls":86},{"v":1,"d":"1.00"},{"v":1,"d":"1.00"},{"v":1,"d":"1.00"},{"v":1,"d":"1.00"},{"v":1,"d":"1.00"},{"v":1,"d":"1.00"},{"v":1,"d":"1.00"},{"$nulls":9},{"v":1,"d":"1.00"}]
[109,"宝信软件","SH","宝信软件",{"$f":"VLOOKUP($D111,[1]Sheet1!$A$1:$M$5087,2,FALSE)","v":"600845.SH"},{"$f":"VLOOKUP($D111,[1]Sheet1!$A$1:$M$5087,9,FALSE)","v":"上海宝信软件股份有限公司"},2021,{"v":17860000000,"d":"17860000000.00"},{"v":11760000000,"d":"11760000000.00"},"L",{"v":5258,"d":"5258.00"},"qichacha","Non_Beijing",{"$nulls":21},{"v":1,"d":"1.00"}]
[110,"晨科软件",null,"晨科软件",null,"杭州晨科软件技术有限公司",{"$nulls":3},"S",{"v":87,"d":"87.00"},"qichacha","Non_Beijing",{"$nulls":25},{"v":1,"d":"1.00"}]
[111,"鼎捷软件","SZ","鼎捷软件",{"$f":"VLOOKUP($D113,[1]Sheet1!$A$1:$M$5087,2,FALSE)","v":"300378.SZ"},{"$f":"VLOOKUP($D113,[1]Sheet1!$A$1:$M$5087,9,FALSE)","v":"鼎捷软件股份有限公司"},2021,{"v":2638000000,"d":"2638000000.00"},{"v":1788000000,"d":"1788000000.00"},"L",{"v":4274,"d":"4274.00"},"qichacha","Non_Beijing",{"$nulls":16},{"v":1,"d":"1.00"},{"$nulls":4},{"v":1,"d":"1.00"},{"$nulls":7},{"v":1,"d":"1.00"}]
[112,"东华测试","SZ","东华测试",{"$f":"VLOOKUP($D114,[1]Sheet1!$A$1:$M$5087,2,FALSE)","v":"300354.SZ"},{"$f":"VLOOKUP($D114,[1]Sheet1!$A$1:$M$5087,9,FALSE)","v":"江苏东华测试技术股份有限公司"},2021,{"v":545000000,"d":"545000000.00"},{"v":256999999.99999997,"d":"257000000.00"},"L",{"v":588,"d":"588.00"},"qichacha","Non_Beijing",{"$nulls":27},{"v":1,"d":"1.00"}]
[113,"飞腾信息",null,"飞腾信息",null,"飞腾信息技术有限公司",{"$nulls":3},"M",{"v":206,"d":"206.00"},"qichacha","Non_Beijing",null,null,{"v":1,"d":"1.00"}]
[114,"富勒科技",null,"富勒科技",null,"上海富勒信息科技有限公司",{"$nulls":3},"M",{"v":100,"d":"100.00"},"qichacha","Non_Beijing",{"$nulls":33},{"v":1,"d":"1.00"}]
[115,"富士康",null,"富士康",null,"富士康工业互联网股份有限公司",2021,{"v":266600000000,"d":"266600000000.00"},{"v":439600000000,"d":"439600000000.00"},"L",{"v":191970,"d":"191970.00"},"qichacha","Non_Beijing",{"$nulls":4},{"v":1,"d":"1.00"},{"$nulls":90},{"v":1,"d":"1.00"},{"v":1,"d":"1.00"},{"v":1,"d":"1.00"},{"v":1,"d":"1.00"},null,{"v":1,"d":"1.00"},{"v":1,"d":"1.00"}]
[116,"概伦电子","SH","概伦电子",{"$f":"VLOOKUP($D118,[1]Sheet1!$A$1:$M$5087,2,FALSE)","v":"688206.SH"},{"$f":"VLOOKUP($D118,[1]Sheet1!$A$1:$M$5087,9,FALSE)","v":"上海概伦电子股份有限公司"},2021,{"v":2342000000,"d":"2342000000.00"},{"v":193000000,"d":"193000000.00"},"M",{"v":294,"d":"294.00"},"qichacha","Non_Beijing",{"$nulls":17},{"v":1,"d":"1.00"}]
[117,"格创东智",null,"格创东智",null,"格创东智科技有限公司",{"$nulls":3},"XS",{"v":2,"d":"2.00"},null,"Non_Beijing",{"$nulls":75},{"v":1,"d":"1.00"},{"v":1,"d":"1.00"},{"v":1,"d":"1.00"},{"v":1,"d":"1.00"},{"v":1,"d":"1.00"},{"$nulls":15},{"v":1,"d":"1.00"},{"v":1,"d":"1.00"},{"v":1,"d":"1.00"},{"v":1,"d":"1.00"},null,{"v":1,"d":"1.00"},{"v":1,"d":"1.00"}]
[118,"工邦邦",null,"工邦邦",null,"上海工邦邦工业技术有限公司",{"$nulls":3},"S",{"v":70,"d":"70.00"},"qichacha","Non_Beijing",{"$nulls":26},{"v":1,"d":"1.00"}]
[119,"广联达","SZ","广联达",{"$f":"VLOOKUP($D121,[1]Sheet1!$A$1:$M$5087,2,FALSE)","v":"002410.SZ"},{"$f":"VLOOKUP($D121,[1]Sheet1!$A$1:$M$5087,9,FALSE)","v":"广联达科技股份有限公司"},2021,{"v":10070000000,"d":"10070000000.00"},{"v":5619000000,"d":"5619000000.00"},"L",{"v":9486,"d":"9486.00"},"qichacha","Non_Beijing",{"$nulls":11},{"v":1,"d":"1.00"}]
[120,"广州数控",null,"广州数控",null,"广州数控设备有限公司",{"$nulls":3},"M",{"v":1985,"d":"1985.00"},"qichacha","Non_Beijing",{"$nulls":8},{"v":1,"d":"1.00"}]
[121,"广州智臣",null,"广州智臣",null,"广州智臣信息科技有限公司",{"$nulls":3},"S",{"v":43,"d":"43.00"},"qichacha","Non_Beijing",{"$nulls":45},{"v":1,"d":"1.00"}]
[122,"国民技术","SZ","国民技术",{"$f":"VLOOKUP($D124,[1]Sheet1!$A$1:$M$5087,2,FALSE)","v":"300077.SZ"},{"$f":"VLOOKUP($D124,[1]Sheet1!$A$1:$M$5087,9,FALSE)","v":"国民技术股份有限公司"},2021,{"v":2668000000,"d":"2668000000.00"},{"v":1018000000,"d":"1018000000.00"},"L",{"v":1060,"d":"1060.00"},"qichacha","Non_Beijing",{"$nulls":47},{"v":1,"d":"1.00"}]
[123,"海得控制","SZ","海得控制",{"$f":"VLOOKUP($D125,[1]Sheet1!$A$1:$M$5087,2,FALSE)","v":"002184.SZ"},{"$f":"VLOOKUP($D125,[1]Sheet1!$A$1:$M$5087,9,FALSE)","v":"上海海得控制系统股份有限公司"},2021,{"v":2576000000,"d":"2576000000.00"},{"v":2491000000,"d":"2491000000.00"},"L",{"v":1128,"d":"1128.00"},"qichacha","Non_Beijing",{"$nulls":3},{"v":1,"d":"1.00"}]
[124,"海尔","SH","海尔智家",{"$f":"VLOOKUP($D126,[1]Sheet1!$A$1:$M$5087,2,FALSE)","v":"600690.SH"},{"$f":"VLOOKUP($D126,[1]Sheet1!$A$1:$M$5087,9,FALSE)","v":"海尔智家股份有限公司"},2021,{"v":217700000000,"d":"217700000000.00"},{"v":227600000000,"d":"227600000000.00"},"L",{"v":104874,"d":"104874.00"},"qichacha","Non_Beijing",{"$nulls":6},{"v":1,"d":"1.00"},{"$nulls":97},{"v":1,"d":"1.00"},{"v":1,"d":"1.00"},{"v":1,"d":"1.00"}]
[125,"华数机器人",null,"华数机器人",null,"重庆华数机器人有限公司",{"$nulls":3},"M",{"v":102,"d":"102.00"},"qichacha","Non_Beijing",{"$nulls":8},{"v":1,"d":"1.00"}]
[126,"华为",null,"华为",null,"华为技术有限公司",2021,null,{"v":636807000000,"d":"636807000000.00"},"L",{"v":10000,"d":"10000.00"},"qichacha","Non_Beijing",{"$nulls":4},{"v":1,"d":"1.00"},null,{"v":1,"d":"1.00"},null,{"v":1,"d":"1.00"},{"$nulls":27},{"v":1,"d":"1.00"},{"v":1,"d":"1.00"},{"$nulls":6},{"v":1,"d":"1.00"},{"$nulls":6},{"v":1,"d":"1.00"},{"$nulls":3},{"v":1,"d":"1.00"},{"$nulls":7},{"v":1,"d":"1.00"},{"$nulls":15},{"v":1,"d":"1.00"},{"$nulls":6},{"v":1,"d":"1.00"},{"v":1,"d":"1.00"},{"v":1,"d":"1.00"},{"v":1,"d":"1.00"},{"v":1,"d":"1.00"},{"v":1,"d":"1.00"},{"v":1,"d":"1.00"},{"$nulls":9},{"v":1,"d":"1.00"},null,{"v":1,"d":"1.00"},{"v":1,"d":"1.00"},{"v":1,"d":"1.00"}]
[127,"华为海思",null,"华为海思",null,"深圳市海思半导体有限公司",2021,null,{"v":10320000000,"d":"10320000000.00"},"M",{"v":7000,"d":"7000.00"},"qichacha","Non_Beijing",null,null,{"v":1,"d":"1.00"},null,{"v":1,"d":"1.00"}]
[128,"华伍股份","SZ","华伍股份",{"$f":"VLOOKUP($D130,[1]Sheet1!$A$1:$M$5087,2,FALSE)","v":"300095.SZ"},{"$f":"VLOOKUP($D130,[1]Sheet1!$A$1:$M$5087,9,FALSE)","v":"江西华伍制动器股份有限公司"},2021,{"v":3800000000,"d":"3800000000.00"},{"v":1435000000,"d":"1435000000.00"},"L",{"v":1915,"d":"1915.00"},"qichacha","Non_Beijing",{"$nulls":3},{"v":1,"d":"1.00"}]
[129,"华中数控","SZ","华中数控",{"$f":"VLOOKUP($D131,[1]Sheet1!$A$1:$M$5087,2,FALSE)","v":"300161.SZ"},{"$f":"VLOOKUP($D131,[1]Sheet1!$A$1:$M$5087,9,FALSE)","v":"武汉华中数控股份有限公司"},2021,{"v":3399000000,"d":"3399000000.00"},{"v":1634000000,"d":"1634000000.00"},"L",{"v":2584,"d":"2584.00"},"qichacha","Non_Beijing",{"$nulls":3},{"v":1,"d":"1.00"},{"$nulls":4},{"v":1,"d":"1.00"}]
[130,"金蝶","HK","金蝶","268","Kingdee International Software Group Co Ltd",2021,{"v":11087132000,"d":"11087132000.00"},{"v":4174147000,"d":"4174147000.00"},null,null,"hkexnews","Non_Beijing",{"$nulls":19},{"v":1,"d":"1.00"},{"$nulls":9},{"v":1,"d":"1.00"},{"v":1,"d":"1.00"},{"v":1,"d":"1.00"},null,{"v":1,"d":"1.00"}]
[131,"九物互联",null,"九物互联",null,"上海九物互联网科技有限公司",{"$nulls":3},"S",{"v":9,"d":"9.00"},"qichacha","Non_Beijing",{"$nulls":75},{"v":1,"d":"1.00"},{"v":1,"d":"1.00"},{"v":1,"d":"1.00"},{"v":1,"d":"1.00"},{"v":1,"d":"1.00"}]
[132,"科远智慧","SZ","科远智慧",{"$f":"VLOOKUP($D134,[1]Sheet1!$A$1:$M$5087,2,FALSE)","v":"002380.SZ"},{"$f":"VLOOKUP($D134,[1]Sheet1!$A$1:$M$5087,9,FALSE)","v":"南京科远智慧科技集团股份有限公司"},2021,{"v":3336999999.9999995,"d":"3337000000.00"},{"v":1140000000,"d":"1140000000.00"},"L",{"v":1888,"d":"1888.00"},"qichacha","Non_Beijing",{"$nulls":22},{"v":1,"d":"1.00"}]
[133,"蓝盾股份","SZ","*ST蓝盾",{"$f":"VLOOKUP($D135,[1]Sheet1!$A$1:$M$5087,2,FALSE)","v":"300297.SZ"},{"$f":"VLOOKUP($D135,[1]Sheet1!$A$1:$M$5087,9,FALSE)","v":"蓝盾信息安全技术股份有限公司"},2021,{"v":6249000000,"d":"6249000000.00"},{"v":287000000,"d":"287000000.00"},"L",{"v":449,"d":"449.00"},"qichacha","Non_Beijing",{"$nulls":38},{"v":1,"d":"1.00"},{"$nulls":18},{"v":1,"d":"1.00"}]
[134,"朗坤智慧",null,"朗坤智慧",null,"朗坤智慧科技股份有限公司",2019,{"v":446000000,"d":"446000000.00"},{"v":302000000,"d":"302000000.00"},"L",{"v":611,"d":"611.00"},"qichacha","Non_Beijing",{"$nulls":25},{"v":1,"d":"1.00"}]
[135,"浪潮","SH","浪潮软件",{"$f":"VLOOKUP($D137,[1]Sheet1!$A$1:$M$5087,2,FALSE)","v":"600756.SH"},{"$f":"VLOOKUP($D137,[1]Sheet1!$A$1:$M$5087,9,FALSE)","v":"浪潮软件股份有限公司"},2021,{"v":4154999999.9999995,"d":"4155000000.00"},{"v":1830000000,"d":"1830000000.00"},"L",{"v":1446,"d":"1446.00"},"qichacha","Non_Beijing",{"$nulls":4},{"v":1,"d":"1.00"},{"$nulls":14},{"v":1,"d":"1.00"},{"$nulls":9},{"v":1,"d":"1.00"},{"$nulls":56},{"v":1,"d":"1.00"},{"v":1,"d":"1.00"},{"v":1,"d":"1.00"},{"v":1,"d":"1.00"},{"v":1,"d":"1.00"},{"v":1,"d":"1.00"},{"v":1,"d":"1.00"},{"$nulls":9},{"v":1,"d":"1.00"}]
[136,"美的","SZ","美的集团",{"$f":"VLOOKUP($D138,[1]Sheet1!$A$1:$M$5087,2,FALSE)","v":"000333.SZ"},{"$f":"VLOOKUP($D138,[1]Sheet1!$A$1:$M$5087,9,FALSE)","v":"美的集团股份有限公司"},2021,{"v":387900000000,"d":"387900000000.00"},{"v":343400000000,"d":"343400000000.00"},"L",{"v":165799,"d":"165799.00"},"qichacha","Non_Beijing",{"$nulls":6},{"v":1,"d":"1.00"}]
[137,"美林数据","NQ","美林数据",831546,"美林数据技术股份有限公司",null,{"v":381000000,"d":"381000000.00"},{"v":279000000,"d":"279000000.00"},"M",{"v":777,"d":"777.00"},"qichacha","Non_Beijing",{"$nulls":95},{"v":1,"d":"1.00"},{"v":1,"d":"1.00"},{"v":1,"d":"1.00"},{"v":1,"d":"1.00"},null,{"v":1,"d":"1.00"},{"v":1,"d":"1.00"}]
[138,"启明信息","SZ","启明信息",{"$f":"VLOOKUP($D140,[1]Sheet1!$A$1:$M$5087,2,FALSE)","v":"002232.SZ"},{"$f":"VLOOKUP($D140,[1]Sheet1!$A$1:$M$5087,9,FALSE)","v":"启明信息技术股份有限公司"},2021,{"v":2120000000,"d":"2120000000.00"},{"v":1051000000,"d":"1051000000.00"},"L",{"v":1525,"d":"1525.00"},"qichacha","Non_Beijing",{"$nulls":15},{"v":1,"d":"1.00"}]
[139,"容知日新","SH","容知日新",{"$f":"VLOOKUP($D141,[1]Sheet1!$A$1:$M$5087,2,FALSE)","v":"688768.SH"},{"$f":"VLOOKUP($D141,[1]Sheet1!$A$1:$M$5087,9,FALSE)","v":"安徽容知日新科技股份有限公司"},2021,{"v":772000000,"d":"772000000.00"},{"v":397000000,"d":"397000000.00"},"L",{"v":515,"d":"515.00"},"qichacha","Non_Beijing",{"$nulls":27},{"v":1,"d":"1.00"}]
[140,"山石网科","SH","山石网科",{"$f":"VLOOKUP($D142,[1]Sheet1!$A$1:$M$5087,2,FALSE)","v":"688030.SH"},{"$f":"VLOOKUP($D142,[1]Sheet1!$A$1:$M$5087,9,FALSE)","v":"山石网科通信技术股份有限公司"},2021,{"v":1944000000.0000002,"d":"1944000000.00"},{"v":1027000000,"d":"1027000000.00"},"L",{"v":1808,"d":"1808.00"},"qichacha","Non_Beijing",{"$nulls":36},{"v":1,"d":"1.00"},null,null,{"v":1,"d":"1.00"},{"v":1,"d":"1.00"},{"$nulls":22},{"v":1,"d":"1.00"},null,{"v":1,"d":"1.00"},{"v":1,"d":"1.00"},{"$nulls":4},{"v":1,"d":"1.00"}]
[141,"上海新华控制",null,"上海新华控制",null,"上海新华控制技术集团科技有限公司",{"$nulls":3},"M",{"v":196,"d":"196.00"},"qichacha","Non_Beijing",{"$nulls":22},{"v":1,"d":"1.00"}]
[142,"深信服","SZ","深信服",{"$f":"VLOOKUP($D144,[1]Sheet1!$A$1:$M$5087,2,FALSE)","v":"300454.SZ"},{"$f":"VLOOKUP($D144,[1]Sheet1!$A$1:$M$5087,9,FALSE)","v":"深信服科技股份有限公司"},2021,{"v":10950000000,"d":"10950000000.00"},{"v":6805000000,"d":"6805000000.00"},"L",{"v":8897,"d":"8897.00"},"qichacha","Non_Beijing",{"$nulls":36},{"v":1,"d":"1.00"},{"$nulls":7},{"v":1,"d":"1.00"},{"v":1,"d":"1.00"},{"$nulls":9},{"v":1,"d":"1.00"}]
[143,"沈阳自动化研究所",null,"沈阳自动化研究所",null,"中国科学院沈阳自动化研究所",{"$nulls":3},"L",{"v":1000,"d":"1000.00"},"qichacha","Non_Beijing",{"$nulls":75},{"v":1,"d":"1.00"},{"v":1,"d":"1.00"},{"v":1,"d":"1.00"},{"v":1,"d":"1.00"},{"v":1,"d":"1.00"}]
[144,"树根互联",null,"树根互联",null,"树根互联股份有限公司",2021,{"v":1130000000,"d":"1130000000.00"},{"v":517000000,"d":"517000000.00"},"L",{"v":525,"d":"525.00"},"qichacha","Non_Beijing",{"$nulls":81},{"v":1,"d":"1.00"},{"v":1,"d":"1.00"},{"v":1,"d":"1.00"},{"v":1,"d":"1.00"}]
[145,"思普软件",null,"思普软件",null,"思普软件股份有限公司",{"$nulls":3},"S",{"v":3,"d":"3.00"},null,"Non_Beijing",{"$nulls":14},{"v":1,"d":"1.00"}]
[146,"苏州浩辰",null,"苏州浩辰",null,"苏州浩辰软件股份有限公司",2021,{"v":297000000,"d":"297000000.00"},{"v":236000000,"d":"236000000.00"},"M",{"v":148,"d":"148.00"},"qichacha","Non_Beijing",{"$nulls":11},{"v":1,"d":"1.00"}]
[147,"拓邦股份","SZ","拓邦股份",{"$f":"VLOOKUP($D149,[1]Sheet1!$A$1:$M$5087,2,FALSE)","v":"002139.SZ"},{"$f":"VLOOKUP($D149,[1]Sheet1!$A$1:$M$5087,9,FALSE)","v":"深圳拓邦股份有限公司"},2021,{"v":9607000000,"d":"9607000000.00"},{"v":7767000000,"d":"7767000000.00"},"L",{"v":8445,"d":"8445.00"},"qichacha","Non_Beijing",{"$nulls":3},{"v":1,"d":"1.00"}]
[148,"腾讯","HK","腾讯","700","Tencent Holdings Ltd",2021,{"v":1612364000000,"d":"1612364000000.00"},{"v":560118000000,"d":"560118000000.00"},null,null,"hkexnews","Non_Beijing",{"$nulls":75},{"v":1,"d":"1.00"},{"v":1,"d":"1.00"},{"v":1,"d":"1.00"},{"v":1,"d":"1.00"},{"v":1,"d":"1.00"},{"$nulls":6},{"v":1,"d":"1.00"},{"v":1,"d":"1.00"},{"v":1,"d":"1.00"},{"v":1,"d":"1.00"},{"v":1,"d":"1.00"},{"v":1,"d":"1.00"},{"v":1,"d":"1.00"},{"$nulls":9},{"v":1,"d":"1.00"}]
[149,"天泽智云",null,"天泽智云",null,"北京天泽智云科技有限公司",{"$nulls":3},"S",{"v":58,"d":"58.00"},"qichacha","Beijing",{"$nulls":81},{"v":1,"d":"1.00"},{"v":1,"d":"1.00"},{"v":1,"d":"1.00"},{"v":1,"d":"1.00"}]
[150,"唯捷创芯","SH","唯捷创芯",{"$f":"VLOOKUP($D152,[1]Sheet1!$A$1:$M$5087,2,FALSE)","v":"688153.SH"},{"$f":"VLOOKUP($D152,[1]Sheet1!$A$1:$M$5087,9,FALSE)","v":"唯捷创芯(天津)电子技术股份有限公司"},2021,{"v":2039000000,"d":"2039000000.00"},{"v":3509000000.0000005,"d":"3509000000.00"},"L",{"v":322,"d":"322.00"},"qichacha","Non_Beijing",null,null,{"v":1,"d":"1.00"}]
[151,"唯智信息",null,"唯智信息",null,"唯智信息技术（上海）股份有限公司",2017,{"v":156000000,"d":"156000000.00"},{"v":45453200,"d":"45453200.00"},"S",{"v":144,"d":"144.00"},"qichacha","Non_Beijing",{"$nulls":33},{"v":1,"d":"1.00"}]
[152,"卫士通","SZ","电科网安",{"$f":"VLOOKUP($D154,[1]Sheet1!$A$1:$M$5087,2,FALSE)","v":"002268.SZ"},{"$f":"VLOOKUP($D154,[1]Sheet1!$A$1:$M$5087,9,FALSE)","v":"中电科网络安全科技股份有限公司"},2021,{"v":7142000000,"d":"7142000000.00"},{"v":2789000000,"d":"2789000000.00"},"L",{"v":2567,"d":"2567.00"},"qichacha","Non_Beijing",{"$nulls":57},{"v":1,"d":"1.00"}]
[153,"武汉开目",null,"武汉开目",null,"武汉开目信息技术股份有限公司",{"$nulls":3},"M",{"v":140,"d":"140.00"},"qichacha","Non_Beijing",{"$nulls":11},{"v":1,"d":"1.00"},null,null,{"v":1,"d":"1.00"}]
[154,"西格数据",null,"西格数据",null,"江苏西格数据科技有限公司",{"$nulls":3},"S",{"v":141,"d":"141.00"},"qichacha","Non_Beijing",{"$nulls":95},{"v":1,"d":"1.00"},{"v":1,"d":"1.00"},{"v":1,"d":"1.00"},{"v":1,"d":"1.00"},null,{"v":1,"d":"1.00"},{"v":1,"d":"1.00"}]
[155,"小米","HK","小米","1810","Xiaomi Co",2021,{"v":292891870000,"d":"292891870000.00"},{"v":328309145000,"d":"328309145000.00"},null,null,"xiaomi","Non_Beijing",{"$nulls":104},{"v":1,"d":"1.00"},{"v":1,"d":"1.00"},{"v":1,"d":"1.00"}]
[156,"芯禾科技",null,"芯禾科技",null,"苏州芯禾电子科技有限公司",{"$nulls":3},"XS",{"v":2,"d":"2.00"},"qichacha","Non_Beijing",{"$nulls":17},{"v":1,"d":"1.00"}]
[157,"新华三",null,"新华三",null,"新华三技术有限公司",{"$nulls":3},"L",{"v":5672,"d":"5672.00"},"qichacha","Non_Beijing",{"$nulls":36},{"v":1,"d":"1.00"},{"v":1,"d":"1.00"}]
[158,"信大捷安",null,"信大捷安",null,"郑州信大捷安信息技术股份有限公司",2018,{"v":425000000,"d":"425000000.00"},{"v":307000000,"d":"307000000.00"},"L",{"v":513,"d":"513.00"},"qichacha","Non_Beijing",{"$nulls":57},{"v":1,"d":"1.00"}]
[159,"徐工集团","SZ","徐工机械",{"$f":"VLOOKUP($D161,[1]Sheet1!$A$1:$M$5087,2,FALSE)","v":"000425.SZ"},{"$f":"VLOOKUP($D161,[1]Sheet1!$A$1:$M$5087,9,FALSE)","v":"徐工集团工程机械股份有限公司"},2021,{"v":167000000000,"d":"167000000000.00"},{"v":84330000000,"d":"84330000000.00"},"L",{"v":15483,"d":"15483.00"},"qichacha","Non_Beijing",{"$nulls":81},{"v":1,"d":"1.00"},{"v":1,"d":"1.00"},{"v":1,"d":"1.00"},{"v":1,"d":"1.00"}]
[160,"亚信科技","HK","亚信科技","1675","亚信科技有限公司",2021,{"v":9505464000,"d":"9505464000.00"},{"v":6894667000,"d":"6894667000.00"},null,null,"hkexnews","Non_Beijing",{"$nulls":38},{"v":1,"d":"1.00"}]
[161,"研华科技",null,"研华科技",null,"研华科技（中国）有限公司",{"$nulls":3},"L",{"v":2674,"d":"2674.00"},"qichacha","Non_Beijing",{"$nulls":104},{"v":1,"d":"1.00"},{"v":1,"d":"1.00"},{"v":1,"d":"1.00"}]
[162,"壹进制",null,"壹进制",null,"南京壹进制信息科技有限公司",null,null,{"v":58807600.00000001,"d":"58807600.00"},"M",{"v":215,"d":"215.00"},"qichacha","Non_Beijing",{"$nulls":68},{"v":1,"d":"1.00"},{"v":1,"d":"1.00"}]
[163,"优也科技",null,"优也科技",null,"上海优也信息科技有限公司",{"$nulls":3},"S",{"v":64,"d":"64.00"},"qichacha","Non_Beijing",{"$nulls":95},{"v":1,"d":"1.00"},{"v":1,"d":"1.00"},{"v":1,"d":"1.00"},{"v":1,"d":"1.00"},null,{"v":1,"d":"1.00"},{"v":1,"d":"1.00"}]
[164,"震坤行",null,"震坤行",null,"震坤行工业超市（上海）有限公司",{"$nulls":3},"L",{"v":2284,"d":"2284.00"},"qichacha","Non_Beijing",{"$nulls":26},{"v":1,"d":"1.00"}]
[165,"智能云科",null,"智能云科",null,"智能云科信息科技有限公司",{"$nulls":3},"S",{"v":60,"d":"60.00"},"qichacha","Non_Beijing",{"$nulls":81},{"v":1,"d":"1.00"},{"v":1,"d":"1.00"},{"v":1,"d":"1.00"},{"v":1,"d":"1.00"}]
[166,"中国电子科技网络信息安全",null,"中国电子科技网络信息安全",null,"中国电子科技网络信息安全有限公司",{"$nulls":3},"M",{"v":292,"d":"292.00"},"qichacha","Non_Beijing",{"$nulls":8},{"v":1,"d":"1.00"}]
[167,"中环股份","SZ","TCL中环",{"$f":"VLOOKUP($D169,[1]Sheet1!$A$1:$M$5087,2,FALSE)","v":"002129.SZ"},{"$f":"VLOOKUP($D169,[1]Sheet1!$A$1:$M$5087,9,FALSE)","v":"TCL中环新能源科技股份有限公司"},2021,{"v":78220000000,"d":"78220000000.00"},{"v":41100000000,"d":"41100000000.00"},"L",{"v":13371,"d":"13371.00"},"qichacha","Non_Beijing",null,null,{"v":1,"d":"1.00"}]
[168,"中控技术","SH","中控技术",{"$f":"VLOOKUP($D170,[1]Sheet1!$A$1:$M$5087,2,FALSE)","v":"688777.SH"},{"$f":"VLOOKUP($D170,[1]Sheet1!$A$1:$M$5087,9,FALSE)","v":"浙江中控技术股份有限公司"},2021,{"v":10350000000,"d":"10350000000.00"},{"v":4519000000,"d":"4519000000.00"},"L",{"v":5057,"d":"5057.00"},"qichacha","Non_Beijing",{"$nulls":3},{"v":1,"d":"1.00"},{"$nulls":17},{"v":1,"d":"1.00"},{"v":1,"d":"1.00"},null,{"v":1,"d":"1.00"},{"$nulls":79},{"v":1,"d":"1.00"},{"v":1,"d":"1.00"},{"v":1,"d":"1.00"}]
[169,"中芯国际","SH","中芯国际",{"$f":"VLOOKUP($D171,[1]Sheet1!$A$1:$M$5087,2,FALSE)","v":"688981.SH"},"中芯国际集成电路制造（上海）有限公司",2021,{"v":230233000000,"d":"230233000000.00"},{"v":34704000000,"d":"34704000000.00"},"L",{"v":5173,"d":"5173.00"},"qichacha","Non_Beijing",null,null,{"v":1,"d":"1.00"}]
["170","Pseudo1",null,"Pseudo1",null,"Pseudo1",null,null,{"v":100000000,"d":"100000000.00"},{"$nulls":4},{"v":1,"d":"1.00"}]

{"sheet":"Firm_ori","index":1,"n_rows":171,"n_cols":118,"rows_kept":171}
["Code","Name","Stock","Stock_Name","Stock_Code","Chinese_Name","Assets","Revenue","Size","Num_Employ","Type_Region",1,1.1,"1.1.1","1.1.2","1.1.3",1.2,"1.2.1","1.2.2","1.2.3",1.3,"1.3.1","1.3.1.1","1.3.1.2","1.3.1.3","1.3.1.4","1.3.1.5","1.3.1.6","1.3.1.7","1.3.2","1.3.2.1","1.3.3","1.3.3.1","1.3.3.2","1.3.3.3","1.3.3.4","1.3.3.5","1.3.3.6","1.3.3.7","1.3.4","1.3.4.1","1.3.4.2","1.3.4.3","1.3.5","1.3.5.1",1.4,"1.4.1","1.4.1.1","1.4.1.2","1.4.1.3","1.4.1.4","1.4.1.5","1.4.2","1.4.2.1","1.4.2.2","1.4.2.3","1.4.2.4","1.4.2.5","1.4.2.6","1.4.2.7","1.4.3","1.4.3.1","1.4.3.2","1.4.3.3","1.4.3.4","1.4.3.5","1.4.3.6","1.4.4","1.4.4.1","1.4.4.2","1.4.4.3","1.4.4.4","1.4.4.5","1.4.5","1.4.5.1","1.4.5.2","1.4.5.3","1.4.5.4","1.4.5.5","1.4.5.6","1.4.5.7","1.4.5.8","1.4.5.9",2,2.1,"2.1.1","2.1.1.1","2.1.1.2","2.1.1.3","2.1.1.4","2.1.1.5","2.1.2","2.1.2.1","2.1.2.2","2.1.2.3","2.1.2.4","2.1.3","2.1.3.1","2.1.3.2","2.1.3.3","2.1.3.4","2.1.3.5","2.1.3.6","2.1.3.7","2.1.4","2.1.4.1","2.1.4.1.1","2.1.4.1.2","2.1.4.1.3","2.1.4.1.4","2.1.4.2","2.1.4.2.1","2.1.4.2.2",2.2,2.3,"2.3.1","2.3.2","2.3.3"]
[0,"360科技","SH","三六零",{"$f":"VLOOKUP($D2,[1]Sheet1!$A$1:$M$5087,2,FALSE)","v":"601360.SH"},{"$f":"VLOOKUP($D2,[1]Sheet1!$A$1:$M$5087,9,FALSE)","v":"三六零安全科技股份有限公司"},{"$f":"VLOOKUP($D2,[1]Sheet1!$A$1:$M$5087,12,FALSE)","v":{"v":1434515000,"d":"1434515000.00"}},{"$f":"VLOOKUP($D2,[1]Sheet1!$A$1:$M$5087,13,FALSE)","v":{"v":6934554000,"d":"6934554000.00"}},null,null,"Beijing",{"$nulls":57},1]
[15,"东软集团","SH","东软集团",{"$f":"VLOOKUP($D3,[1]Sheet1!$A$1:$M$5087,2,FALSE)","v":"600718.SH"},{"$f":"VLOOKUP($D3,[1]Sheet1!$A$1:$M$5087,9,FALSE)","v":"东软集团股份有限公司"},{"$f":"VLOOKUP($D3,[1]Sheet1!$A$1:$M$5087,12,FALSE)","v":{"v":1457377629,"d":"1457377629.00"}},{"$f":"VLOOKUP($D3,[1]Sheet1!$A$1:$M$5087,13,FALSE)","v":{"v":5563998301,"d":"5563998301.00"}},null,null,"Beijing",{"$nulls":25},1]
[36,"龙芯中科","SH","龙芯中科",{"$f":"VLOOKUP($D4,[1]Sheet1!$A$1:$M$5087,2,FALSE)","v":"688047.SH"},{"$f":"VLOOKUP($D4,[1]Sheet1!$A$1:$M$5087,9,FALSE)","v":"龙芯中科技术股份有限公司"},{"$f":"VLOOKUP($D4,[1]Sheet1!$A$1:$M$5087,12,FALSE)","v":322896998.78},{"$f":"VLOOKUP($D4,[1]Sheet1!$A$1:$M$5087,13,FALSE)","v":483762764.25},null,null,"Beijing",null,null,1]
[40,"奇安信","SH","奇安信",{"$f":"VLOOKUP($D5,[1]Sheet1!$A$1:$M$5087,2,FALSE)","v":"688561.SH"},{"$f":"VLOOKUP($D5,[1]Sheet1!$A$1:$M$5087,9,FALSE)","v":"奇安信科技集团股份有限公司"},{"$f":"VLOOKUP($D5,[1]Sheet1!$A$1:$M$5087,12,FALSE)","v":1253992862.02},{"$f":"VLOOKUP($D5,[1]Sheet1!$A$1:$M$5087,13,FALSE)","v":3191684379.05},null,null,"Beijing",{"$nulls":42},1,{"$nulls":3},1,{"$nulls":5},1,{"$nulls":8},1]
[58,"用友","SH","用友网络",{"$f":"VLOOKUP($D6,[1]Sheet1!$A$1:$M$5087,2,FALSE)","v":"600588.SH"},{"$f":"VLOOKUP($D6,[1]Sheet1!$A$1:$M$5087,9,FALSE)","v":"用友网络科技股份有限公司"},{"$f":"VLOOKUP($D6,[1]Sheet1!$A$1:$M$5087,12,FALSE)","v":{"v":2399600668,"d":"2399600668.00"}},{"$f":"VLOOKUP($D6,[1]Sheet1!$A$1:$M$5087,13,FALSE)","v":{"v":5595419922,"d":"5595419922.00"}},null,null,"Beijing",{"$nulls":7},1,{"$nulls":8},1,null,null,1,{"$nulls":9},1,1,1,{"$nulls":49},1,1,1,1]
[65,"中国电信","SH","中国电信",{"$f":"VLOOKUP($D7,[1]Sheet1!$A$1:$M$5087,2,FALSE)","v":"601728.SH"},{"$f":"VLOOKUP($D7,[1]Sheet1!$A$1:$M$5087,9,FALSE)","v":"中国电信股份有限公司"},{"$f":"VLOOKUP($D7,[1]Sheet1!$A$1:$M$5087,12,FALSE)","v":{"v":396133457989.2,"d":"396133457989.20"}},{"$f":"VLOOKUP($D7,[1]Sheet1!$A$1:$M$5087,13,FALSE)","v":357842938040.33},null,null,"Beijing",{"$nulls":6},1]
[66,"中国联通","SH","中国联通",{"$f":"VLOOKUP($D8,[1]Sheet1!$A$1:$M$5087,2,FALSE)","v":"600050.SH"},{"$f":"VLOOKUP($D8,[1]Sheet1!$A$1:$M$5087,9,FALSE)","v":"中国联合网络通信股份有限公司"},{"$f":"VLOOKUP($D8,[1]Sheet1!$A$1:$M$5087,12,FALSE)","v":{"v":292689580511,"d":"292689580511.00"}},{"$f":"VLOOKUP($D8,[1]Sheet1!$A$1:$M$5087,13,FALSE)","v":{"v":263977913122,"d":"263977913122.00"}},null,null,"Beijing",{"$nulls":6},1]
[67,"中国移动","SH","中国移动",{"$f":"VLOOKUP($D9,[1]Sheet1!$A$1:$M$5087,2,FALSE)","v":"600941.SH"},{"$f":"VLOOKUP($D9,[1]Sheet1!$A$1:$M$5087,9,FALSE)","v":"中国移动有限公司"},{"$f":"VLOOKUP($D9,[1]Sheet1!$A$1:$M$5087,12,FALSE)","v":{"v":704445000000,"d":"704445000000.00"}},{"$f":"VLOOKUP($D9,[1]Sheet1!$A$1:$M$5087,13,FALSE)","v":{"v":723487000000,"d":"723487000000.00"}},null,null,"Beijing",{"$nulls":6},1]
[68,"中望软件","SH","中望软件",{"$f":"VLOOKUP($D10,[1]Sheet1!$A$1:$M$5087,2,FALSE)","v":"688083.SH"},{"$f":"VLOOKUP($D10,[1]Sheet1!$A$1:$M$5087,9,FALSE)","v":"广州中望龙腾软件股份有限公司"},{"$f":"VLOOKUP($D10,[1]Sheet1!$A$1:$M$5087,12,FALSE)","v":70419698.72},{"$f":"VLOOKUP($D10,[1]Sheet1!$A$1:$M$5087,13,FALSE)","v":349648105.59},null,null,"Beijing",{"$nulls":11},1,1,1]
[107,"安恒信息","SH","安恒信息",{"$f":"VLOOKUP($D11,[1]Sheet1!$A$1:$M$5087,2,FALSE)","v":"688023.SH"},{"$f":"VLOOKUP($D11,[1]Sheet1!$A$1:$M$5087,9,FALSE)","v":"杭州安恒信息技术股份有限公司"},{"$f":"VLOOKUP($D11,[1]Sheet1!$A$1:$M$5087,12,FALSE)","v":462850454.39},{"$f":"VLOOKUP($D11,[1]Sheet1!$A$1:$M$5087,13,FALSE)","v":{"v":1039606301.4,"d":"1039606301.40"}},null,null,"Non_Beijing",{"$nulls":52},1]
[109,"宝信软件","SH","宝信软件",{"$f":"VLOOKUP($D12,[1]Sheet1!$A$1:$M$5087,2,FALSE)","v":"600845.SH"},{"$f":"VLOOKUP($D12,[1]Sheet1!$A$1:$M$5087,9,FALSE)","v":"上海宝信软件股份有限公司"},{"$f":"VLOOKUP($D12,[1]Sheet1!$A$1:$M$5087,12,FALSE)","v":1482389060.03},{"$f":"VLOOKUP($D12,[1]Sheet1!$A$1:$M$5087,13,FALSE)","v":7653052582.24},null,null,"Non_Beijing",{"$nulls":21},1]
[116,"概伦电子","SH","概伦电子",{"$f":"VLOOKUP($D13,[1]Sheet1!$A$1:$M$5087,2,FALSE)","v":"688206.SH"},{"$f":"VLOOKUP($D13,[1]Sheet1!$A$1:$M$5087,9,FALSE)","v":"上海概伦电子股份有限公司"},{"$f":"VLOOKUP($D13,[1]Sheet1!$A$1:$M$5087,12,FALSE)","v":57620615.86},{"$f":"VLOOKUP($D13,[1]Sheet1!$A$1:$M$5087,13,FALSE)","v":170710609.25},null,null,"Non_Beijing",{"$nulls":17},1]
[124,"海尔","SH","海尔智家",{"$f":"VLOOKUP($D14,[1]Sheet1!$A$1:$M$5087,2,FALSE)","v":"600690.SH"},{"$f":"VLOOKUP($D14,[1]Sheet1!$A$1:$M$5087,9,FALSE)","v":"海尔智家股份有限公司"},{"$f":"VLOOKUP($D14,[1]Sheet1!$A$1:$M$5087,12,FALSE)","v":{"v":24514888907.2,"d":"24514888907.20"}},{"$f":"VLOOKUP($D14,[1]Sheet1!$A$1:$M$5087,13,FALSE)","v":{"v":184748766010.1,"d":"184748766010.10"}},null,null,"Non_Beijing",{"$nulls":6},1,{"$nulls":97},1,1,1]
[135,"浪潮","SH","浪潮软件",{"$f":"VLOOKUP($D15,[1]Sheet1!$A$1:$M$5087,2,FALSE)","v":"600756.SH"},{"$f":"VLOOKUP($D15,[1]Sheet1!$A$1:$M$5087,9,FALSE)","v":"浪潮软件股份有限公司"},{"$f":"VLOOKUP($D15,[1]Sheet1!$A$1:$M$5087,12,FALSE)","v":77633905.16},{"$f":"VLOOKUP($D15,[1]Sheet1!$A$1:$M$5087,13,FALSE)","v":1195061071.36},null,null,"Non_Beijing",{"$nulls":4},1,{"$nulls":14},1,{"$nulls":9},1,{"$nulls":56},1,1,1,1,1,1,1,{"$nulls":9},1]
[139,"容知日新","SH","容知日新",{"$f":"VLOOKUP($D16,[1]Sheet1!$A$1:$M$5087,2,FALSE)","v":"688768.SH"},{"$f":"VLOOKUP($D16,[1]Sheet1!$A$1:$M$5087,9,FALSE)","v":"安徽容知日新科技股份有限公司"},{"$f":"VLOOKUP($D16,[1]Sheet1!$A$1:$M$5087,12,FALSE)","v":45702157.19},{"$f":"VLOOKUP($D16,[1]Sheet1!$A$1:$M$5087,13,FALSE)","v":{"v":322612395.1,"d":"322612395.10"}},null,null,"Non_Beijing",{"$nulls":27},1]
[140,"山石网科","SH","山石网科",{"$f":"VLOOKUP($D17,[1]Sheet1!$A$1:$M$5087,2,FALSE)","v":"688030.SH"},{"$f":"VLOOKUP($D17,[1]Sheet1!$A$1:$M$5087,9,FALSE)","v":"山石网科通信技术股份有限公司"},{"$f":"VLOOKUP($D17,[1]Sheet1!$A$1:$M$5087,12,FALSE)","v":260450629.24},{"$f":"VLOOKUP($D17,[1]Sheet1!$A$1:$M$5087,13,FALSE)","v":713733934.37},null,null,"Non_Beijing",{"$nulls":36},1,null,null,1,1,{"$nulls":22},1,null,1,1,{"$nulls":4},1]
[150,"唯捷创芯","SH","唯捷创芯",{"$f":"VLOOKUP($D18,[1]Sheet1!$A$1:$M$5087,2,FALSE)","v":"688153.SH"},{"$f":"VLOOKUP($D18,[1]Sheet1!$A$1:$M$5087,9,FALSE)","v":"唯捷创芯(天津)电子技术股份有限公司"},{"$f":"VLOOKUP($D18,[1]Sheet1!$A$1:$M$5087,12,FALSE)","v":276223596.85},{"$f":"VLOOKUP($D18,[1]Sheet1!$A$1:$M$5087,13,FALSE)","v":1777497364.85},null,null,"Non_Beijing",null,null,1]
[168,"中控技术","SH","中控技术",{"$f":"VLOOKUP($D19,[1]Sheet1!$A$1:$M$5087,2,FALSE)","v":"688777.SH"},{"$f":"VLOOKUP($D19,[1]Sheet1!$A$1:$M$5087,9,FALSE)","v":"浙江中控技术股份有限公司"},{"$f":"VLOOKUP($D19,[1]Sheet1!$A$1:$M$5087,12,FALSE)","v":294025037.46},{"$f":"VLOOKUP($D19,[1]Sheet1!$A$1:$M$5087,13,FALSE)","v":4226806480.55},null,null,"Non_Beijing",{"$nulls":3},1,{"$nulls":17},1,1,null,1,{"$nulls":79},1,1,1]
[169,"中芯国际","SH","中芯国际",{"$f":"VLOOKUP($D20,[1]Sheet1!$A$1:$M$5087,2,FALSE)","v":"688981.SH"},{"$f":"VLOOKUP($D20,[1]Sheet1!$A$1:$M$5087,9,FALSE)","v":"中芯国际集成电路制造有限公司"},{"$f":"VLOOKUP($D20,[1]Sheet1!$A$1:$M$5087,12,FALSE)","v":{"v":80504741000,"d":"80504741000.00"}},{"$f":"VLOOKUP($D20,[1]Sheet1!$A$1:$M$5087,13,FALSE)","v":{"v":37763559000,"d":"37763559000.00"}},null,null,"Non_Beijing",null,null,1]
[11,"北信源","SZ","北信源",{"$f":"VLOOKUP($D21,[1]Sheet1!$A$1:$M$5087,2,FALSE)","v":"300352.SZ"},{"$f":"VLOOKUP($D21,[1]Sheet1!$A$1:$M$5087,9,FALSE)","v":"北京北信源软件股份有限公司"},{"$f":"VLOOKUP($D21,[1]Sheet1!$A$1:$M$5087,12,FALSE)","v":77074388.63},{"$f":"VLOOKUP($D21,[1]Sheet1!$A$1:$M$5087,13,FALSE)","v":464684362.74},null,null,"Beijing",{"$nulls":58},1]
[13,"东方国信","SZ","东方国信",{"$f":"VLOOKUP($D22,[1]Sheet1!$A$1:$M$5087,2,FALSE)","v":"300166.SZ"},{"$f":"VLOOKUP($D22,[1]Sheet1!$A$1:$M$5087,9,FALSE)","v":"北京东方国信科技股份有限公司"},{"$f":"VLOOKUP($D22,[1]Sheet1!$A$1:$M$5087,12,FALSE)","v":520633500.11},{"$f":"VLOOKUP($D22,[1]Sheet1!$A$1:$M$5087,13,FALSE)","v":1424966264.96},null,null,"Beijing",{"$nulls":7},1,{"$nulls":78},1,1,1,1,1,1,1,null,null,1,1,1,1,null,1,1,null,null,1,1,1]
[14,"东华软件","SZ","东华软件",{"$f":"VLOOKUP($D23,[1]Sheet1!$A$1:$M$5087,2,FALSE)","v":"002065.SZ"},{"$f":"VLOOKUP($D23,[1]Sheet1!$A$1:$M$5087,9,FALSE)","v":"东华软件股份公司"},{"$f":"VLOOKUP($D23,[1]Sheet1!$A$1:$M$5087,12,FALSE)","v":{"v":373161892.9,"d":"373161892.90"}},{"$f":"VLOOKUP($D23,[1]Sheet1!$A$1:$M$5087,13,FALSE)","v":7320357215.14},null,null,"Beijing",{"$nulls":24},1,{"$nulls":6},1]
[16,"东土科技","SZ","东土科技",{"$f":"VLOOKUP($D24,[1]Sheet1!$A$1:$M$5087,2,FALSE)","v":"300353.SZ"},{"$f":"VLOOKUP($D24,[1]Sheet1!$A$1:$M$5087,9,FALSE)","v":"北京东土科技股份有限公司"},{"$f":"VLOOKUP($D24,[1]Sheet1!$A$1:$M$5087,12,FALSE)","v":354573374.85},{"$f":"VLOOKUP($D24,[1]Sheet1!$A$1:$M$5087,13,FALSE)","v":581446025.63},null,null,"Beijing",{"$nulls":4},1,{"$nulls":99},1,1,1]
[25,"华大九天","SZ","华大九天",{"$f":"VLOOKUP($D25,[1]Sheet1!$A$1:$M$5087,2,FALSE)","v":"301269.SZ"},{"$f":"VLOOKUP($D25,[1]Sheet1!$A$1:$M$5087,9,FALSE)","v":"北京华大九天科技股份有限公司"},{"$f":"VLOOKUP($D25,[1]Sheet1!$A$1:$M$5087,12,FALSE)","v":{"v":490785437,"d":"490785437.00"}},{"$f":"VLOOKUP($D25,[1]Sheet1!$A$1:$M$5087,13,FALSE)","v":482790475.98},null,null,"Beijing",{"$nulls":17},1]
[37,"绿盟","SZ","绿盟科技",{"$f":"VLOOKUP($D26,[1]Sheet1!$A$1:$M$5087,2,FALSE)","v":"300369.SZ"},{"$f":"VLOOKUP($D26,[1]Sheet1!$A$1:$M$5087,9,FALSE)","v":"绿盟科技集团股份有限公司"},{"$f":"VLOOKUP($D26,[1]Sheet1!$A$1:$M$5087,12,FALSE)","v":262092897.51},{"$f":"VLOOKUP($D26,[1]Sheet1!$A$1:$M$5087,13,FALSE)","v":1387715116.74},null,null,"Beijing",{"$nulls":37},1,null,1,{"$nulls":3},1,{"$nulls":6},1,{"$nulls":8},1,{"$nulls":4},1]
[41,"启明星辰","SZ","启明星辰",{"$f":"VLOOKUP($D27,[1]Sheet1!$A$1:$M$5087,2,FALSE)","v":"002439.SZ"},{"$f":"VLOOKUP($D27,[1]Sheet1!$A$1:$M$5087,9,FALSE)","v":"启明星辰信息技术集团股份有限公司"},{"$f":"VLOOKUP($D27,[1]Sheet1!$A$1:$M$5087,12,FALSE)","v":670772838.93},{"$f":"VLOOKUP($D27,[1]Sheet1!$A$1:$M$5087,13,FALSE)","v":2168371071.21},null,null,"Beijing",{"$nulls":37},1,null,null,1,{"$nulls":9},1,1,null,1,1,{"$nulls":8},1,1,{"$nulls":5},1]
[53,"天融信","SZ","天融信",{"$f":"VLOOKUP($D28,[1]Sheet1!$A$1:$M$5087,2,FALSE)","v":"002212.SZ"},{"$f":"VLOOKUP($D28,[1]Sheet1!$A$1:$M$5087,9,FALSE)","v":"天融信科技集团股份有限公司"},{"$f":"VLOOKUP($D28,[1]Sheet1!$A$1:$M$5087,12,FALSE)","v":{"v":410157887.2,"d":"410157887.20"}},{"$f":"VLOOKUP($D28,[1]Sheet1!$A$1:$M$5087,13,FALSE)","v":1463262268.45},null,null,"Beijing",{"$nulls":38},1,1,1,{"$nulls":3},1,1,{"$nulls":6},1,1,1,1,{"$nulls":4},1,{"$nulls":3},1,1,null,null,1,1,1]
[69,"紫光集团","SZ","紫光股份",{"$f":"VLOOKUP($D29,[1]Sheet1!$A$1:$M$5087,2,FALSE)","v":"000938.SZ"},{"$f":"VLOOKUP($D29,[1]Sheet1!$A$1:$M$5087,9,FALSE)","v":"紫光股份有限公司"},{"$f":"VLOOKUP($D29,[1]Sheet1!$A$1:$M$5087,12,FALSE)","v":{"v":998745868.8,"d":"998745868.80"}},{"$f":"VLOOKUP($D29,[1]Sheet1!$A$1:$M$5087,13,FALSE)","v":53889951078.17},null,null,"Beijing",null,null,1]
[111,"鼎捷软件","SZ","鼎捷软件",{"$f":"VLOOKUP($D30,[1]Sheet1!$A$1:$M$5087,2,FALSE)","v":"300378.SZ"},{"$f":"VLOOKUP($D30,[1]Sheet1!$A$1:$M$5087,9,FALSE)","v":"鼎捷软件股份有限公司"},{"$f":"VLOOKUP($D30,[1]Sheet1!$A$1:$M$5087,12,FALSE)","v":715393050.95},{"$f":"VLOOKUP($D30,[1]Sheet1!$A$1:$M$5087,13,FALSE)","v":1278827820.91},null,null,"Non_Beijing",{"$nulls":16},1,{"$nulls":4},1,{"$nulls":7},1]
[112,"东华测试","SZ","东华测试",{"$f":"VLOOKUP($D31,[1]Sheet1!$A$1:$M$5087,2,FALSE)","v":"300354.SZ"},{"$f":"VLOOKUP($D31,[1]Sheet1!$A$1:$M$5087,9,FALSE)","v":"江苏东华测试技术股份有限公司"},{"$f":"VLOOKUP($D31,[1]Sheet1!$A$1:$M$5087,12,FALSE)","v":112545394.43},{"$f":"VLOOKUP($D31,[1]Sheet1!$A$1:$M$5087,13,FALSE)","v":223018698.69},null,null,"Non_Beijing",{"$nulls":27},1]
[119,"广联达","SZ","广联达",{"$f":"VLOOKUP($D32,[1]Sheet1!$A$1:$M$5087,2,FALSE)","v":"002410.SZ"},{"$f":"VLOOKUP($D32,[1]Sheet1!$A$1:$M$5087,9,FALSE)","v":"广联达科技股份有限公司"},{"$f":"VLOOKUP($D32,[1]Sheet1!$A$1:$M$5087,12,FALSE)","v":837950437.38},{"$f":"VLOOKUP($D32,[1]Sheet1!$A$1:$M$5087,13,FALSE)","v":4461263422.44},null,null,"Non_Beijing",{"$nulls":11},1]
[122,"国民技术","SZ","国民技术",{"$f":"VLOOKUP($D33,[1]Sheet1!$A$1:$M$5087,2,FALSE)","v":"300077.SZ"},{"$f":"VLOOKUP($D33,[1]Sheet1!$A$1:$M$5087,9,FALSE)","v":"国民技术股份有限公司"},{"$f":"VLOOKUP($D33,[1]Sheet1!$A$1:$M$5087,12,FALSE)","v":608924806.05},{"$f":"VLOOKUP($D33,[1]Sheet1!$A$1:$M$5087,13,FALSE)","v":934453079.39},null,null,"Non_Beijing",{"$nulls":47},1]
[123,"海得控制","SZ","海得控制",{"$f":"VLOOKUP($D34,[1]Sheet1!$A$1:$M$5087,2,FALSE)","v":"002184.SZ"},{"$f":"VLOOKUP($D34,[1]Sheet1!$A$1:$M$5087,9,FALSE)","v":"上海海得控制系统股份有限公司"},{"$f":"VLOOKUP($D34,[1]Sheet1!$A$1:$M$5087,12,FALSE)","v":215389974.76},{"$f":"VLOOKUP($D34,[1]Sheet1!$A$1:$M$5087,13,FALSE)","v":{"v":1683421687.8,"d":"1683421687.80"}},null,null,"Non_Beijing",{"$nulls":3},1]
[128,"华伍股份","SZ","华伍股份",{"$f":"VLOOKUP($D35,[1]Sheet1!$A$1:$M$5087,2,FALSE)","v":"300095.SZ"},{"$f":"VLOOKUP($D35,[1]Sheet1!$A$1:$M$5087,9,FALSE)","v":"江西华伍制动器股份有限公司"},{"$f":"VLOOKUP($D35,[1]Sheet1!$A$1:$M$5087,12,FALSE)","v":395125907.54},{"$f":"VLOOKUP($D35,[1]Sheet1!$A$1:$M$5087,13,FALSE)","v":1054489165.01},null,null,"Non_Beijing",{"$nulls":3},1]
[129,"华中数控","SZ","华中数控",{"$f":"VLOOKUP($D36,[1]Sheet1!$A$1:$M$5087,2,FALSE)","v":"300161.SZ"},{"$f":"VLOOKUP($D36,[1]Sheet1!$A$1:$M$5087,9,FALSE)","v":"武汉华中数控股份有限公司"},{"$f":"VLOOKUP($D36,[1]Sheet1!$A$1:$M$5087,12,FALSE)","v":289755400.83},{"$f":"VLOOKUP($D36,[1]Sheet1!$A$1:$M$5087,13,FALSE)","v":972013690.84},null,null,"Non_Beijing",{"$nulls":3},1,{"$nulls":4},1]
[132,"科远智慧","SZ","科远智慧",{"$f":"VLOOKUP($D37,[1]Sheet1!$A$1:$M$5087,2,FALSE)","v":"002380.SZ"},{"$f":"VLOOKUP($D37,[1]Sheet1!$A$1:$M$5087,9,FALSE)","v":"南京科远智慧科技集团股份有限公司"},{"$f":"VLOOKUP($D37,[1]Sheet1!$A$1:$M$5087,12,FALSE)","v":969426870.23},{"$f":"VLOOKUP($D37,[1]Sheet1!$A$1:$M$5087,13,FALSE)","v":899942881.64},null,null,"Non_Beijing",{"$nulls":22},1]
[133,"蓝盾股份","SZ","*ST蓝盾",{"$f":"VLOOKUP($D38,[1]Sheet1!$A$1:$M$5087,2,FALSE)","v":"300297.SZ"},{"$f":"VLOOKUP($D38,[1]Sheet1!$A$1:$M$5087,9,FALSE)","v":"蓝盾信息安全技术股份有限公司"},{"$f":"VLOOKUP($D38,[1]Sheet1!$A$1:$M$5087,12,FALSE)","v":259710145.88},{"$f":"VLOOKUP($D38,[1]Sheet1!$A$1:$M$5087,13,FALSE)","v":122955458.65},null,null,"Non_Beijing",{"$nulls":38},1,{"$nulls":18},1]
[136,"美的","SZ","美的集团",{"$f":"VLOOKUP($D39,[1]Sheet1!$A$1:$M$5087,2,FALSE)","v":"000333.SZ"},{"$f":"VLOOKUP($D39,[1]Sheet1!$A$1:$M$5087,9,FALSE)","v":"美的集团股份有限公司"},{"$f":"VLOOKUP($D39,[1]Sheet1!$A$1:$M$5087,12,FALSE)","v":{"v":24084306000,"d":"24084306000.00"}},{"$f":"VLOOKUP($D39,[1]Sheet1!$A$1:$M$5087,13,FALSE)","v":{"v":271775057000,"d":"271775057000.00"}},null,null,"Non_Beijing",{"$nulls":6},1]
[138,"启明信息","SZ","启明信息",{"$f":"VLOOKUP($D40,[1]Sheet1!$A$1:$M$5087,2,FALSE)","v":"002232.SZ"},{"$f":"VLOOKUP($D40,[1]Sheet1!$A$1:$M$5087,9,FALSE)","v":"启明信息技术股份有限公司"},{"$f":"VLOOKUP($D40,[1]Sheet1!$A$1:$M$5087,12,FALSE)","v":{"v":181304164.5,"d":"181304164.50"}},{"$f":"VLOOKUP($D40,[1]Sheet1!$A$1:$M$5087,13,FALSE)","v":1045211164.37},null,null,"Non_Beijing",{"$nulls":15},1]
[142,"深信服","SZ","深信服",{"$f":"VLOOKUP($D41,[1]Sheet1!$A$1:$M$5087,2,FALSE)","v":"300454.SZ"},{"$f":"VLOOKUP($D41,[1]Sheet1!$A$1:$M$5087,9,FALSE)","v":"深信服科技股份有限公司"},{"$f":"VLOOKUP($D41,[1]Sheet1!$A$1:$M$5087,12,FALSE)","v":397106309.61},{"$f":"VLOOKUP($D41,[1]Sheet1!$A$1:$M$5087,13,FALSE)","v":4747570800.63},null,null,"Non_Beijing",{"$nulls":36},1,{"$nulls":7},1,1,{"$nulls":9},1]
[147,"拓邦股份","SZ","拓邦股份",{"$f":"VLOOKUP($D42,[1]Sheet1!$A$1:$M$5087,2,FALSE)","v":"002139.SZ"},{"$f":"VLOOKUP($D42,[1]Sheet1!$A$1:$M$5087,9,FALSE)","v":"深圳拓邦股份有限公司"},{"$f":"VLOOKUP($D42,[1]Sheet1!$A$1:$M$5087,12,FALSE)","v":1779362145.89},{"$f":"VLOOKUP($D42,[1]Sheet1!$A$1:$M$5087,13,FALSE)","v":6535436281.01},null,null,"Non_Beijing",{"$nulls":3},1]
[152,"卫士通","SZ","电科网安",{"$f":"VLOOKUP($D43,[1]Sheet1!$A$1:$M$5087,2,FALSE)","v":"002268.SZ"},{"$f":"VLOOKUP($D43,[1]Sheet1!$A$1:$M$5087,9,FALSE)","v":"中电科网络安全科技股份有限公司"},{"$f":"VLOOKUP($D43,[1]Sheet1!$A$1:$M$5087,12,FALSE)","v":296422684.71},{"$f":"VLOOKUP($D43,[1]Sheet1!$A$1:$M$5087,13,FALSE)","v":2058862678.03},null,null,"Non_Beijing",{"$nulls":57},1]
[159,"徐工集团","SZ","徐工机械",{"$f":"VLOOKUP($D44,[1]Sheet1!$A$1:$M$5087,2,FALSE)","v":"000425.SZ"},{"$f":"VLOOKUP($D44,[1]Sheet1!$A$1:$M$5087,9,FALSE)","v":"徐工集团工程机械股份有限公司"},{"$f":"VLOOKUP($D44,[1]Sheet1!$A$1:$M$5087,12,FALSE)","v":17139211628.18},{"$f":"VLOOKUP($D44,[1]Sheet1!$A$1:$M$5087,13,FALSE)","v":75110303698.77},null,null,"Non_Beijing",{"$nulls":81},1,1,1,1]
[167,"中环股份","SZ","TCL中环",{"$f":"VLOOKUP($D45,[1]Sheet1!$A$1:$M$5087,2,FALSE)","v":"002129.SZ"},{"$f":"VLOOKUP($D45,[1]Sheet1!$A$1:$M$5087,9,FALSE)","v":"TCL中环新能源科技股份有限公司"},{"$f":"VLOOKUP($D45,[1]Sheet1!$A$1:$M$5087,12,FALSE)","v":36776860983.91},{"$f":"VLOOKUP($D45,[1]Sheet1!$A$1:$M$5087,13,FALSE)","v":49844887499.06},null,null,"Non_Beijing",null,null,1]
[1,"51WORLD",null,"51WORLD",null,"北京五一视界数字孪生科技股份有限公司",{"v":524000000,"d":"524000000.00"},{"v":138000000,"d":"138000000.00"},null,null,"Beijing",{"$nulls":79},1]
[2,"706所",null,"706所",null,"北京航天爱威电子技术有限公司",{"$nulls":4},"Beijing",{"$nulls":4},1]
[3,"艾克斯特",null,"艾克斯特",null,"北京艾克斯特科技有限公司",{"$nulls":3},{"v":50,"d":"50.00"},"Beijing",{"$nulls":14},1,1,1,{"$nulls":12},1]
[4,"爱创科技",null,"爱创科技",null,"北京爱创科技股份有限公司",{"$f":"VLOOKUP($D49,[1]Sheet1!$A$1:$M$5087,12,FALSE)","v":{"$error":"#N/A"}},{"$f":"VLOOKUP($D49,[1]Sheet1!$A$1:$M$5087,13,FALSE)","v":{"$error":"#N/A"}},null,null,"Beijing",{"$nulls":7},1]
[5,"安华金和",null,"安华金和",null,"北京安华金和科技有限公司",{"$f":"VLOOKUP($D50,[1]Sheet1!$A$1:$M$5087,12,FALSE)","v":{"$error":"#N/A"}},{"$f":"VLOOKUP($D50,[1]Sheet1!$A$1:$M$5087,13,FALSE)","v":{"$error":"#N/A"}},null,null,"Beijing",{"$nulls":65},1,1,1,{"$nulls":3},1]
[6,"安世亚太",null,"安世亚太",null,"安世亚太科技股份有限公司",{"$f":"VLOOKUP($D51,[1]Sheet1!$A$1:$M$5087,12,FALSE)","v":{"$error":"#N/A"}},{"$f":"VLOOKUP($D51,[1]Sheet1!$A$1:$M$5087,13,FALSE)","v":{"$error":"#N/A"}},null,null,"Beijing",{"$nulls":12},1,{"$nulls":68},1,1,1,1]
[7,"百望",null,"百望",null,"百望股份有限公司",{"$f":"VLOOKUP($D52,[1]Sheet1!$A$1:$M$5087,12,FALSE)","v":{"$error":"#N/A"}},{"$f":"VLOOKUP($D52,[1]Sheet1!$A$1:$M$5087,13,FALSE)","v":{"$error":"#N/A"}},null,null,"Beijing",{"$nulls":102},1]
[8,"梆梆安全",null,"梆梆安全",null,"北京梆梆安全科技有限公司",{"$f":"VLOOKUP($D53,[1]Sheet1!$A$1:$M$5087,12,FALSE)","v":{"$error":"#N/A"}},{"$f":"VLOOKUP($D53,[1]Sheet1!$A$1:$M$5087,13,FALSE)","v":{"$error":"#N/A"}},null,null,"Beijing",{"$nulls":36},1]
[9,"北京航天测控",null,"北京航天测控",null,"北京航天测控技术有限公司",{"$f":"VLOOKUP($D54,[1]Sheet1!$A$1:$M$5087,12,FALSE)","v":{"$error":"#N/A"}},{"$f":"VLOOKUP($D54,[1]Sheet1!$A$1:$M$5087,13,FALSE)","v":{"$error":"#N/A"}},null,null,"Beijing",{"$nulls":26},1,1]
[10,"北京英贝思",null,"北京英贝思",null,"北京英贝思科技有限公司",{"$f":"VLOOKUP($D55,[1]Sheet1!$A$1:$M$5087,12,FALSE)","v":{"$error":"#N/A"}},{"$f":"VLOOKUP($D55,[1]Sheet1!$A$1:$M$5087,13,FALSE)","v":{"$error":"#N/A"}},null,null,"Beijing",{"$nulls":25},1]
[12,"大唐软件",null,"大唐软件",{"$f":"VLOOKUP($D56,[1]Sheet1!$A$1:$M$5087,2,FALSE)","v":{"$error":"#N/A"}},"大唐软件技术股份有限公司",{"$f":"VLOOKUP($D56,[1]Sheet1!$A$1:$M$5087,12,FALSE)","v":{"$error":"#N/A"}},{"$f":"VLOOKUP($D56,[1]Sheet1!$A$1:$M$5087,13,FALSE)","v":{"$error":"#N/A"}},null,null,"Beijing",{"$nulls":6},1]
[17,"国保金泰",null,"国保金泰",{"$f":"VLOOKUP($D57,[1]Sheet1!$A$1:$M$5087,2,FALSE)","v":{"$error":"#N/A"}},"北京国保金泰信息安全技术有限公司",{"$f":"VLOOKUP($D57,[1]Sheet1!$A$1:$M$5087,12,FALSE)","v":{"$error":"#N/A"}},{"$f":"VLOOKUP($D57,[1]Sheet1!$A$1:$M$5087,13,FALSE)","v":{"$error":"#N/A"}},null,null,"Beijing",{"$nulls":45},1]
[18,"国能智深",null,"国能智深",{"$f":"VLOOKUP($D58,[1]Sheet1!$A$1:$M$5087,2,FALSE)","v":{"$error":"#N/A"}},"国能智深控制技术有限公司",{"$f":"VLOOKUP($D58,[1]Sheet1!$A$1:$M$5087,12,FALSE)","v":{"$error":"#N/A"}},{"$f":"VLOOKUP($D58,[1]Sheet1!$A$1:$M$5087,13,FALSE)","v":{"$error":"#N/A"}},null,null,"Beijing",{"$nulls":22},1]
[19,"国泰网信",null,"国泰网信",{"$f":"VLOOKUP($D59,[1]Sheet1!$A$1:$M$5087,2,FALSE)","v":{"$error":"#N/A"}},"北京国泰网信科技有限公司",{"$f":"VLOOKUP($D59,[1]Sheet1!$A$1:$M$5087,12,FALSE)","v":{"$error":"#N/A"}},{"$f":"VLOOKUP($D59,[1]Sheet1!$A$1:$M$5087,13,FALSE)","v":{"$error":"#N/A"}},null,null,"Beijing",{"$nulls":42},1]
[20,"海基科技",null,"海基科技",{"$f":"VLOOKUP($D60,[1]Sheet1!$A$1:$M$5087,2,FALSE)","v":{"$error":"#N/A"}},"北京海基科技发展有限责任公司",{"$f":"VLOOKUP($D60,[1]Sheet1!$A$1:$M$5087,12,FALSE)","v":{"$error":"#N/A"}},{"$f":"VLOOKUP($D60,[1]Sheet1!$A$1:$M$5087,13,FALSE)","v":{"$error":"#N/A"}},null,null,"Beijing",{"$nulls":12},1]
[21,"海克斯康","Nasdaq ","海克斯康","HEXA B","海克斯康集团",{"$f":"VLOOKUP($D61,[1]Sheet1!$A$1:$M$5087,12,FALSE)","v":{"$error":"#N/A"}},{"$f":"VLOOKUP($D61,[1]Sheet1!$A$1:$M$5087,13,FALSE)","v":{"$error":"#N/A"}},null,null,"Foreign",{"$nulls":13},1]
[22,"航天云网",null,"航天云网",{"$f":"VLOOKUP($D62,[1]Sheet1!$A$1:$M$5087,2,FALSE)","v":{"$error":"#N/A"}},"航天云网科技发展有限责任公司",{"$f":"VLOOKUP($D62,[1]Sheet1!$A$1:$M$5087,12,FALSE)","v":{"$error":"#N/A"}},{"$f":"VLOOKUP($D62,[1]Sheet1!$A$1:$M$5087,13,FALSE)","v":{"$error":"#N/A"}},null,null,"Beijing",{"$nulls":6},1,1,{"$nulls":18},1,{"$nulls":48},1,1,1,1,1,{"$nulls":6},1,1,1,1,1,1,1,null,null,1,1,1,1,null,1,1,null,null,1,1,1]
[23,"和利时","Nasdaq ","和利时","HOLI","和利时科技集团有限公司",{"$f":"VLOOKUP($D63,[1]Sheet1!$A$1:$M$5087,12,FALSE)","v":{"$error":"#N/A"}},{"$f":"VLOOKUP($D63,[1]Sheet1!$A$1:$M$5087,13,FALSE)","v":{"$error":"#N/A"}},null,null,"Beijing",{"$nulls":3},1,{"$nulls":17},1,1,1,1,{"$nulls":23},1,{"$nulls":42},1,{"$nulls":12},1,1,1]
[24,"华大电子","HK","华大电子","00085","北京中电华大电子设计有限责任公司",{"$f":"VLOOKUP($D64,[1]Sheet1!$A$1:$M$5087,12,FALSE)","v":{"$error":"#N/A"}},{"$f":"VLOOKUP($D64,[1]Sheet1!$A$1:$M$5087,13,FALSE)","v":{"$error":"#N/A"}},null,null,"Beijing",null,null,1]
[26,"寄云科技",null,"寄云科技",{"$f":"VLOOKUP($D65,[1]Sheet1!$A$1:$M$5087,2,FALSE)","v":{"$error":"#N/A"}},"北京寄云科技有限公司",{"$f":"VLOOKUP($D65,[1]Sheet1!$A$1:$M$5087,12,FALSE)","v":{"$error":"#N/A"}},{"$f":"VLOOKUP($D65,[1]Sheet1!$A$1:$M$5087,13,FALSE)","v":{"$error":"#N/A"}},null,null,"Beijing",{"$nulls":86},1,1,1,1,1,1,1]
[27,"江南天安",null,"江南天安",{"$f":"VLOOKUP($D66,[1]Sheet1!$A$1:$M$5087,2,FALSE)","v":{"$error":"#N/A"}},"北京江南天安科技有限公司",{"$f":"VLOOKUP($D66,[1]Sheet1!$A$1:$M$5087,12,FALSE)","v":{"$error":"#N/A"}},{"$f":"VLOOKUP($D66,[1]Sheet1!$A$1:$M$5087,13,FALSE)","v":{"$error":"#N/A"}},null,null,"Beijing",{"$nulls":58},1]
[28,"金山",null,"金山云",{"$f":"VLOOKUP($D67,[1]Sheet1!$A$1:$M$5087,2,FALSE)","v":{"$error":"#N/A"}},{"$f":"VLOOKUP($D67,[1]Sheet1!$A$1:$M$5087,9,FALSE)","v":{"$error":"#N/A"}},{"$f":"VLOOKUP($D67,[1]Sheet1!$A$1:$M$5087,12,FALSE)","v":{"$error":"#N/A"}},{"$f":"VLOOKUP($D67,[1]Sheet1!$A$1:$M$5087,13,FALSE)","v":{"$error":"#N/A"}},null,null,"Beijing",{"$nulls":102},1]
[29,"京东工业品",null,"京东集团",{"$f":"VLOOKUP($D68,[1]Sheet1!$A$1:$M$5087,2,FALSE)","v":{"$error":"#N/A"}},{"$f":"VLOOKUP($D68,[1]Sheet1!$A$1:$M$5087,9,FALSE)","v":{"$error":"#N/A"}},{"$f":"VLOOKUP($D68,[1]Sheet1!$A$1:$M$5087,12,FALSE)","v":{"$error":"#N/A"}},{"$f":"VLOOKUP($D68,[1]Sheet1!$A$1:$M$5087,13,FALSE)","v":{"$error":"#N/A"}},null,null,"Beijing",{"$nulls":26},1]
[30,"可信华泰",null,"可信华泰",{"$f":"VLOOKUP($D69,[1]Sheet1!$A$1:$M$5087,2,FALSE)","v":{"$error":"#N/A"}},{"$f":"VLOOKUP($D69,[1]Sheet1!$A$1:$M$5087,9,FALSE)","v":{"$error":"#N/A"}},{"$f":"VLOOKUP($D69,[1]Sheet1!$A$1:$M$5087,12,FALSE)","v":{"$error":"#N/A"}},{"$f":"VLOOKUP($D69,[1]Sheet1!$A$1:$M$5087,13,FALSE)","v":{"$error":"#N/A"}},null,null,"Beijing",{"$nulls":47},1]
[31,"昆仑数据",null,"昆仑数据",{"$f":"VLOOKUP($D70,[1]Sheet1!$A$1:$M$5087,2,FALSE)","v":{"$error":"#N/A"}},{"$f":"VLOOKUP($D70,[1]Sheet1!$A$1:$M$5087,9,FALSE)","v":{"$error":"#N/A"}},{"$f":"VLOOKUP($D70,[1]Sheet1!$A$1:$M$5087,12,FALSE)","v":{"$error":"#N/A"}},{"$f":"VLOOKUP($D70,[1]Sheet1!$A$1:$M$5087,13,FALSE)","v":{"$error":"#N/A"}},null,null,"Beijing",{"$nulls":23},1,{"$nulls":71},1,1,1,1,null,1,1]
[32,"兰光创新",null,"兰光创新",{"$f":"VLOOKUP($D71,[1]Sheet1!$A$1:$M$5087,2,FALSE)","v":{"$error":"#N/A"}},{"$f":"VLOOKUP($D71,[1]Sheet1!$A$1:$M$5087,9,FALSE)","v":{"$error":"#N/A"}},{"$f":"VLOOKUP($D71,[1]Sheet1!$A$1:$M$5087,12,FALSE)","v":{"$error":"#N/A"}},{"$f":"VLOOKUP($D71,[1]Sheet1!$A$1:$M$5087,13,FALSE)","v":{"$error":"#N/A"}},null,null,"Beijing",{"$nulls":8},1]
[33,"蓝谷信息",null,"蓝谷信息",{"$f":"VLOOKUP($D72,[1]Sheet1!$A$1:$M$5087,2,FALSE)","v":{"$error":"#N/A"}},{"$f":"VLOOKUP($D72,[1]Sheet1!$A$1:$M$5087,9,FALSE)","v":{"$error":"#N/A"}},{"$f":"VLOOKUP($D72,[1]Sheet1!$A$1:$M$5087,12,FALSE)","v":{"$error":"#N/A"}},{"$f":"VLOOKUP($D72,[1]Sheet1!$A$1:$M$5087,13,FALSE)","v":{"$error":"#N/A"}},null,null,"Beijing",{"$nulls":81},1,1,1,1]
[34,"力控科技",null,"力控科技",{"$f":"VLOOKUP($D73,[1]Sheet1!$A$1:$M$5087,2,FALSE)","v":{"$error":"#N/A"}},{"$f":"VLOOKUP($D73,[1]Sheet1!$A$1:$M$5087,9,FALSE)","v":{"$error":"#N/A"}},{"$f":"VLOOKUP($D73,[1]Sheet1!$A$1:$M$5087,12,FALSE)","v":{"$error":"#N/A"}},{"$f":"VLOOKUP($D73,[1]Sheet1!$A$1:$M$5087,13,FALSE)","v":{"$error":"#N/A"}},null,null,"Beijing",{"$nulls":23},1]
[35,"凌昊智能",null,"凌昊智能",{"$f":"VLOOKUP($D74,[1]Sheet1!$A$1:$M$5087,2,FALSE)","v":{"$error":"#N/A"}},{"$f":"VLOOKUP($D74,[1]Sheet1!$A$1:$M$5087,9,FALSE)","v":{"$error":"#N/A"}},{"$f":"VLOOKUP($D74,[1]Sheet1!$A$1:$M$5087,12,FALSE)","v":{"$error":"#N/A"}},{"$f":"VLOOKUP($D74,[1]Sheet1!$A$1:$M$5087,13,FALSE)","v":{"$error":"#N/A"}},null,null,"Beijing",{"$nulls":4},1]
[38,"牛刀",null,"起步科技",{"$f":"VLOOKUP($D75,[1]Sheet1!$A$1:$M$5087,2,FALSE)","v":{"$error":"#N/A"}},{"$f":"VLOOKUP($D75,[1]Sheet1!$A$1:$M$5087,9,FALSE)","v":{"$error":"#N/A"}},{"$f":"VLOOKUP($D75,[1]Sheet1!$A$1:$M$5087,12,FALSE)","v":{"$error":"#N/A"}},{"$f":"VLOOKUP($D75,[1]Sheet1!$A$1:$M$5087,13,FALSE)","v":{"$error":"#N/A"}},null,null,"Beijing",{"$nulls":75},1,1,1,1,1]
[39,"欧特克",null,"欧特克",{"$f":"VLOOKUP($D76,[1]Sheet1!$A$1:$M$5087,2,FALSE)","v":{"$error":"#N/A"}},{"$f":"VLOOKUP($D76,[1]Sheet1!$A$1:$M$5087,9,FALSE)","v":{"$error":"#N/A"}},{"$f":"VLOOKUP($D76,[1]Sheet1!$A$1:$M$5087,12,FALSE)","v":{"$error":"#N/A"}},{"$f":"VLOOKUP($D76,[1]Sheet1!$A$1:$M$5087,13,FALSE)","v":{"$error":"#N/A"}},null,null,"Beijing",{"$nulls":13},1]
[42,"山大华天",null,"山大华天",{"$f":"VLOOKUP($D77,[1]Sheet1!$A$1:$M$5087,2,FALSE)","v":{"$error":"#N/A"}},{"$f":"VLOOKUP($D77,[1]Sheet1!$A$1:$M$5087,9,FALSE)","v":{"$error":"#N/A"}},{"$f":"VLOOKUP($D77,[1]Sheet1!$A$1:$M$5087,12,FALSE)","v":{"$error":"#N/A"}},{"$f":"VLOOKUP($D77,[1]Sheet1!$A$1:$M$5087,13,FALSE)","v":{"$error":"#N/A"}},null,null,"Beijing",{"$nulls":11},1,null,1,1]
[43,"神舟软件",null,"神舟软件",{"$f":"VLOOKUP($D78,[1]Sheet1!$A$1:$M$5087,2,FALSE)","v":{"$error":"#N/A"}},{"$f":"VLOOKUP($D78,[1]Sheet1!$A$1:$M$5087,9,FALSE)","v":{"$error":"#N/A"}},{"$f":"VLOOKUP($D78,[1]Sheet1!$A$1:$M$5087,12,FALSE)","v":{"$error":"#N/A"}},{"$f":"VLOOKUP($D78,[1]Sheet1!$A$1:$M$5087,13,FALSE)","v":{"$error":"#N/A"}},null,null,"Beijing",{"$nulls":15},1,1]
[44,"圣邦微电子",null,"圣邦微电子",{"$f":"VLOOKUP($D79,[1]Sheet1!$A$1:$M$5087,2,FALSE)","v":{"$error":"#N/A"}},{"$f":"VLOOKUP($D79,[1]Sheet1!$A$1:$M$5087,9,FALSE)","v":{"$error":"#N/A"}},{"$f":"VLOOKUP($D79,[1]Sheet1!$A$1:$M$5087,12,FALSE)","v":{"$error":"#N/A"}},{"$f":"VLOOKUP($D79,[1]Sheet1!$A$1:$M$5087,13,FALSE)","v":{"$error":"#N/A"}},null,null,"Beijing",null,null,1]
[45,"石化盈科",null,"石化盈科",{"$f":"VLOOKUP($D80,[1]Sheet1!$A$1:$M$5087,2,FALSE)","v":{"$error":"#N/A"}},{"$f":"VLOOKUP($D80,[1]Sheet1!$A$1:$M$5087,9,FALSE)","v":{"$error":"#N/A"}},{"$f":"VLOOKUP($D80,[1]Sheet1!$A$1:$M$5087,12,FALSE)","v":{"$error":"#N/A"}},{"$f":"VLOOKUP($D80,[1]Sheet1!$A$1:$M$5087,13,FALSE)","v":{"$error":"#N/A"}},null,null,"Beijing",{"$nulls":21},1,{"$nulls":7},1,1,{"$nulls":64},1,1,1,1,null,1,1]
[46,"适创科技",null,"适创科技",{"$f":"VLOOKUP($D81,[1]Sheet1!$A$1:$M$5087,2,FALSE)","v":{"$error":"#N/A"}},{"$f":"VLOOKUP($D81,[1]Sheet1!$A$1:$M$5087,9,FALSE)","v":{"$error":"#N/A"}},{"$f":"VLOOKUP($D81,[1]Sheet1!$A$1:$M$5087,12,FALSE)","v":{"$error":"#N/A"}},{"$f":"VLOOKUP($D81,[1]Sheet1!$A$1:$M$5087,13,FALSE)","v":{"$error":"#N/A"}},null,null,"Beijing",{"$nulls":12},1]
[47,"首自信",null,"首自信",{"$f":"VLOOKUP($D82,[1]Sheet1!$A$1:$M$5087,2,FALSE)","v":{"$error":"#N/A"}},{"$f":"VLOOKUP($D82,[1]Sheet1!$A$1:$M$5087,9,FALSE)","v":{"$error":"#N/A"}},{"$f":"VLOOKUP($D82,[1]Sheet1!$A$1:$M$5087,12,FALSE)","v":{"$error":"#N/A"}},{"$f":"VLOOKUP($D82,[1]Sheet1!$A$1:$M$5087,13,FALSE)","v":{"$error":"#N/A"}},null,null,"Beijing",{"$nulls":75},1,1,1,1,null,null,1,1,1,1,{"$nulls":6},1]
[48,"曙光信息",null,"曙光信息",{"$f":"VLOOKUP($D83,[1]Sheet1!$A$1:$M$5087,2,FALSE)","v":{"$error":"#N/A"}},{"$f":"VLOOKUP($D83,[1]Sheet1!$A$1:$M$5087,9,FALSE)","v":{"$error":"#N/A"}},{"$f":"VLOOKUP($D83,[1]Sheet1!$A$1:$M$5087,12,FALSE)","v":{"$error":"#N/A"}},{"$f":"VLOOKUP($D83,[1]Sheet1!$A$1:$M$5087,13,FALSE)","v":{"$error":"#N/A"}},null,null,"Beijing",{"$nulls":7},1]
[49,"数码大方",null,"数码大方",{"$f":"VLOOKUP($D84,[1]Sheet1!$A$1:$M$5087,2,FALSE)","v":{"$error":"#N/A"}},{"$f":"VLOOKUP($D84,[1]Sheet1!$A$1:$M$5087,9,FALSE)","v":{"$error":"#N/A"}},{"$f":"VLOOKUP($D84,[1]Sheet1!$A$1:$M$5087,12,FALSE)","v":{"$error":"#N/A"}},{"$f":"VLOOKUP($D84,[1]Sheet1!$A$1:$M$5087,13,FALSE)","v":{"$error":"#N/A"}},null,null,"Beijing",{"$nulls":11},1,null,null,1,null,1,{"$nulls":4},1,{"$nulls":59},1,1,1,1]
[50,"索为系统",null,"索为系统",{"$f":"VLOOKUP($D85,[1]Sheet1!$A$1:$M$5087,2,FALSE)","v":{"$error":"#N/A"}},{"$f":"VLOOKUP($D85,[1]Sheet1!$A$1:$M$5087,9,FALSE)","v":{"$error":"#N/A"}},{"$f":"VLOOKUP($D85,[1]Sheet1!$A$1:$M$5087,12,FALSE)","v":{"$error":"#N/A"}},{"$f":"VLOOKUP($D85,[1]Sheet1!$A$1:$M$5087,13,FALSE)","v":{"$error":"#N/A"}},null,null,"Beijing",{"$nulls":15},1]
[51,"天地和兴",null,"天地和兴",{"$f":"VLOOKUP($D86,[1]Sheet1!$A$1:$M$5087,2,FALSE)","v":{"$error":"#N/A"}},{"$f":"VLOOKUP($D86,[1]Sheet1!$A$1:$M$5087,9,FALSE)","v":{"$error":"#N/A"}},{"$f":"VLOOKUP($D86,[1]Sheet1!$A$1:$M$5087,12,FALSE)","v":{"$error":"#N/A"}},{"$f":"VLOOKUP($D86,[1]Sheet1!$A$1:$M$5087,13,FALSE)","v":{"$error":"#N/A"}},null,null,"Beijing",{"$nulls":42},1]
[52,"天空卫士",null,"天空卫士",{"$f":"VLOOKUP($D87,[1]Sheet1!$A$1:$M$5087,2,FALSE)","v":{"$error":"#N/A"}},{"$f":"VLOOKUP($D87,[1]Sheet1!$A$1:$M$5087,9,FALSE)","v":{"$error":"#N/A"}},{"$f":"VLOOKUP($D87,[1]Sheet1!$A$1:$M$5087,12,FALSE)","v":{"$error":"#N/A"}},{"$f":"VLOOKUP($D87,[1]Sheet1!$A$1:$M$5087,13,FALSE)","v":{"$error":"#N/A"}},null,null,"Beijing",{"$nulls":67},1]
[54,"网御星云",null,"网御星云",{"$f":"VLOOKUP($D88,[1]Sheet1!$A$1:$M$5087,2,FALSE)","v":{"$error":"#N/A"}},{"$f":"VLOOKUP($D88,[1]Sheet1!$A$1:$M$5087,9,FALSE)","v":{"$error":"#N/A"}},{"$f":"VLOOKUP($D88,[1]Sheet1!$A$1:$M$5087,12,FALSE)","v":{"$error":"#N/A"}},{"$f":"VLOOKUP($D88,[1]Sheet1!$A$1:$M$5087,13,FALSE)","v":{"$error":"#N/A"}},null,null,"Beijing",{"$nulls":38},1,{"$nulls":6},1,{"$nulls":13},1]
[55,"威努特",null,"威努特",{"$f":"VLOOKUP($D89,[1]Sheet1!$A$1:$M$5087,2,FALSE)","v":{"$error":"#N/A"}},{"$f":"VLOOKUP($D89,[1]Sheet1!$A$1:$M$5087,9,FALSE)","v":{"$error":"#N/A"}},{"$f":"VLOOKUP($D89,[1]Sheet1!$A$1:$M$5087,12,FALSE)","v":{"$error":"#N/A"}},{"$f":"VLOOKUP($D89,[1]Sheet1!$A$1:$M$5087,13,FALSE)","v":{"$error":"#N/A"}},null,null,"Beijing",{"$nulls":36},1,1,1,{"$nulls":3},1,1,{"$nulls":16},1]
[56,"芯愿景",null,"芯愿景",{"$f":"VLOOKUP($D90,[1]Sheet1!$A$1:$M$5087,2,FALSE)","v":{"$error":"#N/A"}},{"$f":"VLOOKUP($D90,[1]Sheet1!$A$1:$M$5087,9,FALSE)","v":{"$error":"#N/A"}},{"$f":"VLOOKUP($D90,[1]Sheet1!$A$1:$M$5087,12,FALSE)","v":{"$error":"#N/A"}},{"$f":"VLOOKUP($D90,[1]Sheet1!$A$1:$M$5087,13,FALSE)","v":{"$error":"#N/A"}},null,null,"Beijing",null,null,1,{"$nulls":14},1]
[57,"亚控科技",null,"亚控科技",{"$f":"VLOOKUP($D91,[1]Sheet1!$A$1:$M$5087,2,FALSE)","v":{"$error":"#N/A"}},{"$f":"VLOOKUP($D91,[1]Sheet1!$A$1:$M$5087,9,FALSE)","v":{"$error":"#N/A"}},{"$f":"VLOOKUP($D91,[1]Sheet1!$A$1:$M$5087,12,FALSE)","v":{"$error":"#N/A"}},{"$f":"VLOOKUP($D91,[1]Sheet1!$A$1:$M$5087,13,FALSE)","v":{"$error":"#N/A"}},null,null,"Beijing",{"$nulls":23},1,{"$nulls":80},1,1,1]
[59,"优特捷",null,"优特捷",{"$f":"VLOOKUP($D92,[1]Sheet1!$A$1:$M$5087,2,FALSE)","v":{"$error":"#N/A"}},{"$f":"VLOOKUP($D92,[1]Sheet1!$A$1:$M$5087,9,FALSE)","v":{"$error":"#N/A"}},{"$f":"VLOOKUP($D92,[1]Sheet1!$A$1:$M$5087,12,FALSE)","v":{"$error":"#N/A"}},{"$f":"VLOOKUP($D92,[1]Sheet1!$A$1:$M$5087,13,FALSE)","v":{"$error":"#N/A"}},null,null,"Beijing",{"$nulls":46},1]
[60,"宇动源",null,"宇动源",{"$f":"VLOOKUP($D93,[1]Sheet1!$A$1:$M$5087,2,FALSE)","v":{"$error":"#N/A"}},{"$f":"VLOOKUP($D93,[1]Sheet1!$A$1:$M$5087,9,FALSE)","v":{"$error":"#N/A"}},{"$f":"VLOOKUP($D93,[1]Sheet1!$A$1:$M$5087,12,FALSE)","v":{"$error":"#N/A"}},{"$f":"VLOOKUP($D93,[1]Sheet1!$A$1:$M$5087,13,FALSE)","v":{"$error":"#N/A"}},null,null,"Beijing",{"$nulls":75},1,1,1,1,1]
[61,"元年科技",null,"元年科技",{"$f":"VLOOKUP($D94,[1]Sheet1!$A$1:$M$5087,2,FALSE)","v":{"$error":"#N/A"}},{"$f":"VLOOKUP($D94,[1]Sheet1!$A$1:$M$5087,9,FALSE)","v":{"$error":"#N/A"}},{"$f":"VLOOKUP($D94,[1]Sheet1!$A$1:$M$5087,12,FALSE)","v":{"$error":"#N/A"}},{"$f":"VLOOKUP($D94,[1]Sheet1!$A$1:$M$5087,13,FALSE)","v":{"$error":"#N/A"}},null,null,"Beijing",{"$nulls":23},1]
[62,"云道智造",null,"云道智造",{"$f":"VLOOKUP($D95,[1]Sheet1!$A$1:$M$5087,2,FALSE)","v":{"$error":"#N/A"}},{"$f":"VLOOKUP($D95,[1]Sheet1!$A$1:$M$5087,9,FALSE)","v":{"$error":"#N/A"}},{"$f":"VLOOKUP($D95,[1]Sheet1!$A$1:$M$5087,12,FALSE)","v":{"$error":"#N/A"}},{"$f":"VLOOKUP($D95,[1]Sheet1!$A$1:$M$5087,13,FALSE)","v":{"$error":"#N/A"}},null,null,"Beijing",{"$nulls":12},1,{"$nulls":68},1,1,1,1]
[63,"长杨科技",null,"长杨科技",{"$f":"VLOOKUP($D96,[1]Sheet1!$A$1:$M$5087,2,FALSE)","v":{"$error":"#N/A"}},{"$f":"VLOOKUP($D96,[1]Sheet1!$A$1:$M$5087,9,FALSE)","v":{"$error":"#N/A"}},{"$f":"VLOOKUP($D96,[1]Sheet1!$A$1:$M$5087,12,FALSE)","v":{"$error":"#N/A"}},{"$f":"VLOOKUP($D96,[1]Sheet1!$A$1:$M$5087,13,FALSE)","v":{"$error":"#N/A"}},null,null,"Beijing",{"$nulls":36},1,{"$nulls":8},1,{"$nulls":15},1]
[64,"中电智科",null,"中电智科",{"$f":"VLOOKUP($D97,[1]Sheet1!$A$1:$M$5087,2,FALSE)","v":{"$error":"#N/A"}},{"$f":"VLOOKUP($D97,[1]Sheet1!$A$1:$M$5087,9,FALSE)","v":{"$error":"#N/A"}},{"$f":"VLOOKUP($D97,[1]Sheet1!$A$1:$M$5087,12,FALSE)","v":{"$error":"#N/A"}},{"$f":"VLOOKUP($D97,[1]Sheet1!$A$1:$M$5087,13,FALSE)","v":{"$error":"#N/A"}},null,null,"Beijing",{"$nulls":3},1]
[70,"ABB",null,"ABB",{"$f":"VLOOKUP($D98,[1]Sheet1!$A$1:$M$5087,2,FALSE)","v":{"$error":"#N/A"}},{"$f":"VLOOKUP($D98,[1]Sheet1!$A$1:$M$5087,9,FALSE)","v":{"$error":"#N/A"}},{"$f":"VLOOKUP($D98,[1]Sheet1!$A$1:$M$5087,12,FALSE)","v":{"$error":"#N/A"}},{"$f":"VLOOKUP($D98,[1]Sheet1!$A$1:$M$5087,13,FALSE)","v":{"$error":"#N/A"}},null,null,"Foreign",{"$nulls":22},1,null,1]
[71,"Altair",null,"Altair",{"$f":"VLOOKUP($D99,[1]Sheet1!$A$1:$M$5087,2,FALSE)","v":{"$error":"#N/A"}},{"$f":"VLOOKUP($D99,[1]Sheet1!$A$1:$M$5087,9,FALSE)","v":{"$error":"#N/A"}},{"$f":"VLOOKUP($D99,[1]Sheet1!$A$1:$M$5087,12,FALSE)","v":{"$error":"#N/A"}},{"$f":"VLOOKUP($D99,[1]Sheet1!$A$1:$M$5087,13,FALSE)","v":{"$error":"#N/A"}},null,null,"Foreign",{"$nulls":12},1]
[72,"ANSYS",null,"ANSYS",{"$f":"VLOOKUP($D100,[1]Sheet1!$A$1:$M$5087,2,FALSE)","v":{"$error":"#N/A"}},{"$f":"VLOOKUP($D100,[1]Sheet1!$A$1:$M$5087,9,FALSE)","v":{"$error":"#N/A"}},{"$f":"VLOOKUP($D100,[1]Sheet1!$A$1:$M$5087,12,FALSE)","v":{"$error":"#N/A"}},{"$f":"VLOOKUP($D100,[1]Sheet1!$A$1:$M$5087,13,FALSE)","v":{"$error":"#N/A"}},null,null,"Foreign",{"$nulls":12},1]
[73,"FANUC",null,"FANUC",{"$f":"VLOOKUP($D101,[1]Sheet1!$A$1:$M$5087,2,FALSE)","v":{"$error":"#N/A"}},{"$f":"VLOOKUP($D101,[1]Sheet1!$A$1:$M$5087,9,FALSE)","v":{"$error":"#N/A"}},{"$f":"VLOOKUP($D101,[1]Sheet1!$A$1:$M$5087,12,FALSE)","v":{"$error":"#N/A"}},{"$f":"VLOOKUP($D101,[1]Sheet1!$A$1:$M$5087,13,FALSE)","v":{"$error":"#N/A"}},null,null,"Foreign",{"$nulls":86},1,1,1,1,1,1,1]
[74,"HoneyWell",null,"HoneyWell",{"$f":"VLOOKUP($D102,[1]Sheet1!$A$1:$M$5087,2,FALSE)","v":{"$error":"#N/A"}},{"$f":"VLOOKUP($D102,[1]Sheet1!$A$1:$M$5087,9,FALSE)","v":{"$error":"#N/A"}},{"$f":"VLOOKUP($D102,[1]Sheet1!$A$1:$M$5087,12,FALSE)","v":{"$error":"#N/A"}},{"$f":"VLOOKUP($D102,[1]Sheet1!$A$1:$M$5087,13,FALSE)","v":{"$error":"#N/A"}},null,null,"Foreign",{"$nulls":22},1,{"$nulls":63},1,1,1,1,1,1,1]
[75,"IBM",null,"IBM",{"$f":"VLOOKUP($D103,[1]Sheet1!$A$1:$M$5087,2,FALSE)","v":{"$error":"#N/A"}},{"$f":"VLOOKUP($D103,[1]Sheet1!$A$1:$M$5087,9,FALSE)","v":{"$error":"#N/A"}},{"$f":"VLOOKUP($D103,[1]Sheet1!$A$1:$M$5087,12,FALSE)","v":{"$error":"#N/A"}},{"$f":"VLOOKUP($D103,[1]Sheet1!$A$1:$M$5087,13,FALSE)","v":{"$error":"#N/A"}},null,null,"Foreign",{"$nulls":25},1]
[76,"MasterCAM",null,"MasterCAM",{"$f":"VLOOKUP($D104,[1]Sheet1!$A$1:$M$5087,2,FALSE)","v":{"$error":"#N/A"}},{"$f":"VLOOKUP($D104,[1]Sheet1!$A$1:$M$5087,9,FALSE)","v":{"$error":"#N/A"}},{"$f":"VLOOKUP($D104,[1]Sheet1!$A$1:$M$5087,12,FALSE)","v":{"$error":"#N/A"}},{"$f":"VLOOKUP($D104,[1]Sheet1!$A$1:$M$5087,13,FALSE)","v":{"$error":"#N/A"}},null,null,"Foreign"]
[77,"Oracle",null,"Oracle",{"$f":"VLOOKUP($D105,[1]Sheet1!$A$1:$M$5087,2,FALSE)","v":{"$error":"#N/A"}},{"$f":"VLOOKUP($D105,[1]Sheet1!$A$1:$M$5087,9,FALSE)","v":{"$error":"#N/A"}},{"$f":"VLOOKUP($D105,[1]Sheet1!$A$1:$M$5087,12,FALSE)","v":{"$error":"#N/A"}},{"$f":"VLOOKUP($D105,[1]Sheet1!$A$1:$M$5087,13,FALSE)","v":{"$error":"#N/A"}},null,null,"Foreign",{"$nulls":26},1,null,null,1,1,1]
[78,"OutSystems",null,"OutSystems",{"$f":"VLOOKUP($D106,[1]Sheet1!$A$1:$M$5087,2,FALSE)","v":{"$error":"#N/A"}},{"$f":"VLOOKUP($D106,[1]Sheet1!$A$1:$M$5087,9,FALSE)","v":{"$error":"#N/A"}},{"$f":"VLOOKUP($D106,[1]Sheet1!$A$1:$M$5087,12,FALSE)","v":{"$error":"#N/A"}},{"$f":"VLOOKUP($D106,[1]Sheet1!$A$1:$M$5087,13,FALSE)","v":{"$error":"#N/A"}},null,null,"Foreign",{"$nulls":75},1,1,1,1,1]
[79,"PTC",null,"PTC",{"$f":"VLOOKUP($D107,[1]Sheet1!$A$1:$M$5087,2,FALSE)","v":{"$error":"#N/A"}},{"$f":"VLOOKUP($D107,[1]Sheet1!$A$1:$M$5087,9,FALSE)","v":{"$error":"#N/A"}},{"$f":"VLOOKUP($D107,[1]Sheet1!$A$1:$M$5087,12,FALSE)","v":{"$error":"#N/A"}},{"$f":"VLOOKUP($D107,[1]Sheet1!$A$1:$M$5087,13,FALSE)","v":{"$error":"#N/A"}},null,null,"Foreign",{"$nulls":11},1,null,null,1,null,1,{"$nulls":64},1,1,1,1,null,1,1,1,1,1,1,1,null,null,1,1,1,1,null,1,1,null,null,1,1,1]
[80,"Salesforce",null,"Salesforce",{"$f":"VLOOKUP($D108,[1]Sheet1!$A$1:$M$5087,2,FALSE)","v":{"$error":"#N/A"}},{"$f":"VLOOKUP($D108,[1]Sheet1!$A$1:$M$5087,9,FALSE)","v":{"$error":"#N/A"}},{"$f":"VLOOKUP($D108,[1]Sheet1!$A$1:$M$5087,12,FALSE)","v":{"$error":"#N/A"}},{"$f":"VLOOKUP($D108,[1]Sheet1!$A$1:$M$5087,13,FALSE)","v":{"$error":"#N/A"}},null,null,"Foreign",{"$nulls":29},1,1,1,{"$nulls":43},1,1,1,1,1]
[81,"SAP",null,"SAP",{"$f":"VLOOKUP($D109,[1]Sheet1!$A$1:$M$5087,2,FALSE)","v":{"$error":"#N/A"}},{"$f":"VLOOKUP($D109,[1]Sheet1!$A$1:$M$5087,9,FALSE)","v":{"$error":"#N/A"}},{"$f":"VLOOKUP($D109,[1]Sheet1!$A$1:$M$5087,12,FALSE)","v":{"$error":"#N/A"}},{"$f":"VLOOKUP($D109,[1]Sheet1!$A$1:$M$5087,13,FALSE)","v":{"$error":"#N/A"}},null,null,"Foreign",{"$nulls":29},1,1,1,{"$nulls":49},1,1,1,1,{"$nulls":10},1,1,1,1,null,1,1]
[82,"Uptake",null,"Uptake",{"$f":"VLOOKUP($D110,[1]Sheet1!$A$1:$M$5087,2,FALSE)","v":{"$error":"#N/A"}},{"$f":"VLOOKUP($D110,[1]Sheet1!$A$1:$M$5087,9,FALSE)","v":{"$error":"#N/A"}},{"$f":"VLOOKUP($D110,[1]Sheet1!$A$1:$M$5087,12,FALSE)","v":{"$error":"#N/A"}},{"$f":"VLOOKUP($D110,[1]Sheet1!$A$1:$M$5087,13,FALSE)","v":{"$error":"#N/A"}},null,null,"Foreign",{"$nulls":81},1,1,1,1]
[83,"艾默生",null,"艾默生",{"$f":"VLOOKUP($D111,[1]Sheet1!$A$1:$M$5087,2,FALSE)","v":{"$error":"#N/A"}},{"$f":"VLOOKUP($D111,[1]Sheet1!$A$1:$M$5087,9,FALSE)","v":{"$error":"#N/A"}},{"$f":"VLOOKUP($D111,[1]Sheet1!$A$1:$M$5087,12,FALSE)","v":{"$error":"#N/A"}},{"$f":"VLOOKUP($D111,[1]Sheet1!$A$1:$M$5087,13,FALSE)","v":{"$error":"#N/A"}},null,null,"Foreign",{"$nulls":22},1]
[84,"博世",null,"博世",{"$f":"VLOOKUP($D112,[1]Sheet1!$A$1:$M$5087,2,FALSE)","v":{"$error":"#N/A"}},{"$f":"VLOOKUP($D112,[1]Sheet1!$A$1:$M$5087,9,FALSE)","v":{"$error":"#N/A"}},{"$f":"VLOOKUP($D112,[1]Sheet1!$A$1:$M$5087,12,FALSE)","v":{"$error":"#N/A"}},{"$f":"VLOOKUP($D112,[1]Sheet1!$A$1:$M$5087,13,FALSE)","v":{"$error":"#N/A"}},null,null,"Foreign",{"$nulls":81},1,1,1,1,{"$nulls":10},1,1,1,1,null,1,1,null,null,1,1,1]
[85,"达索",null,"达索",{"$f":"VLOOKUP($D113,[1]Sheet1!$A$1:$M$5087,2,FALSE)","v":{"$error":"#N/A"}},{"$f":"VLOOKUP($D113,[1]Sheet1!$A$1:$M$5087,9,FALSE)","v":{"$error":"#N/A"}},{"$f":"VLOOKUP($D113,[1]Sheet1!$A$1:$M$5087,12,FALSE)","v":{"$error":"#N/A"}},{"$f":"VLOOKUP($D113,[1]Sheet1!$A$1:$M$5087,13,FALSE)","v":{"$error":"#N/A"}},null,null,"Foreign",{"$nulls":11},1,null,1,1,null,1,{"$nulls":58},1,1,1,1,1]
[86,"戴尔易安信Dell EMC",null,"戴尔易安信Dell EMC",{"$f":"VLOOKUP($D114,[1]Sheet1!$A$1:$M$5087,2,FALSE)","v":{"$error":"#N/A"}},{"$f":"VLOOKUP($D114,[1]Sheet1!$A$1:$M$5087,9,FALSE)","v":{"$error":"#N/A"}},{"$f":"VLOOKUP($D114,[1]Sheet1!$A$1:$M$5087,12,FALSE)","v":{"$error":"#N/A"}},{"$f":"VLOOKUP($D114,[1]Sheet1!$A$1:$M$5087,13,FALSE)","v":{"$error":"#N/A"}},null,null,"Foreign",{"$nulls":4},1]
[87,"德州仪器",null,"德州仪器",{"$f":"VLOOKUP($D115,[1]Sheet1!$A$1:$M$5087,2,FALSE)","v":{"$error":"#N/A"}},{"$f":"VLOOKUP($D115,[1]Sheet1!$A$1:$M$5087,9,FALSE)","v":{"$error":"#N/A"}},{"$f":"VLOOKUP($D115,[1]Sheet1!$A$1:$M$5087,12,FALSE)","v":{"$error":"#N/A"}},{"$f":"VLOOKUP($D115,[1]Sheet1!$A$1:$M$5087,13,FALSE)","v":{"$error":"#N/A"}},null,null,"Foreign",null,null,1]
[88,"慧与科技HPE",null,"慧与科技HPE",{"$f":"VLOOKUP($D116,[1]Sheet1!$A$1:$M$5087,2,FALSE)","v":{"$error":"#N/A"}},{"$f":"VLOOKUP($D116,[1]Sheet1!$A$1:$M$5087,9,FALSE)","v":{"$error":"#N/A"}},{"$f":"VLOOKUP($D116,[1]Sheet1!$A$1:$M$5087,12,FALSE)","v":{"$error":"#N/A"}},{"$f":"VLOOKUP($D116,[1]Sheet1!$A$1:$M$5087,13,FALSE)","v":{"$error":"#N/A"}},null,null,"Foreign",{"$nulls":4},1]
[89,"罗克韦尔",null,"罗克韦尔",{"$f":"VLOOKUP($D117,[1]Sheet1!$A$1:$M$5087,2,FALSE)","v":{"$error":"#N/A"}},{"$f":"VLOOKUP($D117,[1]Sheet1!$A$1:$M$5087,9,FALSE)","v":{"$error":"#N/A"}},{"$f":"VLOOKUP($D117,[1]Sheet1!$A$1:$M$5087,12,FALSE)","v":{"$error":"#N/A"}},{"$f":"VLOOKUP($D117,[1]Sheet1!$A$1:$M$5087,13,FALSE)","v":{"$error":"#N/A"}},null,null,"Foreign",{"$nulls":3},1,null,null,1,{"$nulls":14},1]
[90,"明导国际Mentor",null,"明导国际Mentor",{"$f":"VLOOKUP($D118,[1]Sheet1!$A$1:$M$5087,2,FALSE)","v":{"$error":"#N/A"}},{"$f":"VLOOKUP($D118,[1]Sheet1!$A$1:$M$5087,9,FALSE)","v":{"$error":"#N/A"}},{"$f":"VLOOKUP($D118,[1]Sheet1!$A$1:$M$5087,12,FALSE)","v":{"$error":"#N/A"}},{"$f":"VLOOKUP($D118,[1]Sheet1!$A$1:$M$5087,13,FALSE)","v":{"$error":"#N/A"}},null,null,"Foreign",{"$nulls":17},1]
[91,"摩莎",null,"摩莎",{"$f":"VLOOKUP($D119,[1]Sheet1!$A$1:$M$5087,2,FALSE)","v":{"$error":"#N/A"}},{"$f":"VLOOKUP($D119,[1]Sheet1!$A$1:$M$5087,9,FALSE)","v":{"$error":"#N/A"}},{"$f":"VLOOKUP($D119,[1]Sheet1!$A$1:$M$5087,12,FALSE)","v":{"$error":"#N/A"}},{"$f":"VLOOKUP($D119,[1]Sheet1!$A$1:$M$5087,13,FALSE)","v":{"$error":"#N/A"}},null,null,"Foreign",{"$nulls":6},1]
[92,"欧姆龙",null,"欧姆龙",{"$f":"VLOOKUP($D120,[1]Sheet1!$A$1:$M$5087,2,FALSE)","v":{"$error":"#N/A"}},{"$f":"VLOOKUP($D120,[1]Sheet1!$A$1:$M$5087,9,FALSE)","v":{"$error":"#N/A"}},{"$f":"VLOOKUP($D120,[1]Sheet1!$A$1:$M$5087,12,FALSE)","v":{"$error":"#N/A"}},{"$f":"VLOOKUP($D120,[1]Sheet1!$A$1:$M$5087,13,FALSE)","v":{"$error":"#N/A"}},null,null,"Foreign",{"$nulls":24},1]
[93,"锵腾电子Cadence",null,"锵腾电子Cadence",{"$f":"VLOOKUP($D121,[1]Sheet1!$A$1:$M$5087,2,FALSE)","v":{"$error":"#N/A"}},{"$f":"VLOOKUP($D121,[1]Sheet1!$A$1:$M$5087,9,FALSE)","v":{"$error":"#N/A"}},{"$f":"VLOOKUP($D121,[1]Sheet1!$A$1:$M$5087,12,FALSE)","v":{"$error":"#N/A"}},{"$f":"VLOOKUP($D121,[1]Sheet1!$A$1:$M$5087,13,FALSE)","v":{"$error":"#N/A"}},null,null,"Foreign",{"$nulls":17},1]
[94,"三菱电机",null,"三菱电机",{"$f":"VLOOKUP($D122,[1]Sheet1!$A$1:$M$5087,2,FALSE)","v":{"$error":"#N/A"}},{"$f":"VLOOKUP($D122,[1]Sheet1!$A$1:$M$5087,9,FALSE)","v":{"$error":"#N/A"}},{"$f":"VLOOKUP($D122,[1]Sheet1!$A$1:$M$5087,12,FALSE)","v":{"$error":"#N/A"}},{"$f":"VLOOKUP($D122,[1]Sheet1!$A$1:$M$5087,13,FALSE)","v":{"$error":"#N/A"}},null,null,"Foreign",{"$nulls":3},1]
[95,"施耐德",null,"施耐德",{"$f":"VLOOKUP($D123,[1]Sheet1!$A$1:$M$5087,2,FALSE)","v":{"$error":"#N/A"}},{"$f":"VLOOKUP($D123,[1]Sheet1!$A$1:$M$5087,9,FALSE)","v":{"$error":"#N/A"}},{"$f":"VLOOKUP($D123,[1]Sheet1!$A$1:$M$5087,12,FALSE)","v":{"$error":"#N/A"}},{"$f":"VLOOKUP($D123,[1]Sheet1!$A$1:$M$5087,13,FALSE)","v":{"$error":"#N/A"}},null,null,"Foreign",{"$nulls":8},1,{"$nulls":95},1,1,1]
[96,"思科",null,"思科",{"$f":"VLOOKUP($D124,[1]Sheet1!$A$1:$M$5087,2,FALSE)","v":{"$error":"#N/A"}},{"$f":"VLOOKUP($D124,[1]Sheet1!$A$1:$M$5087,9,FALSE)","v":{"$error":"#N/A"}},{"$f":"VLOOKUP($D124,[1]Sheet1!$A$1:$M$5087,12,FALSE)","v":{"$error":"#N/A"}},{"$f":"VLOOKUP($D124,[1]Sheet1!$A$1:$M$5087,13,FALSE)","v":{"$error":"#N/A"}},null,null,"Foreign",{"$nulls":6},1,null,1]
[97,"通用电器",null,"通用电器",{"$f":"VLOOKUP($D125,[1]Sheet1!$A$1:$M$5087,2,FALSE)","v":{"$error":"#N/A"}},{"$f":"VLOOKUP($D125,[1]Sheet1!$A$1:$M$5087,9,FALSE)","v":{"$error":"#N/A"}},{"$f":"VLOOKUP($D125,[1]Sheet1!$A$1:$M$5087,12,FALSE)","v":{"$error":"#N/A"}},{"$f":"VLOOKUP($D125,[1]Sheet1!$A$1:$M$5087,13,FALSE)","v":{"$error":"#N/A"}},null,null,"Foreign",{"$nulls":8},1,{"$nulls":12},1,null,1,{"$nulls":62},1,1,1,1,1,1,1]
[98,"微软Azure",null,"微软Azure",{"$f":"VLOOKUP($D126,[1]Sheet1!$A$1:$M$5087,2,FALSE)","v":{"$error":"#N/A"}},{"$f":"VLOOKUP($D126,[1]Sheet1!$A$1:$M$5087,9,FALSE)","v":{"$error":"#N/A"}},{"$f":"VLOOKUP($D126,[1]Sheet1!$A$1:$M$5087,12,FALSE)","v":{"$error":"#N/A"}},{"$f":"VLOOKUP($D126,[1]Sheet1!$A$1:$M$5087,13,FALSE)","v":{"$error":"#N/A"}},null,null,"Foreign",{"$nulls":102},1]
[99,"西门子",null,"西门子",{"$f":"VLOOKUP($D127,[1]Sheet1!$A$1:$M$5087,2,FALSE)","v":{"$error":"#N/A"}},{"$f":"VLOOKUP($D127,[1]Sheet1!$A$1:$M$5087,9,FALSE)","v":{"$error":"#N/A"}},{"$f":"VLOOKUP($D127,[1]Sheet1!$A$1:$M$5087,12,FALSE)","v":{"$error":"#N/A"}},{"$f":"VLOOKUP($D127,[1]Sheet1!$A$1:$M$5087,13,FALSE)","v":{"$error":"#N/A"}},null,null,"Foreign",{"$nulls":3},1,null,null,1,{"$nulls":4},1,1,1,1,1,1,{"$nulls":4},1,null,1,1,{"$nulls":50},1,1,1,1,1,null,1,1,1,1,null,1,1,1,1,1,1,1,null,null,1,1,1,1,null,1,1,null,null,1,1,1]
[100,"新思科技Synopsys",null,"新思科技Synopsys",{"$f":"VLOOKUP($D128,[1]Sheet1!$A$1:$M$5087,2,FALSE)","v":{"$error":"#N/A"}},{"$f":"VLOOKUP($D128,[1]Sheet1!$A$1:$M$5087,9,FALSE)","v":{"$error":"#N/A"}},{"$f":"VLOOKUP($D128,[1]Sheet1!$A$1:$M$5087,12,FALSE)","v":{"$error":"#N/A"}},{"$f":"VLOOKUP($D128,[1]Sheet1!$A$1:$M$5087,13,FALSE)","v":{"$error":"#N/A"}},null,null,"Foreign",{"$nulls":17},1]
[101,"亚德诺半导体",null,"亚德诺半导体",{"$f":"VLOOKUP($D129,[1]Sheet1!$A$1:$M$5087,2,FALSE)","v":{"$error":"#N/A"}},{"$f":"VLOOKUP($D129,[1]Sheet1!$A$1:$M$5087,9,FALSE)","v":{"$error":"#N/A"}},{"$f":"VLOOKUP($D129,[1]Sheet1!$A$1:$M$5087,12,FALSE)","v":{"$error":"#N/A"}},{"$f":"VLOOKUP($D129,[1]Sheet1!$A$1:$M$5087,13,FALSE)","v":{"$error":"#N/A"}},null,null,"Foreign",null,null,1]
[102,"亚马逊AWS",null,"亚马逊AWS",{"$f":"VLOOKUP($D130,[1]Sheet1!$A$1:$M$5087,2,FALSE)","v":{"$error":"#N/A"}},{"$f":"VLOOKUP($D130,[1]Sheet1!$A$1:$M$5087,9,FALSE)","v":{"$error":"#N/A"}},{"$f":"VLOOKUP($D130,[1]Sheet1!$A$1:$M$5087,12,FALSE)","v":{"$error":"#N/A"}},{"$f":"VLOOKUP($D130,[1]Sheet1!$A$1:$M$5087,13,FALSE)","v":{"$error":"#N/A"}},null,null,"Foreign",{"$nulls":95},1,1,1,1,null,1,1,1]
[103,"意法半导体",null,"意法半导体",{"$f":"VLOOKUP($D131,[1]Sheet1!$A$1:$M$5087,2,FALSE)","v":{"$error":"#N/A"}},{"$f":"VLOOKUP($D131,[1]Sheet1!$A$1:$M$5087,9,FALSE)","v":{"$error":"#N/A"}},{"$f":"VLOOKUP($D131,[1]Sheet1!$A$1:$M$5087,12,FALSE)","v":{"$error":"#N/A"}},{"$f":"VLOOKUP($D131,[1]Sheet1!$A$1:$M$5087,13,FALSE)","v":{"$error":"#N/A"}},null,null,"Foreign",null,null,1]
[104,"英飞凌",null,"英飞凌",{"$f":"VLOOKUP($D132,[1]Sheet1!$A$1:$M$5087,2,FALSE)","v":{"$error":"#N/A"}},{"$f":"VLOOKUP($D132,[1]Sheet1!$A$1:$M$5087,9,FALSE)","v":{"$error":"#N/A"}},{"$f":"VLOOKUP($D132,[1]Sheet1!$A$1:$M$5087,12,FALSE)","v":{"$error":"#N/A"}},{"$f":"VLOOKUP($D132,[1]Sheet1!$A$1:$M$5087,13,FALSE)","v":{"$error":"#N/A"}},null,null,"Foreign",null,null,1]
[105,"英特尔",null,"英特尔",{"$f":"VLOOKUP($D133,[1]Sheet1!$A$1:$M$5087,2,FALSE)","v":{"$error":"#N/A"}},{"$f":"VLOOKUP($D133,[1]Sheet1!$A$1:$M$5087,9,FALSE)","v":{"$error":"#N/A"}},{"$f":"VLOOKUP($D133,[1]Sheet1!$A$1:$M$5087,12,FALSE)","v":{"$error":"#N/A"}},{"$f":"VLOOKUP($D133,[1]Sheet1!$A$1:$M$5087,13,FALSE)","v":{"$error":"#N/A"}},null,null,"Foreign",null,null,1]
[106,"阿里",null,"阿里",{"$f":"VLOOKUP($D134,[1]Sheet1!$A$1:$M$5087,2,FALSE)","v":{"$error":"#N/A"}},{"$f":"VLOOKUP($D134,[1]Sheet1!$A$1:$M$5087,9,FALSE)","v":{"$error":"#N/A"}},{"$f":"VLOOKUP($D134,[1]Sheet1!$A$1:$M$5087,12,FALSE)","v":{"$error":"#N/A"}},{"$f":"VLOOKUP($D134,[1]Sheet1!$A$1:$M$5087,13,FALSE)","v":{"$error":"#N/A"}},null,null,"Non_Beijing",{"$nulls":4},1,null,1,{"$nulls":19},1,{"$nulls":48},1,1,1,1,1,{"$nulls":6},1,1,1,1,1,1,1,{"$nulls":9},1]
[108,"百度",null,"百度",{"$f":"VLOOKUP($D135,[1]Sheet1!$A$1:$M$5087,2,FALSE)","v":{"$error":"#N/A"}},{"$f":"VLOOKUP($D135,[1]Sheet1!$A$1:$M$5087,9,FALSE)","v":{"$error":"#N/A"}},{"$f":"VLOOKUP($D135,[1]Sheet1!$A$1:$M$5087,12,FALSE)","v":{"$error":"#N/A"}},{"$f":"VLOOKUP($D135,[1]Sheet1!$A$1:$M$5087,13,FALSE)","v":{"$error":"#N/A"}},null,null,"Non_Beijing",{"$nulls":86},1,1,1,1,1,1,1,{"$nulls":9},1]
[110,"晨科软件",null,"晨科软件",{"$f":"VLOOKUP($D136,[1]Sheet1!$A$1:$M$5087,2,FALSE)","v":{"$error":"#N/A"}},{"$f":"VLOOKUP($D136,[1]Sheet1!$A$1:$M$5087,9,FALSE)","v":{"$error":"#N/A"}},{"$f":"VLOOKUP($D136,[1]Sheet1!$A$1:$M$5087,12,FALSE)","v":{"$error":"#N/A"}},{"$f":"VLOOKUP($D136,[1]Sheet1!$A$1:$M$5087,13,FALSE)","v":{"$error":"#N/A"}},null,null,"Non_Beijing",{"$nulls":25},1]
[113,"飞腾信息",null,"飞腾信息",{"$f":"VLOOKUP($D137,[1]Sheet1!$A$1:$M$5087,2,FALSE)","v":{"$error":"#N/A"}},{"$f":"VLOOKUP($D137,[1]Sheet1!$A$1:$M$5087,9,FALSE)","v":{"$error":"#N/A"}},{"$f":"VLOOKUP($D137,[1]Sheet1!$A$1:$M$5087,12,FALSE)","v":{"$error":"#N/A"}},{"$f":"VLOOKUP($D137,[1]Sheet1!$A$1:$M$5087,13,FALSE)","v":{"$error":"#N/A"}},null,null,"Non_Beijing",null,null,1]
[114,"富勒科技",null,"富勒科技",{"$f":"VLOOKUP($D138,[1]Sheet1!$A$1:$M$5087,2,FALSE)","v":{"$error":"#N/A"}},{"$f":"VLOOKUP($D138,[1]Sheet1!$A$1:$M$5087,9,FALSE)","v":{"$error":"#N/A"}},{"$f":"VLOOKUP($D138,[1]Sheet1!$A$1:$M$5087,12,FALSE)","v":{"$error":"#N/A"}},{"$f":"VLOOKUP($D138,[1]Sheet1!$A$1:$M$5087,13,FALSE)","v":{"$error":"#N/A"}},null,null,"Non_Beijing",{"$nulls":33},1]
[115,"富士康",null,"富士康",{"$f":"VLOOKUP($D139,[1]Sheet1!$A$1:$M$5087,2,FALSE)","v":{"$error":"#N/A"}},{"$f":"VLOOKUP($D139,[1]Sheet1!$A$1:$M$5087,9,FALSE)","v":{"$error":"#N/A"}},{"$f":"VLOOKUP($D139,[1]Sheet1!$A$1:$M$5087,12,FALSE)","v":{"$error":"#N/A"}},{"$f":"VLOOKUP($D139,[1]Sheet1!$A$1:$M$5087,13,FALSE)","v":{"$error":"#N/A"}},null,null,"Non_Beijing",{"$nulls":4},1,{"$nulls":90},1,1,1,1,null,1,1]
[117,"格创东智",null,"格创东智",{"$f":"VLOOKUP($D140,[1]Sheet1!$A$1:$M$5087,2,FALSE)","v":{"$error":"#N/A"}},{"$f":"VLOOKUP($D140,[1]Sheet1!$A$1:$M$5087,9,FALSE)","v":{"$error":"#N/A"}},{"$f":"VLOOKUP($D140,[1]Sheet1!$A$1:$M$5087,12,FALSE)","v":{"$error":"#N/A"}},{"$f":"VLOOKUP($D140,[1]Sheet1!$A$1:$M$5087,13,FALSE)","v":{"$error":"#N/A"}},null,null,"Non_Beijing",{"$nulls":75},1,1,1,1,1,{"$nulls":15},1,1,1,1,null,1,1]
[118,"工邦邦",null,"工邦邦",{"$f":"VLOOKUP($D141,[1]Sheet1!$A$1:$M$5087,2,FALSE)","v":{"$error":"#N/A"}},{"$f":"VLOOKUP($D141,[1]Sheet1!$A$1:$M$5087,9,FALSE)","v":{"$error":"#N/A"}},{"$f":"VLOOKUP($D141,[1]Sheet1!$A$1:$M$5087,12,FALSE)","v":{"$error":"#N/A"}},{"$f":"VLOOKUP($D141,[1]Sheet1!$A$1:$M$5087,13,FALSE)","v":{"$error":"#N/A"}},null,null,"Non_Beijing",{"$nulls":26},1]
[120,"广州数控",null,"广州数控",{"$f":"VLOOKUP($D142,[1]Sheet1!$A$1:$M$5087,2,FALSE)","v":{"$error":"#N/A"}},{"$f":"VLOOKUP($D142,[1]Sheet1!$A$1:$M$5087,9,FALSE)","v":{"$error":"#N/A"}},{"$f":"VLOOKUP($D142,[1]Sheet1!$A$1:$M$5087,12,FALSE)","v":{"$error":"#N/A"}},{"$f":"VLOOKUP($D142,[1]Sheet1!$A$1:$M$5087,13,FALSE)","v":{"$error":"#N/A"}},null,null,"Non_Beijing",{"$nulls":8},1]
[121,"广州智臣",null,"广州智臣",{"$f":"VLOOKUP($D143,[1]Sheet1!$A$1:$M$5087,2,FALSE)","v":{"$error":"#N/A"}},{"$f":"VLOOKUP($D143,[1]Sheet1!$A$1:$M$5087,9,FALSE)","v":{"$error":"#N/A"}},{"$f":"VLOOKUP($D143,[1]Sheet1!$A$1:$M$5087,12,FALSE)","v":{"$error":"#N/A"}},{"$f":"VLOOKUP($D143,[1]Sheet1!$A$1:$M$5087,13,FALSE)","v":{"$error":"#N/A"}},null,null,"Non_Beijing",{"$nulls":45},1]
[125,"华数机器人",null,"华数机器人",{"$f":"VLOOKUP($D144,[1]Sheet1!$A$1:$M$5087,2,FALSE)","v":{"$error":"#N/A"}},{"$f":"VLOOKUP($D144,[1]Sheet1!$A$1:$M$5087,9,FALSE)","v":{"$error":"#N/A"}},{"$f":"VLOOKUP($D144,[1]Sheet1!$A$1:$M$5087,12,FALSE)","v":{"$error":"#N/A"}},{"$f":"VLOOKUP($D144,[1]Sheet1!$A$1:$M$5087,13,FALSE)","v":{"$error":"#N/A"}},null,null,"Non_Beijing",{"$nulls":8},1]
[126,"华为",null,"华为",{"$f":"VLOOKUP($D145,[1]Sheet1!$A$1:$M$5087,2,FALSE)","v":{"$error":"#N/A"}},{"$f":"VLOOKUP($D145,[1]Sheet1!$A$1:$M$5087,9,FALSE)","v":{"$error":"#N/A"}},{"$f":"VLOOKUP($D145,[1]Sheet1!$A$1:$M$5087,12,FALSE)","v":{"$error":"#N/A"}},{"$f":"VLOOKUP($D145,[1]Sheet1!$A$1:$M$5087,13,FALSE)","v":{"$error":"#N/A"}},null,null,"Non_Beijing",{"$nulls":4},1,null,1,null,1,{"$nulls":27},1,1,{"$nulls":6},1,{"$nulls":6},1,{"$nulls":3},1,{"$nulls":7},1,{"$nulls":15},1,{"$nulls":6},1,1,1,1,1,1,1,{"$nulls":9},1,null,1,1,1]
[127,"华为海思",null,"华为海思",{"$f":"VLOOKUP($D146,[1]Sheet1!$A$1:$M$5087,2,FALSE)","v":{"$error":"#N/A"}},{"$f":"VLOOKUP($D146,[1]Sheet1!$A$1:$M$5087,9,FALSE)","v":{"$error":"#N/A"}},{"$f":"VLOOKUP($D146,[1]Sheet1!$A$1:$M$5087,12,FALSE)","v":{"$error":"#N/A"}},{"$f":"VLOOKUP($D146,[1]Sheet1!$A$1:$M$5087,13,FALSE)","v":{"$error":"#N/A"}},null,null,"Non_Beijing",null,null,1,null,1]
[130,"金蝶",null,"金蝶",{"$f":"VLOOKUP($D147,[1]Sheet1!$A$1:$M$5087,2,FALSE)","v":{"$error":"#N/A"}},{"$f":"VLOOKUP($D147,[1]Sheet1!$A$1:$M$5087,9,FALSE)","v":{"$error":"#N/A"}},{"$f":"VLOOKUP($D147,[1]Sheet1!$A$1:$M$5087,12,FALSE)","v":{"$error":"#N/A"}},{"$f":"VLOOKUP($D147,[1]Sheet1!$A$1:$M$5087,13,FALSE)","v":{"$error":"#N/A"}},null,null,"Non_Beijing",{"$nulls":19},1,{"$nulls":9},1,1,1,null,1]
[131,"九物互联",null,"九物互联",{"$f":"VLOOKUP($D148,[1]Sheet1!$A$1:$M$5087,2,FALSE)","v":{"$error":"#N/A"}},{"$f":"VLOOKUP($D148,[1]Sheet1!$A$1:$M$5087,9,FALSE)","v":{"$error":"#N/A"}},{"$f":"VLOOKUP($D148,[1]Sheet1!$A$1:$M$5087,12,FALSE)","v":{"$error":"#N/A"}},{"$f":"VLOOKUP($D148,[1]Sheet1!$A$1:$M$5087,13,FALSE)","v":{"$error":"#N/A"}},null,null,"Non_Beijing",{"$nulls":75},1,1,1,1,1]
[134,"朗坤智慧",null,"朗坤智慧",{"$f":"VLOOKUP($D149,[1]Sheet1!$A$1:$M$5087,2,FALSE)","v":{"$error":"#N/A"}},{"$f":"VLOOKUP($D149,[1]Sheet1!$A$1:$M$5087,9,FALSE)","v":{"$error":"#N/A"}},{"$f":"VLOOKUP($D149,[1]Sheet1!$A$1:$M$5087,12,FALSE)","v":{"$error":"#N/A"}},{"$f":"VLOOKUP($D149,[1]Sheet1!$A$1:$M$5087,13,FALSE)","v":{"$error":"#N/A"}},null,null,"Non_Beijing",{"$nulls":25},1]
[137,"美林数据",null,"美林数据",{"$f":"VLOOKUP($D150,[1]Sheet1!$A$1:$M$5087,2,FALSE)","v":{"$error":"#N/A"}},{"$f":"VLOOKUP($D150,[1]Sheet1!$A$1:$M$5087,9,FALSE)","v":{"$error":"#N/A"}},{"$f":"VLOOKUP($D150,[1]Sheet1!$A$1:$M$5087,12,FALSE)","v":{"$error":"#N/A"}},{"$f":"VLOOKUP($D150,[1]Sheet1!$A$1:$M$5087,13,FALSE)","v":{"$error":"#N/A"}},null,null,"Non_Beijing",{"$nulls":95},1,1,1,1,null,1,1]
[141,"上海新华控制",null,"上海新华控制",{"$f":"VLOOKUP($D151,[1]Sheet1!$A$1:$M$5087,2,FALSE)","v":{"$error":"#N/A"}},{"$f":"VLOOKUP($D151,[1]Sheet1!$A$1:$M$5087,9,FALSE)","v":{"$error":"#N/A"}},{"$f":"VLOOKUP($D151,[1]Sheet1!$A$1:$M$5087,12,FALSE)","v":{"$error":"#N/A"}},{"$f":"VLOOKUP($D151,[1]Sheet1!$A$1:$M$5087,13,FALSE)","v":{"$error":"#N/A"}},null,null,"Non_Beijing",{"$nulls":22},1]
[143,"沈阳自动化研究所",null,"沈阳自动化研究所",{"$f":"VLOOKUP($D152,[1]Sheet1!$A$1:$M$5087,2,FALSE)","v":{"$error":"#N/A"}},{"$f":"VLOOKUP($D152,[1]Sheet1!$A$1:$M$5087,9,FALSE)","v":{"$error":"#N/A"}},{"$f":"VLOOKUP($D152,[1]Sheet1!$A$1:$M$5087,12,FALSE)","v":{"$error":"#N/A"}},{"$f":"VLOOKUP($D152,[1]Sheet1!$A$1:$M$5087,13,FALSE)","v":{"$error":"#N/A"}},null,null,"Non_Beijing",{"$nulls":75},1,1,1,1,1]
[144,"树根互联",null,"树根互联",{"$f":"VLOOKUP($D153,[1]Sheet1!$A$1:$M$5087,2,FALSE)","v":{"$error":"#N/A"}},{"$f":"VLOOKUP($D153,[1]Sheet1!$A$1:$M$5087,9,FALSE)","v":{"$error":"#N/A"}},{"$f":"VLOOKUP($D153,[1]Sheet1!$A$1:$M$5087,12,FALSE)","v":{"$error":"#N/A"}},{"$f":"VLOOKUP($D153,[1]Sheet1!$A$1:$M$5087,13,FALSE)","v":{"$error":"#N/A"}},null,null,"Non_Beijing",{"$nulls":81},1,1,1,1]
[145,"思普软件",null,"思普软件",{"$f":"VLOOKUP($D154,[1]Sheet1!$A$1:$M$5087,2,FALSE)","v":{"$error":"#N/A"}},{"$f":"VLOOKUP($D154,[1]Sheet1!$A$1:$M$5087,9,FALSE)","v":{"$error":"#N/A"}},{"$f":"VLOOKUP($D154,[1]Sheet1!$A$1:$M$5087,12,FALSE)","v":{"$error":"#N/A"}},{"$f":"VLOOKUP($D154,[1]Sheet1!$A$1:$M$5087,13,FALSE)","v":{"$error":"#N/A"}},null,null,"Non_Beijing",{"$nulls":14},1]
[146,"苏州浩辰",null,"苏州浩辰",{"$f":"VLOOKUP($D155,[1]Sheet1!$A$1:$M$5087,2,FALSE)","v":{"$error":"#N/A"}},{"$f":"VLOOKUP($D155,[1]Sheet1!$A$1:$M$5087,9,FALSE)","v":{"$error":"#N/A"}},{"$f":"VLOOKUP($D155,[1]Sheet1!$A$1:$M$5087,12,FALSE)","v":{"$error":"#N/A"}},{"$f":"VLOOKUP($D155,[1]Sheet1!$A$1:$M$5087,13,FALSE)","v":{"$error":"#N/A"}},null,null,"Non_Beijing",{"$nulls":11},1]
[148,"腾讯",null,"腾讯",{"$f":"VLOOKUP($D156,[1]Sheet1!$A$1:$M$5087,2,FALSE)","v":{"$error":"#N/A"}},{"$f":"VLOOKUP($D156,[1]Sheet1!$A$1:$M$5087,9,FALSE)","v":{"$error":"#N/A"}},{"$f":"VLOOKUP($D156,[1]Sheet1!$A$1:$M$5087,12,FALSE)","v":{"$error":"#N/A"}},{"$f":"VLOOKUP($D156,[1]Sheet1!$A$1:$M$5087,13,FALSE)","v":{"$error":"#N/A"}},null,null,"Non_Beijing",{"$nulls":75},1,1,1,1,1,{"$nulls":6},1,1,1,1,1,1,1,{"$nulls":9},1]
[149,"天泽智云",null,"天泽智云",{"$f":"VLOOKUP($D157,[1]Sheet1!$A$1:$M$5087,2,FALSE)","v":{"$error":"#N/A"}},{"$f":"VLOOKUP($D157,[1]Sheet1!$A$1:$M$5087,9,FALSE)","v":{"$error":"#N/A"}},{"$f":"VLOOKUP($D157,[1]Sheet1!$A$1:$M$5087,12,FALSE)","v":{"$error":"#N/A"}},{"$f":"VLOOKUP($D157,[1]Sheet1!$A$1:$M$5087,13,FALSE)","v":{"$error":"#N/A"}},null,null,"Non_Beijing",{"$nulls":81},1,1,1,1]
[151,"唯智信息",null,"唯智信息",{"$f":"VLOOKUP($D158,[1]Sheet1!$A$1:$M$5087,2,FALSE)","v":{"$error":"#N/A"}},{"$f":"VLOOKUP($D158,[1]Sheet1!$A$1:$M$5087,9,FALSE)","v":{"$error":"#N/A"}},{"$f":"VLOOKUP($D158,[1]Sheet1!$A$1:$M$5087,12,FALSE)","v":{"$error":"#N/A"}},{"$f":"VLOOKUP($D158,[1]Sheet1!$A$1:$M$5087,13,FALSE)","v":{"$error":"#N/A"}},null,null,"Non_Beijing",{"$nulls":33},1]
[153,"武汉开目",null,"武汉开目",{"$f":"VLOOKUP($D159,[1]Sheet1!$A$1:$M$5087,2,FALSE)","v":{"$error":"#N/A"}},{"$f":"VLOOKUP($D159,[1]Sheet1!$A$1:$M$5087,9,FALSE)","v":{"$error":"#N/A"}},{"$f":"VLOOKUP($D159,[1]Sheet1!$A$1:$M$5087,12,FALSE)","v":{"$error":"#N/A"}},{"$f":"VLOOKUP($D159,[1]Sheet1!$A$1:$M$5087,13,FALSE)","v":{"$error":"#N/A"}},null,null,"Non_Beijing",{"$nulls":11},1,null,null,1]
[154,"西格数据",null,"西格数据",{"$f":"VLOOKUP($D160,[1]Sheet1!$A$1:$M$5087,2,FALSE)","v":{"$error":"#N/A"}},{"$f":"VLOOKUP($D160,[1]Sheet1!$A$1:$M$5087,9,FALSE)","v":{"$error":"#N/A"}},{"$f":"VLOOKUP($D160,[1]Sheet1!$A$1:$M$5087,12,FALSE)","v":{"$error":"#N/A"}},{"$f":"VLOOKUP($D160,[1]Sheet1!$A$1:$M$5087,13,FALSE)","v":{"$error":"#N/A"}},null,null,"Non_Beijing",{"$nulls":95},1,1,1,1,null,1,1]
[155,"小米",null,"小米",{"$f":"VLOOKUP($D161,[1]Sheet1!$A$1:$M$5087,2,FALSE)","v":{"$error":"#N/A"}},{"$f":"VLOOKUP($D161,[1]Sheet1!$A$1:$M$5087,9,FALSE)","v":{"$error":"#N/A"}},{"$f":"VLOOKUP($D161,[1]Sheet1!$A$1:$M$5087,12,FALSE)","v":{"$error":"#N/A"}},{"$f":"VLOOKUP($D161,[1]Sheet1!$A$1:$M$5087,13,FALSE)","v":{"$error":"#N/A"}},null,null,"Non_Beijing",{"$nulls":104},1,1,1]
[156,"芯禾科技",null,"芯禾科技",{"$f":"VLOOKUP($D162,[1]Sheet1!$A$1:$M$5087,2,FALSE)","v":{"$error":"#N/A"}},{"$f":"VLOOKUP($D162,[1]Sheet1!$A$1:$M$5087,9,FALSE)","v":{"$error":"#N/A"}},{"$f":"VLOOKUP($D162,[1]Sheet1!$A$1:$M$5087,12,FALSE)","v":{"$error":"#N/A"}},{"$f":"VLOOKUP($D162,[1]Sheet1!$A$1:$M$5087,13,FALSE)","v":{"$error":"#N/A"}},null,null,"Non_Beijing",{"$nulls":17},1]
[157,"新华三",null,"新华三",{"$f":"VLOOKUP($D163,[1]Sheet1!$A$1:$M$5087,2,FALSE)","v":{"$error":"#N/A"}},{"$f":"VLOOKUP($D163,[1]Sheet1!$A$1:$M$5087,9,FALSE)","v":{"$error":"#N/A"}},{"$f":"VLOOKUP($D163,[1]Sheet1!$A$1:$M$5087,12,FALSE)","v":{"$error":"#N/A"}},{"$f":"VLOOKUP($D163,[1]Sheet1!$A$1:$M$5087,13,FALSE)","v":{"$error":"#N/A"}},null,null,"Non_Beijing",{"$nulls":36},1,1]
[158,"信大捷安",null,"信大捷安",{"$f":"VLOOKUP($D164,[1]Sheet1!$A$1:$M$5087,2,FALSE)","v":{"$error":"#N/A"}},{"$f":"VLOOKUP($D164,[1]Sheet1!$A$1:$M$5087,9,FALSE)","v":{"$error":"#N/A"}},{"$f":"VLOOKUP($D164,[1]Sheet1!$A$1:$M$5087,12,FALSE)","v":{"$error":"#N/A"}},{"$f":"VLOOKUP($D164,[1]Sheet1!$A$1:$M$5087,13,FALSE)","v":{"$error":"#N/A"}},null,null,"Non_Beijing",{"$nulls":57},1]
[160,"亚信科技",null,"亚信科技",{"$f":"VLOOKUP($D165,[1]Sheet1!$A$1:$M$5087,2,FALSE)","v":{"$error":"#N/A"}},{"$f":"VLOOKUP($D165,[1]Sheet1!$A$1:$M$5087,9,FALSE)","v":{"$error":"#N/A"}},{"$f":"VLOOKUP($D165,[1]Sheet1!$A$1:$M$5087,12,FALSE)","v":{"$error":"#N/A"}},{"$f":"VLOOKUP($D165,[1]Sheet1!$A$1:$M$5087,13,FALSE)","v":{"$error":"#N/A"}},null,null,"Non_Beijing",{"$nulls":38},1]
[161,"研华科技",null,"研华科技",{"$f":"VLOOKUP($D166,[1]Sheet1!$A$1:$M$5087,2,FALSE)","v":{"$error":"#N/A"}},{"$f":"VLOOKUP($D166,[1]Sheet1!$A$1:$M$5087,9,FALSE)","v":{"$error":"#N/A"}},{"$f":"VLOOKUP($D166,[1]Sheet1!$A$1:$M$5087,12,FALSE)","v":{"$error":"#N/A"}},{"$f":"VLOOKUP($D166,[1]Sheet1!$A$1:$M$5087,13,FALSE)","v":{"$error":"#N/A"}},null,null,"Non_Beijing",{"$nulls":104},1,1,1]
[162,"壹进制",null,"壹进制",{"$f":"VLOOKUP($D167,[1]Sheet1!$A$1:$M$5087,2,FALSE)","v":{"$error":"#N/A"}},{"$f":"VLOOKUP($D167,[1]Sheet1!$A$1:$M$5087,9,FALSE)","v":{"$error":"#N/A"}},{"$f":"VLOOKUP($D167,[1]Sheet1!$A$1:$M$5087,12,FALSE)","v":{"$error":"#N/A"}},{"$f":"VLOOKUP($D167,[1]Sheet1!$A$1:$M$5087,13,FALSE)","v":{"$error":"#N/A"}},null,null,"Non_Beijing",{"$nulls":68},1,1]
[163,"优也科技",null,"优也科技",{"$f":"VLOOKUP($D168,[1]Sheet1!$A$1:$M$5087,2,FALSE)","v":{"$error":"#N/A"}},{"$f":"VLOOKUP($D168,[1]Sheet1!$A$1:$M$5087,9,FALSE)","v":{"$error":"#N/A"}},{"$f":"VLOOKUP($D168,[1]Sheet1!$A$1:$M$5087,12,FALSE)","v":{"$error":"#N/A"}},{"$f":"VLOOKUP($D168,[1]Sheet1!$A$1:$M$5087,13,FALSE)","v":{"$error":"#N/A"}},null,null,"Non_Beijing",{"$nulls":95},1,1,1,1,null,1,1]
[164,"震坤行",null,"震坤行",{"$f":"VLOOKUP($D169,[1]Sheet1!$A$1:$M$5087,2,FALSE)","v":{"$error":"#N/A"}},{"$f":"VLOOKUP($D169,[1]Sheet1!$A$1:$M$5087,9,FALSE)","v":{"$error":"#N/A"}},{"$f":"VLOOKUP($D169,[1]Sheet1!$A$1:$M$5087,12,FALSE)","v":{"$error":"#N/A"}},{"$f":"VLOOKUP($D169,[1]Sheet1!$A$1:$M$5087,13,FALSE)","v":{"$error":"#N/A"}},null,null,"Non_Beijing",{"$nulls":26},1]
[165,"智能云科",null,"智能云科",{"$f":"VLOOKUP($D170,[1]Sheet1!$A$1:$M$5087,2,FALSE)","v":{"$error":"#N/A"}},{"$f":"VLOOKUP($D170,[1]Sheet1!$A$1:$M$5087,9,FALSE)","v":{"$error":"#N/A"}},{"$f":"VLOOKUP($D170,[1]Sheet1!$A$1:$M$5087,12,FALSE)","v":{"$error":"#N/A"}},{"$f":"VLOOKUP($D170,[1]Sheet1!$A$1:$M$5087,13,FALSE)","v":{"$error":"#N/A"}},null,null,"Non_Beijing",{"$nulls":81},1,1,1,1]
[166,"中国电子科技网络信息安全",null,"中国电子科技网络信息安全",{"$f":"VLOOKUP($D171,[1]Sheet1!$A$1:$M$5087,2,FALSE)","v":{"$error":"#N/A"}},{"$f":"VLOOKUP($D171,[1]Sheet1!$A$1:$M$5087,9,FALSE)","v":{"$error":"#N/A"}},{"$f":"VLOOKUP($D171,[1]Sheet1!$A$1:$M$5087,12,FALSE)","v":{"$error":"#N/A"}},{"$f":"VLOOKUP($D171,[1]Sheet1!$A$1:$M$5087,13,FALSE)","v":{"$error":"#N/A"}},null,null,"Non_Beijing",{"$nulls":8},1]

{"sheet":"Sheet1","index":2,"n_rows":4,"n_cols":3,"rows_kept":4}
["类型","数据来源","汇率"]
["中国","https://www.qcc.com/",1]
["港股上市"]
["美股上市","https://finance.sina.com.cn/stock/usstock/\nhttps://cn.bing.com/","SEK 1.53"]